{"text_format":"1","workbook":"xlsx","n_sheets":6,"sheets":["Calculator","Worked Examples","Equations","Experiment Data","Chart Data","Calcs"],"not_rendered":{"charts":4,"images":5,"macros":1,"external_links":0,"defined_names":591,"comments":0,"pivot_tables":0},"unopened":[],"bounds":{"document_bytes":16777216,"sheet_cells":100000,"rows_first":2000,"rows_last":500,"rows_between":2000,"halvings":0,"cell_chars":16384,"cell_head_chars":4096},"cells_cut":0,"cells_raw":0,"read":"whole","date_system":"1900"}

{"sheet":"Calculator","index":0,"n_rows":44,"n_cols":12,"rows_kept":44,"cut":false,"hidden":false,"merged":[[40,9,40,11],[41,9,41,11],[42,9,42,11],[43,9,43,11],[45,9,45,11],[44,9,44,11],[35,9,35,11],[36,9,36,11],[37,9,37,11],[38,9,38,11],[39,9,39,11],[0,7,0,9],[1,7,1,9],[0,10,0,11],[1,2,1,4],[2,2,2,4],[0,2,0,5],[24,10,24,11],[3,2,3,4],[4,2,4,4],[5,2,5,4],[6,2,6,4],[7,2,7,4],[20,10,20,11],[18,10,18,11],[8,2,8,4],[16,10,16,11],[10,0,10,6],[11,0,11,6]]}
["Input desired NaCl/Si Ratio (or salinity), Cl-/Na+ Ratio (or pH), SiO2 wt% and T.",null,"User Input:",null,null,null,null,"Recipe per Liter of ",null,null,"SiO2 Sol Properties:"]
["The relationship of gelation time with each variable will be displayed below.",null,"NaCl/SiO2:",null,null,0,null,"30 wt% SiO2 sol:",null,null,"Sol Density",1.216]
["Select whether you would like the error lines to show confidence intervals of",null,"Cl-/Na+:",null,null,0.7,null,"1N HCl:",{"$f":"1000*IF($C$3='Chart Data'!$A$86,$F$3,((Equations!$B$21+Equations!$B$22*$F$4)+SQRT((-Equations!$B$21-Equations!$B$22*$F$4)^2-4*(-Equations!$B$20)*($F$3-Equations!$B$23)))/(2*(-Equations!$B$20)))*$L$2*$L$3*20/61.9789","v":153.81750886188686},"mL","wt% Na2O",0.56000000000000005]
["the best fit line or prediction intervals of new measurements.",null,"SiO2 wt%:",null,null,20,null,"2.5N NaCl:",{"$f":"IF(Calculator!$C$2='Chart Data'!$H$85,Calculator!$F$2,IF(Calculator!$C$2='Chart Data'!$H$86,Calculator!$F$2*(1/10^LOG(Calculator!$F$4)-1/100)*60.085/10,IF(Calculator!$C$2='Chart Data'!$H$87,(Calculator!$F$2/58440)*(1/10^LOG(Calculator!$F$4)-1/100)*60.085/10,Calculator!$F$2)))*1000*L2*L4*10/60.085/2.5","v":0},"mL","wt% SiO2",30]
["The best guess gel time using all four variables will be displayed",null,"Temperature (°C):",null,null,25,null,"H2O:",{"$f":"1000*L2*L4/F4-1000*L2*L4/100-(1000*L2*(1-L3/100-L4/100)+(1.091-2.5*58.44/1000)*I4+(1000*1.0175-36.46)*I3/1000)","v":463.90847110613458},"mL"]
["as well as upper and lower bounds of the confidence or prediction interval.",null,"Confidence/Prediction Interval?",null,null,"Confidence"]
["The user-modifiable cells are the ones highlighted in yellow. If experiments",null,"Certainty (Sigmas):",null,null,2,null,null,null,"Volume Ratios:"]
["have been done at or around the input conditions, they will be displayed (red).",null,"Certainty (%):",null,null,{"$f":"IF((ERF(F7/SQRT(2)))>0.9999,IF(ERF(F7/SQRT(2))>0.99999,IF(ERF(F7/SQRT(2))>0.999999,IF(ERF(F7/SQRT(2))>0.9999999,ERF(F7/SQRT(2)),ROUND(ERF(F7/SQRT(2)),7)),ROUND(ERF(F7/SQRT(2)),6)),ROUND(ERF(F7/SQRT(2)),5)),ROUND((ERF(F7/SQRT(2))),4))","v":0.95450000000000002},null,null,null,"To calculate a chemistry"]
["The overall closest experiment to the input conditions will be displayed.",null,"Gelation Time Units:",null,null,"Hr:Min:Sec",null,null,null,"based on ingredient ratios,"]
[null,null,null,null,null,null,null,null,null,"enter ingredient ratios and "]
[{"$f":"IF(K18=\"N/A\",'Chart Data'!A115,IF('Chart Data'!B3>7,'Chart Data'!A113,IF(OR('Chart Data'!D87>1,'Chart Data'!F87<0,'Chart Data'!F86<5,'Chart Data'!D87<0,'Chart Data'!F87>0.3,'Chart Data'!F86>25,'Chart Data'!D86<25,'Chart Data'!D86>250),'Chart Data'!A112,IF(AND('Chart Data'!F87=0,'Chart Data'!F86<-10*'Chart Data'!D87+19),'Chart Data'!A107,IF(AND('Chart Data'!F87=0,'Chart Data'!F86>=-10*'Chart Data'!D87+19,'Chart Data'!F86<20),'Chart Data'!A108,IF('Chart Data'!F87>0,'Chart Data'!A110,\"\"))))))","v":""},null,null,null,null,null,null,null,null,"click the Calculate button."]
[{"$f":"IF(K18=\"N/A\",'Chart Data'!A116,IF('Chart Data'!B3>7,'Chart Data'!A114,IF(OR('Chart Data'!D87>1,'Chart Data'!F87<0,'Chart Data'!F86<5,'Chart Data'!D87<0,'Chart Data'!F87>0.3,'Chart Data'!F86>25,'Chart Data'!D86<25,'Chart Data'!D86>250),\"\",IF(AND('Chart Data'!F87=0,'Chart Data'!F86<-10*'Chart Data'!D87+19),\"\",IF(AND('Chart Data'!F87=0,'Chart Data'!F86>=-10*'Chart Data'!D87+19,'Chart Data'!F86<20),'Chart Data'!A109,IF('Chart Data'!F87>0,'Chart Data'!A111,\"\"))))))","v":""},null,null,null,null,null,null,null,null,6,"SiO2 Sol"]
[null,null,null,null,null,null,null,null,null,1,"1N HCl"]
[null,null,null,null,null,null,null,null,null,0,"2.5N NaCl"]
[null,null,null,null,null,null,null,null,null,5,"H2O"]
[]
[null,null,null,null,null,null,null,null,null,null,"Gelation Time:"]
[null,null,null,null,null,null,null,null,null,null,{"$f":"IF(Calculator!$F$9='Chart Data'!$Q$88,'Chart Data'!$R$88,IF(Calculator!$F$9='Chart Data'!$Q$89,'Chart Data'!$R$89,IF(Calculator!$F$9='Chart Data'!$Q$90,'Chart Data'!$R$90,IF(Calculator!$F$9='Chart Data'!$Q$91,'Chart Data'!$R$91,IF(Calculator!$F$9='Chart Data'!$Q$92,'Chart Data'!$R$92,0)))))","v":"35:3:28"},{"$f":"F9","v":"Hr:Min:Sec"}]
[null,null,null,null,null,null,null,null,null,null,"Upper Bound:"]
[null,null,null,null,null,null,null,null,null,null,{"$f":"IF(Calculator!$F$9='Chart Data'!$Q$88,'Chart Data'!$S$88,IF(Calculator!$F$9='Chart Data'!$Q$89,'Chart Data'!$S$89,IF(Calculator!$F$9='Chart Data'!$Q$90,'Chart Data'!$S$90,IF(Calculator!$F$9='Chart Data'!$Q$91,'Chart Data'!$S$91,IF(Calculator!$F$9='Chart Data'!$Q$92,'Chart Data'!$S$92,0)))))","v":"38:41:51"},{"$f":"F9","v":"Hr:Min:Sec"}]
[null,null,null,null,null,null,null,null,null,null,"Lower Bound:"]
[null,null,null,null,null,null,null,null,null,null,{"$f":"IF(Calculator!$F$9='Chart Data'!$Q$88,'Chart Data'!$T$88,IF(Calculator!$F$9='Chart Data'!$Q$89,'Chart Data'!$T$89,IF(Calculator!$F$9='Chart Data'!$Q$90,'Chart Data'!$T$90,IF(Calculator!$F$9='Chart Data'!$Q$91,'Chart Data'!$T$91,IF(Calculator!$F$9='Chart Data'!$Q$92,'Chart Data'!$T$92,0)))))","v":"31:45:37"},{"$f":"F9","v":"Hr:Min:Sec"}]
[]
[]
[null,null,null,null,null,null,null,null,null,null,"Closest Experiment:"]
[null,null,null,null,null,null,null,null,null,null,"SiO2:",{"$f":"Calcs!B161 & \" wt%\"","v":"20 wt%"}]
[null,null,null,null,null,null,null,null,null,null,"Cl-/Na+:",{"$f":"Calcs!B162","v":0.7}]
[null,null,null,null,null,null,null,null,null,null,"NaCl/SiO2:",{"$f":"Calcs!B163","v":0}]
[null,null,null,null,null,null,null,null,null,null,"pH:",{"$f":"Calcs!B165","v":7.77}]
[null,null,null,null,null,null,null,null,null,null,"T:",{"$f":"IF(Calculator!C5='Chart Data'!B83,Calcs!B164*9/5+32 & \" °F\",IF(Calculator!C5='Chart Data'!B85,Calcs!B164+273.15 & \" K\",Calcs!B164 & \" °C\"))","v":"25 °C"}]
[]
[]
[]
[]
[]
[null,null,null,null,null,null,null,null,null,"Please Note:"]
[null,null,null,null,null,null,null,null,null,"The input salinity should NOT"]
[null,null,null,null,null,null,null,null,null,"include the Na+ stabilizer, nor"]
[null,null,null,null,null,null,null,null,null,"the Cl- from added HCl.  It is"]
[null,null,null,null,null,null,null,null,null,"only a measure of the added"]
[null,null,null,null,null,null,null,null,null,"NaCl.  Likewise, the acidity"]
[null,null,null,null,null,null,null,null,null,"(represented by the Cl-/Na+ "]
[null,null,null,null,null,null,null,null,null,"ratio) does NOT include the "]
[null,null,null,null,null,null,null,null,null,"added NaCl."]

{"sheet":"Worked Examples","index":1,"n_rows":35,"n_cols":2,"rows_kept":35,"cut":false,"hidden":false,"merged":[]}
["Example 1:"]
[null,"We have prepared a colloidal silica solution with 10 wt% SiO2, 0.1 molal NaCl, and a pH of 8."]
[null,"We are injecting this into an oil well in order to seal the well bore against leakage."]
[null,"The temperature at the bottom of the well is 110 °C.  What is the time before"]
[null,"gelation, assuming the solution is instantly heated to 110 °C?"]
[]
["Answer 1: "]
[null,"Input 0.1, 8, 10, and 110 into cells F2-F5 on the Calculator tab, respectively."]
[null,"Make sure that cell C2 is set to \"NaCl (m):\", C3 is set to \"pH:\", and C5 is "]
[null,"set to \"Temperature (°C):\" via the drop-down menus in those cells."]
[]
[null,"The best-guess gelation time is displayed as 17 minutes, 50 seconds."]
[null,"The 2-sigma prediction interval, however, is between 11 minutes, 4 seconds"]
[null,"and 28 minutes, 45 seconds."]
[]
[]
[]
["Example 2:"]
[null,"How is the gelation time of the above example affected if exsolved CO2 bubbles through"]
[null,"the gel solution and reduces the pH of the solution to 7?"]
[]
["Answer 2:"]
[null,"If the pH is lowered to 7, the best-guess gel time is lowered to 49 seconds."]
[]
[]
[]
["Example 3:"]
[null,"The 49-second gel time is too short for our operational procedures.  How can we modify"]
[null,"the chemistry to obtain a longer gel time?"]
[]
["Answer 3:"]
[null,"Since it has been determined that the pH is fixed via subsurface addition of CO2,"]
[null,"and the temperature of the wellbore is fixed, we can vary the gel time by lowering"]
[null,"the added salt content.  If, instead of adding 0.1 molal salt, no salt is added,"]
[null,"the best-guess gelation time rises to 10 minutes, 41 seconds."]

{"sheet":"Equations","index":2,"n_rows":38,"n_cols":8,"rows_kept":38,"cut":false,"hidden":false,"merged":[]}
["25 °C Model"]
["Parameters:",null,"Error (+/-):"]
["Q",6.6887141444248677E-2,"N/A",null,"25 °C Model Equation:"]
["B",17.091592398191999,0.3621687682251849]
["X1",-16.530883300695933,1.958256626992285]
["X2",27.280081531171437,3.0377337281925456]
["X3",4.5376664019229898,1.836009655669377]
["X4",5.6435843789555724,0.22425121199455578]
["X5",-11.3732806496535,0.21985385313803535]
["X6",-0.3846845788895833,1.569740037881397E-2]
["X7",0.47910533177898618,1.0983085112474459E-2]
["X8",-18.160771746008667,1.760855234211028]
["X9",-7.3373106870169078,0.37698264488229705]
[]
["25 °C Model",null,"R2:",0.99608464639491889,"Fstat:",2261.3757629048878,"SSreg:",35.770028081873804]
["Statistics:",null,"Std Err:",4.1922967773519469E-2,"dF:",80,"SSresid:",0.14060281815516418]
[]
["pH Calibration"]
["Parameters:",null,"Error (+/-):",null,"pH Calibration Equation:"]
["X1",-1.4285714285714306,0.10661395429522187]
["X2",-1.7679761904761884,0.10380498744010112]
["X3",-3.9499999999999993E-2,3.5679853531817231E-3]
["B",10.261714285714286,1.5017058945386059E-2]
[]
["pH Calibration",null,"R2:",0.99943862861276345,"Fstat:",6527.9570498834319,"SSreg:",14.958771190476185]
["Statistics:",null,"Std Err:",2.7637495704769602E-2,"dF:",11,"SSresid:",8.4021428571427401E-3]
[]
["EA Model",null,null,null,"Activation Energy Model Equation:"]
["Parameters:",null,"Error (+/-):"]
["X1",16.180829517233047,1.8179553961151476]
["X2",-9.3263661570718828,1.0105307173456974]
["X3",38.504335590828802,4.186959599563048]
["B",-24.406845766778424,5.2956407285948446]
[]
["EA Model",null,"R2:",0.96077859532140697,"Fstat:",187.80482981574013,"SSreg:",111.43414813909774]
["Statistics:",null,"Std Err:",0.44472868557131051,"dF:",23,"SSresid:",4.5490228867096674]
[]
[null,null,null,null,"Gelation Time Calculation Equations:"]

{"sheet":"Experiment Data","index":3,"n_rows":118,"n_cols":30,"rows_kept":118,"cut":false,"hidden":false,"merged":[]}
["Exp. #",null,"Cl-/Na+","NaCl/SiO2","SiO2 wt%","log[SiO2]","GT(s)","Log(GT(s)","T(eff) °C",null,"Cl-/Na+","NaCl/SiO2","SiO2 wt%","GT(s)","Log(GT(s)","T(eff) °C",null,"Cl-/Na+","NaCl/SiO2","SiO2 wt%","GT(s)","Log(GT(s)","T(eff) °C",null,"Cl-/Na+","NaCl/SiO2","SiO2 wt%","GT(s)","Log(GT(s)","T(eff) °C"]
[1,null,0.5,0,25,{"$f":"LOG(E2)","v":1.3979400086720377},168043,{"$f":"LOG(G2)","v":5.2254204262092996},25,null,0.7,0,20,144418,{"$f":"LOG(N2)","v":5.1596213262910089},25,null,0.5,0.16220000000000001,10,31147,{"$f":"LOG(U2)","v":4.4934162228671335},25,null,0,0,18,76199,{"$f":"LOG(AB2)","v":4.8819492718995532},144.27145319858039]
[{"$f":"A2+1","v":2},null,0.5,5.3499999999999999E-2,15,{"$f":"LOG(E3)","v":1.1760912590556813},66290,4.82144801901753,25,null,0.91017999999999999,0,22.723500000000001,3446,3.5373152731120099,25,null,0.5,0.16220000000000001,14,1960,3.2922560713564759,25,null,0,0,18.5,63004,4.7993681228310647,143.61011100183015]
[{"$f":"A3+1","v":3},null,0.5,5.3499999999999999E-2,19,1.2787536009528289,7200,3.8573324964312685,25,null,1,0,24,2039,3.30941722577814,25,null,0.5,5.3499999999999999E-2,15,66290,4.82144801901753,25,null,0,0,19,44106,4.6444976731332455,143.91186740984011]
[4,null,0.5,5.3499999999999999E-2,21,1.3222192947339193,2954,3.4704104909759308,25,null,0.5,0,25,168043,5.2254204262092996,25,null,0.5,0.11,15,4523,3.6554265877459184,25,null,0.1,0,17,75623,4.8786539020347472,143.2816026500152]
[5,null,0.5,5.3499999999999999E-2,22,1.3424226808222062,1809,3.2574385668598138,25,null,0.7,0,25,17391,4.2403245550904343,25,null,0.5,0.16220000000000001,15,1201,3.079543007402906,25,null,0.1,0,17.5,52201,4.7176788227402326,141.7148546152215]
[6,null,0.5,5.3499999999999999E-2,23,1.3617278360175928,1199,3.0788191830988487,25,null,1,0,25,1711,3.2332500095411003,25,null,0.5,0.11,16,2632,3.4202858849419178,25,null,0.1,0,18,38389,4.5842067992719153,142.88852793762987]
[7,null,0.5,5.3499999999999999E-2,24,1.3802112417116059,753,2.8767949762007006,25,null,0.7,0.01,20,40536,4.6078408912826143,25,null,0.5,0.16220000000000001,16,832,2.920123326290724,25,null,0.1,0,19,8814,3.9451730461739003,140.64089805433491]
[8,null,0.5,5.3499999999999999E-2,25,1.3979400086720377,559,2.7474118078864231,25,null,0.7,0.01,25,5272,3.7219754015859534,25,null,0.5,0.11,17,1634,3.2132520521963968,25,null,0.2,0,16,75616,4.8786136999522753,143.88983583558473]
[9,null,0.5,0.11,15,1.1760912590556813,4523,3.6554265877459184,25,null,0.7,2.5000000000000001E-2,20,10317,4.013553430541676,25,null,0.5,0.16220000000000001,17,486,2.6866362692622934,25,null,0.2,0,16.5,46804,4.6702829706744122,145.28421967246527]
[10,null,0.5,0.11,16,1.2041199826559248,2632,3.4202858849419178,25,null,0.7,2.5000000000000001E-2,24,2123,3.3269499941659988,25,null,0.5,0.11,18,983,2.9925535178321354,25,null,0.2,0,17,30302,4.4814712938587,142.24120269929068]
[11,null,0.5,0.11,17,1.2304489213782739,1634,3.2132520521963968,25,null,0.7,2.5000000000000001E-2,25,1430,3.1553360374650619,25,null,0.5,0.16220000000000001,18,331,2.5198279937757189,25,null,0.2,0,17.5,15516.999999999998,4.1908077601319018,143.48096266959783]
[12,null,0.5,0.11,18,1.255272505103306,983,2.9925535178321354,25,null,0.7,5.3499999999999999E-2,14,29033,4.4628919140999983,25,null,0.5,5.3499999999999999E-2,19,7200,3.8573324964312685,25,null,0.2,0,18,10935,4.0388187873736561,141.52159348549048]
[13,null,0.5,0.11,19,1.2787536009528289,675,2.8293037728310249,25,null,0.5,5.3499999999999999E-2,15,66290,4.82144801901753,25,null,0.5,0.11,19,675,2.8293037728310249,25,null,0.2,0,18.5,7203.0000000000009,3.8575134147766899,140.00492397566705]
[14,null,0.5,0.11,20,1.3010299956639813,440,2.6434526764861874,25,null,0.8,5.3499999999999999E-2,15,10943,4.0391363992220954,25,null,0.5,0.16220000000000001,19,219,2.3404441148401185,25,null,0.2,0,19,4380,3.6414741105040997,139.81928912144372]
[15,null,0.5,0.11,21,1.3222192947339193,323,2.509202522331103,25,null,0.9,5.3499999999999999E-2,15,7273,3.8617135875714341,25,null,0.5,0.11,20,440,2.6434526764861874,25,null,0.3,0,16,21600,4.3344537511509307,141.7923232137091]
[16,null,0.5,0.11,22,1.3424226808222062,214,2.330413773349191,25,null,1,5.3499999999999999E-2,15,6125,3.7871060930365701,25,null,0.5,0.16220000000000001,20,146,2.1643528557844371,25,null,0.3,0,17,60853,4.7842819934342788,104.6062849590262]
[17,null,0.5,0.16220000000000001,10,1,31147,4.4934162228671335,25,null,0.7,5.3499999999999999E-2,16,10803,4.0335443760909477,25,null,0.5,5.3499999999999999E-2,21,2954,3.4704104909759308,25,null,0.3,0,17,5825,3.7652959296980564,141.86867791202383]
[18,null,0.5,0.16220000000000001,14,1.146128035678238,1960,3.2922560713564759,25,null,1,5.3499999999999999E-2,17,3190,3.503790683057181,25,null,0.5,0.11,21,323,2.509202522331103,25,null,0.4,0,14.5,23400,4.3692158574101425,143.42580148264091]
[19,null,0.5,0.16220000000000001,15,1.1760912590556813,1201,3.079543007402906,25,null,0.7,5.3499999999999999E-2,18,4266,3.63002085111341,25,null,0.5,5.3499999999999999E-2,22,1809,3.2574385668598138,25,null,0.4,0,15,13654,4.1352598985156588,143.83705899656405]
[20,null,0.5,0.16220000000000001,16,1.2041199826559248,832,2.920123326290724,25,null,0.5,5.3499999999999999E-2,19,7200,3.8573324964312685,25,null,0.5,0.11,22,214,2.330413773349191,25,null,0.4,0,15.5,7130,3.8530895298518657,142.03164825340411]
[21,null,0.5,0.16220000000000001,17,1.2304489213782739,486,2.6866362692622934,25,null,0.8,5.3499999999999999E-2,19,2268,3.355643050220869,25,null,0.5,5.3499999999999999E-2,23,1199,3.0788191830988487,25,null,0.5,0,14,8580,3.9334872878487053,142.00973949631918]
[22,null,0.5,0.16220000000000001,18,1.255272505103306,331,2.5198279937757189,25,null,0.9,5.3499999999999999E-2,19,1854,3.2681097298084785,25,null,0.5,5.3499999999999999E-2,24,753,2.8767949762007006,25,null,0.5,0,15,2619,3.4181354984252321,135.60184494086576]
[23,null,0.5,0.16220000000000001,19,1.2787536009528289,219,2.3404441148401185,25,null,1,5.3499999999999999E-2,19,1970,3.2944662261615929,25,null,0.5,0,25,168043,5.2254204262092996,25,null,0.5,0,25,168043,5.2254204262092996,25]
[24,null,0.5,0.16220000000000001,20,1.3010299956639813,146,2.1643528557844371,25,null,0.7,5.3499999999999999E-2,20,1876,3.2732328340430454,25,null,0.5,5.3499999999999999E-2,25,559,2.7474118078864231,25,null,0.5,5.3499999999999999E-2,15,66290,4.82144801901753,25]
[25,null,0.7,0,20,1.3010299956639813,144418,5.1596213262910089,25,null,0.8,5.3499999999999999E-2,20,1534,3.185825359612962,25,null,0.7,5.3499999999999999E-2,14,29033,4.4628919140999983,25,null,0.5,5.3499999999999999E-2,19,7200,3.8573324964312685,25]
[26,null,0.7,0,25,1.3979400086720377,17391,4.2403245550904343,25,null,0.5,5.3499999999999999E-2,21,2954,3.4704104909759308,25,null,0.7,0.16220000000000001,15,1268,3.1031192535457137,25,null,0.5,5.3499999999999999E-2,21,2954,3.4704104909759308,25]
[27,null,0.7,0.01,20,1.3010299956639813,40536,4.6078408912826143,25,null,0.7,5.3499999999999999E-2,21,1313,3.1182647260894791,25,null,0.7,5.3499999999999999E-2,16,10803,4.0335443760909477,25,null,0.5,5.3499999999999999E-2,22,1809,3.2574385668598138,25]
[28,null,0.7,0.01,25,1.3979400086720377,5272,3.7219754015859534,25,null,0.8,5.3499999999999999E-2,21,1075,3.0314084642516241,25,null,0.7,0.11,16,2070,3.3159703454569178,25,null,0.5,5.3499999999999999E-2,23,1199,3.0788191830988487,25]
[29,null,0.7,2.5000000000000001E-2,20,1.3010299956639813,10317,4.013553430541676,25,null,0.9,5.3499999999999999E-2,21,996,2.9982593384236988,25,null,0.7,0.16220000000000001,16,892,2.9503648543761232,25,null,0.5,5.3499999999999999E-2,24,753,2.8767949762007006,25]
[30,null,0.7,2.5000000000000001E-2,24,1.3802112417116059,2123,3.3269499941659988,25,null,1,5.3499999999999999E-2,21,1317,3.1195857749617839,25,null,0.7,0.16220000000000001,17,535,2.7283537820212285,25,null,0.5,5.3499999999999999E-2,25,559,2.7474118078864231,25]
[31,null,0.7,2.5000000000000001E-2,25,1.3979400086720377,1430,3.1553360374650619,25,null,0.5,5.3499999999999999E-2,22,1809,3.2574385668598138,25,null,0.7,0.16220000000000001,17,654,2.8155777483242672,25,null,0.5,0.11,15,4523,{"$f":"LOG(AB32)","v":3.6554265877459184},25]
[32,null,0.7,5.3499999999999999E-2,14,1.146128035678238,29033,4.4628919140999983,25,null,0.7,5.3499999999999999E-2,22,959,{"$f":"LOG(N33)","v":2.9818186071706636},25,null,0.7,5.3499999999999999E-2,18,4266,3.63002085111341,25,null,0.5,0.11,16,2632,3.4202858849419178,25]
[33,null,0.7,5.3499999999999999E-2,16,1.2041199826559248,10803,{"$f":"LOG(G34)","v":4.0335443760909477},25,null,0.8,5.3499999999999999E-2,22,800,2.9030899869919438,25,null,0.7,0.11,18,990,{"$f":"LOG(U34)","v":2.9956351945975501},25,null,0.5,0.11,17,1634,3.2132520521963968,25]
[34,null,0.7,5.3499999999999999E-2,18,1.255272505103306,4266,3.63002085111341,25,null,1,5.3499999999999999E-2,22,1019,3.0081741840064264,25,null,0.7,0.16220000000000001,18,370,2.568201724066995,25,null,0.5,0.11,18,983,2.9925535178321354,25]
[35,null,0.7,5.3499999999999999E-2,20,1.3010299956639813,1876,3.2732328340430454,25,null,0.5,5.3499999999999999E-2,23,1199,3.0788191830988487,25,null,0.7,0.16220000000000001,18,485,2.6857417386022635,25,null,0.5,0.11,19,675,2.8293037728310249,25]
[36,null,0.7,5.3499999999999999E-2,21,1.3222192947339193,1313,3.1182647260894791,25,null,0.7,5.3499999999999999E-2,23,622,2.7937903846908188,25,null,0.7,0.11,19,627,2.7972675408307164,25,null,0.5,0.11,20,440,2.6434526764861874,25]
[37,null,0.7,5.3499999999999999E-2,22,1.3424226808222062,959,2.9818186071706636,25,null,0.8,5.3499999999999999E-2,23,615,2.7888751157754168,25,null,0.7,0.16220000000000001,19,273,2.436162647040756,25,null,0.5,0.11,21,323,2.509202522331103,25]
[38,null,0.7,5.3499999999999999E-2,23,1.3617278360175928,622,2.7937903846908188,25,null,0.9,5.3499999999999999E-2,23,561,2.7489628612561616,25,null,0.7,0.16220000000000001,19,380,2.5797835966168101,25,null,0.5,0.11,22,214,2.330413773349191,25]
[39,null,0.7,5.3499999999999999E-2,24,1.3802112417116059,453,2.6560982020128319,25,null,1,5.3499999999999999E-2,23,738,2.8680563618230415,25,null,0.7,0,20,144418,5.1596213262910089,25,null,0.5,0.16220000000000001,10,31147,4.4934162228671335,25]
[40,null,0.7,7.4999999999999997E-2,20,1.3010299956639813,916,2.9618954736678504,25,null,0.5,5.3499999999999999E-2,24,753,2.8767949762007006,25,null,0.7,0.01,20,40536,4.6078408912826143,25,null,0.5,0.16220000000000001,14,1960,3.2922560713564759,25]
[41,null,0.7,0.11,16,1.2041199826559248,2070,3.3159703454569178,25,null,0.7,5.3499999999999999E-2,24,453,2.6560982020128319,25,null,0.7,2.5000000000000001E-2,20,10317,4.013553430541676,25,null,0.5,0.16220000000000001,15,1201,3.079543007402906,25]
[42,null,0.7,0.11,18,1.255272505103306,990,2.9956351945975501,25,null,1,5.3499999999999999E-2,24,654,2.8155777483242672,25,null,0.7,5.3499999999999999E-2,20,1876,3.2732328340430454,25,null,0.5,0.16220000000000001,16,832,2.920123326290724,25]
[43,null,0.7,0.11,19,1.2787536009528289,627,2.7972675408307164,25,null,0.5,5.3499999999999999E-2,25,559,2.7474118078864231,25,null,0.7,7.4999999999999997E-2,20,916,2.9618954736678504,25,null,0.5,0.16220000000000001,17,486,2.6866362692622934,25]
[44,null,0.7,0.11,20,1.3010299956639813,460,2.6627578316815739,25,null,0.9,5.3499999999999999E-2,25,350,2.5440680443502757,25,null,0.7,0.11,20,460,2.6627578316815739,25,null,0.5,0.16220000000000001,18,331,2.5198279937757189,25]
[45,null,0.7,0.11,21,1.3222192947339193,338,2.5289167002776547,25,null,1,5.3499999999999999E-2,25,476,2.6776069527204931,25,null,0.7,0.12,20,337,2.5276299008713385,25,null,0.5,0.16220000000000001,19,219,2.3404441148401185,25]
[46,null,0.7,0.11,22,1.3424226808222062,261,2.4166405073382808,25,null,0.7,7.4999999999999997E-2,20,916,2.9618954736678504,25,null,0.7,0.13,20,274,2.4377505628203879,25,null,0.5,0.16220000000000001,20,146,2.1643528557844371,25]
[47,null,0.7,0.12,20,1.3010299956639813,337,2.5276299008713385,25,null,0.5,0.11,15,4523,3.6554265877459184,25,null,0.7,0.14000000000000001,20,244,2.3873898263387292,25,null,0.55000000000000004,0,14,4618,3.6644539285811577,137.3845577454565]
[48,null,0.7,0.13,20,1.3010299956639813,274,2.4377505628203879,25,null,0.5,0.11,16,2632,3.4202858849419178,25,null,0.7,0.16220000000000001,20,211,2.3242824552976926,25,null,0.6,0,13,6600,3.8195439355418688,139.24733942004826]
[49,null,0.7,0.14000000000000001,20,1.3010299956639813,244,2.3873898263387292,25,null,0.7,0.11,16,2070,3.3159703454569178,25,null,0.7,0.16220000000000001,20,222,2.3463529744506388,25,null,0.6,0,15,1569,3.1956229435869368,124.29841128809142]
[50,null,0.7,0.16220000000000001,15,1.1760912590556813,1268,3.1031192535457137,25,null,0.9,0.11,16,2208,3.3439990690571615,25,null,0.7,0.2,20,193,2.2855573090077739,25,null,0.7,0,12,3300,3.5185139398778875,135.05170728998138]
[51,null,0.7,0.16220000000000001,16,1.2041199826559248,892,2.9503648543761232,25,null,1,0.11,16,2565,3.409087369447835,25,null,0.7,5.3499999999999999E-2,21,1313,3.1182647260894791,25,null,0.7,0,20,144418,5.1596213262910089,25]
[52,null,0.7,0.16220000000000001,17,1.2304489213782739,535,2.7283537820212285,25,null,0.5,0.11,17,1634,3.2132520521963968,25,null,0.7,0.11,21,338,2.5289167002776547,25,null,0.7,0,25,17391,4.2403245550904343,25]
[53,null,0.7,0.16220000000000001,17,1.2304489213782739,654,2.8155777483242672,25,null,0.5,0.11,18,983,2.9925535178321354,25,null,0.7,5.3499999999999999E-2,22,959,2.9818186071706636,25,null,0.7,0.01,20,40536,4.6078408912826143,25]
[54,null,0.7,0.16220000000000001,18,1.255272505103306,370,2.568201724066995,25,null,0.7,0.11,18,990,2.9956351945975501,25,null,0.7,0.11,22,261,2.4166405073382808,25,null,0.7,0.01,25,5272,3.7219754015859534,25]
[55,null,0.7,0.16220000000000001,18,1.255272505103306,485,2.6857417386022635,25,null,0.5,0.11,19,675,2.8293037728310249,25,null,0.7,5.3499999999999999E-2,23,622,2.7937903846908188,25,null,0.7,2.5000000000000001E-2,20,10317,4.013553430541676,25]
[56,null,0.7,0.16220000000000001,19,1.2787536009528289,273,2.436162647040756,25,null,0.7,0.11,19,627,2.7972675408307164,25,null,0.7,2.5000000000000001E-2,24,2123,3.3269499941659988,25,null,0.7,2.5000000000000001E-2,24,2123,3.3269499941659988,25]
[57,null,0.7,0.16220000000000001,19,1.2787536009528289,380,2.5797835966168101,25,null,0.5,0.11,20,440,2.6434526764861874,25,null,0.7,5.3499999999999999E-2,24,453,2.6560982020128319,25,null,0.7,2.5000000000000001E-2,25,1430,3.1553360374650619,25]
[58,null,0.7,0.16220000000000001,20,1.3010299956639813,211,2.3242824552976926,25,null,0.7,0.11,20,460,2.6627578316815739,25,null,0.7,0,25,17391,4.2403245550904343,25,null,0.7,5.3499999999999999E-2,14,29033,4.4628919140999983,25]
[59,null,0.7,0.16220000000000001,20,1.3010299956639813,222,2.3463529744506388,25,null,0.5,0.11,21,323,2.509202522331103,25,null,0.7,0.01,25,5272,3.7219754015859534,25,null,0.7,5.3499999999999999E-2,16,10803,4.0335443760909477,25]
[60,null,0.7,0.2,20,1.3010299956639813,193,2.2855573090077739,25,null,0.7,0.11,21,338,2.5289167002776547,25,null,0.7,2.5000000000000001E-2,25,1430,3.1553360374650619,25,null,0.7,5.3499999999999999E-2,18,4266,3.63002085111341,25]
[61,null,0.8,5.3499999999999999E-2,15,1.1760912590556813,10943,4.0391363992220954,25,null,0.9,0.11,21,514,2.7109631189952759,25,null,0.8,5.3499999999999999E-2,15,10943,4.0391363992220954,25,null,0.7,5.3499999999999999E-2,20,1876,3.2732328340430454,25]
[62,null,0.8,5.3499999999999999E-2,19,1.2787536009528289,2268,3.355643050220869,25,null,1,0.11,21,848,2.9283958522567137,25,null,0.8,5.3499999999999999E-2,19,2268,3.355643050220869,25,null,0.7,5.3499999999999999E-2,21,1313,3.1182647260894791,25]
[63,null,0.8,5.3499999999999999E-2,20,1.3010299956639813,1534,3.185825359612962,25,null,0.5,0.11,22,214,{"$f":"LOG(N64)","v":2.330413773349191},25,null,0.8,5.3499999999999999E-2,20,1534,3.185825359612962,25,null,0.7,5.3499999999999999E-2,22,959,{"$f":"LOG(AB64)","v":2.9818186071706636},25]
[64,null,0.8,5.3499999999999999E-2,21,1.3222192947339193,1075,3.0314084642516241,25,null,0.7,0.11,22,261,2.4166405073382808,25,null,0.8,5.3499999999999999E-2,21,1075,3.0314084642516241,25,null,0.7,5.3499999999999999E-2,23,622,2.7937903846908188,25]
[65,null,0.8,5.3499999999999999E-2,22,1.3424226808222062,800,{"$f":"LOG(G66)","v":2.9030899869919438},25,null,0.7,0.12,20,337,2.5276299008713385,25,null,0.8,5.3499999999999999E-2,22,800,{"$f":"LOG(U66)","v":2.9030899869919438},25,null,0.7,5.3499999999999999E-2,24,453,2.6560982020128319,25]
[66,null,0.8,5.3499999999999999E-2,23,{"$f":"LOG(E67)","v":1.3617278360175928},615,2.7888751157754168,25,null,0.7,0.13,20,274,2.4377505628203879,25,null,0.8,5.3499999999999999E-2,23,615,2.7888751157754168,25,null,0.7,7.4999999999999997E-2,20,916,2.9618954736678504,25]
[{"$f":"A67+1","v":67},null,0.9,5.3499999999999999E-2,15,1.1760912590556813,7273,3.8617135875714341,25,null,0.7,0.14000000000000001,20,244,2.3873898263387292,25,null,0.9,5.3499999999999999E-2,15,7273,3.8617135875714341,25,null,0.7,0.11,16,2070,3.3159703454569178,25]
[68,null,0.9,5.3499999999999999E-2,19,1.2787536009528289,1854,3.2681097298084785,25,null,0.5,0.16220000000000001,10,31147,4.4934162228671335,25,null,0.9,0.11,16,2208,3.3439990690571615,25,null,0.7,0.11,18,990,2.9956351945975501,25]
[69,null,0.9,5.3499999999999999E-2,21,1.3222192947339193,996,2.9982593384236988,25,null,0.5,0.16220000000000001,14,1960,3.2922560713564759,25,null,0.9,5.3499999999999999E-2,19,1854,3.2681097298084785,25,null,0.7,0.11,19,627,2.7972675408307164,25]
[70,null,0.9,5.3499999999999999E-2,23,1.3617278360175928,561,2.7489628612561616,25,null,0.5,0.16220000000000001,15,1201,3.079543007402906,25,null,0.9,5.3499999999999999E-2,21,996,2.9982593384236988,25,null,0.7,0.11,20,460,2.6627578316815739,25]
[71,null,0.9,5.3499999999999999E-2,25,1.3979400086720377,350,2.5440680443502757,25,null,0.7,0.16220000000000001,15,1268,3.1031192535457137,25,null,0.9,0.11,21,514,2.7109631189952759,25,null,0.7,0.11,21,338,2.5289167002776547,25]
[72,null,0.9,0.11,16,1.2041199826559248,2208,3.3439990690571615,25,null,1,0.16220000000000001,15,3002,3.4774106879072515,25,null,0.9,5.3499999999999999E-2,23,561,2.7489628612561616,25,null,0.7,0.11,22,261,2.4166405073382808,25]
[73,null,0.9,0.11,21,1.3222192947339193,514,2.7109631189952759,25,null,0.5,0.16220000000000001,16,832,2.920123326290724,25,null,0.9,5.3499999999999999E-2,25,350,2.5440680443502757,25,null,0.7,0.12,20,337,2.5276299008713385,25]
[74,null,0.91017999999999999,0,22.723500000000001,1.356475224645445,3446,3.5373152731120099,25,null,0.7,0.16220000000000001,16,892,2.9503648543761232,25,null,0.91017999999999999,0,22.723500000000001,3446,3.5373152731120099,25,null,0.7,0.13,20,274,2.4377505628203879,25]
[75,null,1,0,24,1.3802112417116059,2039,3.30941722577814,25,null,0.5,0.16220000000000001,17,486,2.6866362692622934,25,null,1,5.3499999999999999E-2,15,6125,3.7871060930365701,25,null,0.7,0.14000000000000001,20,244,2.3873898263387292,25]
[76,null,1,0,25,1.3979400086720377,1711,3.2332500095411003,25,null,0.7,0.16220000000000001,17,535,2.7283537820212285,25,null,1,0.16220000000000001,15,3002,3.4774106879072515,25,null,0.7,0.16220000000000001,15,1268,3.1031192535457137,25]
[77,null,1,5.3499999999999999E-2,15,1.1760912590556813,6125,3.7871060930365701,25,null,0.7,0.16220000000000001,17,654,2.8155777483242672,25,null,1,0.11,16,2565,3.409087369447835,25,null,0.7,0.16220000000000001,16,892,2.9503648543761232,25]
[78,null,1,5.3499999999999999E-2,17,1.2304489213782739,3190,3.503790683057181,25,null,1,0.16220000000000001,17,1759,3.2452658394574612,25,null,1,5.3499999999999999E-2,17,3190,3.503790683057181,25,null,0.7,0.16220000000000001,17,535,2.7283537820212285,25]
[79,null,1,5.3499999999999999E-2,19,1.2787536009528289,1970,3.2944662261615929,25,null,0.5,0.16220000000000001,18,331,2.5198279937757189,25,null,1,0.16220000000000001,17,1759,3.2452658394574612,25,null,0.7,0.16220000000000001,17,654,2.8155777483242672,25]
[80,null,1,5.3499999999999999E-2,21,1.3222192947339193,1317,3.1195857749617839,25,null,0.7,0.16220000000000001,18,370,2.568201724066995,25,null,1,0.16220000000000001,18,1324,3.1218879851036809,25,null,0.7,0.16220000000000001,18,370,2.568201724066995,25]
[81,null,1,5.3499999999999999E-2,22,1.3424226808222062,1019,3.0081741840064264,25,null,0.7,0.16220000000000001,18,485,2.6857417386022635,25,null,1,5.3499999999999999E-2,19,1970,3.2944662261615929,25,null,0.7,0.16220000000000001,18,485,2.6857417386022635,25]
[82,null,1,5.3499999999999999E-2,23,1.3617278360175928,738,2.8680563618230415,25,null,1,0.16220000000000001,18,1324,3.1218879851036809,25,null,1,0.16220000000000001,20,851,2.929929560084588,25,null,0.7,0.16220000000000001,19,273,2.436162647040756,25]
[83,null,1,5.3499999999999999E-2,24,1.3802112417116059,654,2.8155777483242672,25,null,0.5,0.16220000000000001,19,219,2.3404441148401185,25,null,1,5.3499999999999999E-2,21,1317,3.1195857749617839,25,null,0.7,0.16220000000000001,19,380,2.5797835966168101,25]
[84,null,1,5.3499999999999999E-2,25,1.3979400086720377,476,2.6776069527204931,25,null,0.7,0.16220000000000001,19,273,2.436162647040756,25,null,1,0.11,21,848,2.9283958522567137,25,null,0.7,0.16220000000000001,20,211,2.3242824552976926,25]
[85,null,1,0.11,16,1.2041199826559248,2565,3.409087369447835,25,null,0.7,0.16220000000000001,19,380,2.5797835966168101,25,null,1,5.3499999999999999E-2,22,1019,3.0081741840064264,25,null,0.7,0.16220000000000001,20,222,2.3463529744506388,25]
[86,null,1,0.11,21,1.3222192947339193,848,2.9283958522567137,25,null,0.5,0.16220000000000001,20,146,2.1643528557844371,25,null,1,5.3499999999999999E-2,23,738,2.8680563618230415,25,null,0.7,0.2,20,193,2.2855573090077739,25]
[87,null,1,0.16220000000000001,15,1.1760912590556813,3002,3.4774106879072515,25,null,0.7,0.16220000000000001,20,211,2.3242824552976926,25,null,1,0,24,2039,3.30941722577814,25,null,0.8,0,11,1596,3.2030328870147105,123.37726444102429]
[88,null,1,0.16220000000000001,17,1.2304489213782739,1759,3.2452658394574612,25,null,0.7,0.16220000000000001,20,222,2.3463529744506388,25,null,1,5.3499999999999999E-2,24,654,2.8155777483242672,25,null,0.8,5.3499999999999999E-2,15,10943,4.0391363992220954,25]
[89,null,1,0.16220000000000001,18,1.255272505103306,1324,3.1218879851036809,25,null,1,0.16220000000000001,20,851,2.929929560084588,25,null,1,0,25,1711,3.2332500095411003,25,null,0.8,5.3499999999999999E-2,19,2268,3.355643050220869,25]
[90,null,1,0.16220000000000001,20,1.3010299956639813,851,2.929929560084588,25,null,0.7,0.2,20,193,2.2855573090077739,25,null,1,5.3499999999999999E-2,25,476,2.6776069527204931,25,null,0.8,5.3499999999999999E-2,20,1534,3.185825359612962,25]
[91,null,0.3,0,17,1.2304489213782739,60853,{"$f":"LOG(G92)","v":4.7842819934342788},105,null,0.3,0,17,60853,{"$f":"LOG(N92)","v":4.7842819934342788},105,null,0.3,0,17,60853,{"$f":"LOG(U92)","v":4.7842819934342788},105,null,0.8,5.3499999999999999E-2,21,1075,3.0314084642516241,25]
[92,null,0.6,0,15,{"$f":"LOG(E93)","v":1.1760912590556813},1569,3.1956229435869368,125,null,0.8,0,11,1596,3.2030328870147105,125,null,0.6,0,15,1569,3.1956229435869368,125,null,0.8,5.3499999999999999E-2,22,800,2.9030899869919438,25]
[93,null,0.8,0,11,1.0413926851582251,1596,3.2030328870147105,125,null,0.6,0,15,1569,3.1956229435869368,125,null,0.8,0,11,1596,3.2030328870147105,125,null,0.8,5.3499999999999999E-2,23,615,2.7888751157754168,25]
[94,null,0.5,0,15,1.1760912590556813,2619,3.4181354984252321,135,null,0.7,0,12,3300,3.5185139398778875,135,null,0.5,0,15,2619,3.4181354984252321,135,null,0.9,5.3499999999999999E-2,15,7273,3.8617135875714341,25]
[95,null,0.55000000000000004,0,14,1.146128035678238,4618,3.6644539285811577,135,null,0.55000000000000004,0,14,4618,3.6644539285811577,135,null,0.55000000000000004,0,14,4618,3.6644539285811577,135,null,0.9,5.3499999999999999E-2,19,1854,{"$f":"LOG(AB96)","v":3.2681097298084785},25]
[96,null,0.7,0,12,1.0791812460476249,3300,3.5185139398778875,135,null,0.5,0,15,2619,3.4181354984252321,135,null,0.7,0,12,3300,3.5185139398778875,135,null,0.9,5.3499999999999999E-2,21,996,2.9982593384236988,25]
[97,null,0.1,0,17.5,1.2430380486862944,52201,4.7176788227402326,140,null,0.6,0,13,6600,3.8195439355418688,140,null,0.1,0,17.5,52201,4.7176788227402326,140,null,0.9,5.3499999999999999E-2,23,561,2.7489628612561616,25]
[98,null,0.1,0,19,1.2787536009528289,8814,3.9451730461739003,140,null,0.5,0,14,8580,3.9334872878487053,140,null,0.1,0,19,8814,3.9451730461739003,140,null,0.9,5.3499999999999999E-2,25,350,2.5440680443502757,25]
[99,null,0.2,0,17,1.2304489213782739,30302,4.4814712938587,140,null,0.4,0,15.5,7130,3.8530895298518657,140,null,0.2,0,17,30302,4.4814712938587,140,null,0.9,0.11,16,2208,3.3439990690571615,25]
[100,null,0.2,0,18,1.255272505103306,10935,4.0388187873736561,140,null,0.3,0,16,21600,4.3344537511509307,140,null,0.2,0,18,10935,4.0388187873736561,140,null,0.9,0.11,21,514,2.7109631189952759,25]
[101,null,0.2,0,18.5,1.2671717284030137,7203.0000000000009,3.8575134147766899,140,null,0.3,0,17,5825,3.7652959296980564,140,null,0.2,0,18.5,7203.0000000000009,3.8575134147766899,140,null,0.91017999999999999,0,22.723500000000001,3446,3.5373152731120099,25]
[102,null,0.2,0,19,1.2787536009528289,4380,3.6414741105040997,140,null,0.2,0,17,30302,4.4814712938587,140,null,0.2,0,19,4380,3.6414741105040997,140,null,1,0,24,2039,3.30941722577814,25]
[103,null,0.3,0,16,1.2041199826559248,21600,4.3344537511509307,140,null,0.1,0,17.5,52201,4.7176788227402326,140,null,0.3,0,16,21600,4.3344537511509307,140,null,1,0,25,1711,3.2332500095411003,25]
[104,null,0.3,0,17,1.2304489213782739,5825,3.7652959296980564,140,null,0.2,0,18,10935,4.0388187873736561,140,null,0.3,0,17,5825,3.7652959296980564,140,null,1,5.3499999999999999E-2,15,6125,3.7871060930365701,25]
[105,null,0.4,0,15.5,1.1903316981702914,7130,3.8530895298518657,140,null,0.2,0,18.5,7203.0000000000009,3.8575134147766899,140,null,0.4,0,15.5,7130,3.8530895298518657,140,null,1,5.3499999999999999E-2,17,3190,3.503790683057181,25]
[106,null,0.5,0,14,1.146128035678238,8580,3.9334872878487053,140,null,0.2,0,19,4380,3.6414741105040997,140,null,0.5,0,14,8580,3.9334872878487053,140,null,1,5.3499999999999999E-2,19,1970,3.2944662261615929,25]
[107,null,0.6,0,13,1.1139433523068367,6600,3.8195439355418688,140,null,0.1,0,19,8814,3.9451730461739003,140,null,0.6,0,13,6600,3.8195439355418688,140,null,1,5.3499999999999999E-2,21,1317,3.1195857749617839,25]
[108,null,0,0,18,1.255272505103306,76199,4.8819492718995532,145,null,0.4,0,14.5,23400,4.3692158574101425,145,null,0,0,18,76199,4.8819492718995532,145,null,1,5.3499999999999999E-2,22,1019,3.0081741840064264,25]
[109,null,0,0,18.5,1.2671717284030137,63004,4.7993681228310647,145,null,0.4,0,15,13654,4.1352598985156588,145,null,0,0,18.5,63004,4.7993681228310647,145,null,1,5.3499999999999999E-2,23,738,2.8680563618230415,25]
[110,null,0,0,19,1.2787536009528289,44106,4.6444976731332455,145,null,0.2,0,16,75616,4.8786136999522753,145,null,0,0,19,44106,4.6444976731332455,145,null,1,5.3499999999999999E-2,24,654,2.8155777483242672,25]
[111,null,0.1,0,17,1.2304489213782739,75623,4.8786539020347472,145,null,0.2,0,16.5,46804,4.6702829706744122,145,null,0.1,0,17,75623,4.8786539020347472,145,null,1,5.3499999999999999E-2,25,476,2.6776069527204931,25]
[112,null,0.1,0,18,1.255272505103306,38389,4.5842067992719153,145,null,0.1,0,17,75623,4.8786539020347472,145,null,0.1,0,18,38389,4.5842067992719153,145,null,1,0.11,16,2565,3.409087369447835,25]
[113,null,0.2,0,16,1.2041199826559248,75616,4.8786136999522753,145,null,0.2,0,17.5,15516.999999999998,4.1908077601319018,145,null,0.2,0,16,75616,4.8786136999522753,145,null,1,0.11,21,848,2.9283958522567137,25]
[114,null,0.2,0,16.5,1.2174839442139063,46804,4.6702829706744122,145,null,0.1,0,18,38389,4.5842067992719153,145,null,0.2,0,16.5,46804,4.6702829706744122,145,null,1,0.16220000000000001,15,3002,3.4774106879072515,25]
[115,null,0.2,0,17.5,1.2430380486862944,15516.999999999998,4.1908077601319018,145,null,0,0,18,76199,4.8819492718995532,145,null,0.2,0,17.5,15516.999999999998,4.1908077601319018,145,null,1,0.16220000000000001,17,1759,3.2452658394574612,25]
[116,null,0.4,0,14.5,1.1613680022349748,23400,4.3692158574101425,145,null,0,0,18.5,63004,4.7993681228310647,145,null,0.4,0,14.5,23400,4.3692158574101425,145,null,1,0.16220000000000001,18,1324,3.1218879851036809,25]
[117,null,0.4,0,15,1.1760912590556813,13654,4.1352598985156588,145,null,0,0,19,44106,4.6444976731332455,145,null,0.4,0,15,13654,4.1352598985156588,145,null,1,0.16220000000000001,20,851,2.929929560084588,25]

{"sheet":"Chart Data","index":4,"n_rows":116,"n_cols":42,"rows_kept":116,"cut":false,"hidden":false,"merged":[]}
["Data Point:"]
["Log(SiO2)","GT","UI","LI","GT25","UI25","LI25","EA","UIEA","LIEA","25B","25X1","25X2","25X3","25X4","25X5","25X6","25X7","25X8","25X9","EAB","EAX1","EAX2","EAX3","25IntMat","25IntMat","25IntMat","25IntMat","25IntMat","25IntMat","25IntMat","25IntMat","25IntMat","25IntMat","25FullMat","25SQRT","EAIntMat","EAIntMat","EAIntMat","EAIntMat","EAFullMat","EASQRT"]
[{"$f":"LOG(Calculator!F4)","v":1.3010299956639813},{"$f":"LOG(EXP(LN(10^E3)+H3*1000*4.184/8.31447*(1/$A$9-1/298.15)))","v":5.1010868044999853},{"$f":"LOG(EXP(LN(10^F3)+J3*1000*4.184/8.31447*(1/$A$9-1/298.15)))","v":5.1439868452707778},{"$f":"LOG(EXP(LN(10^G3)+I3*1000*4.184/8.31447*(1/$A$9-1/298.15)))","v":5.0581867637291937},{"$f":"Equations!$B$4+L3*Equations!$B$5+M3*Equations!$B$6+N3*Equations!$B$7+O3*Equations!$B$8+P3*Equations!$B$9+Q3*Equations!$B$10+R3*Equations!$B$11+S3*Equations!$B$12+T3*Equations!$B$13","v":5.1010868044999853},{"$f":"E3+AJ3*TINV(1-ERF(Calculator!$F$7/SQRT(2)),Equations!$F$16)*Equations!$D$16","v":5.1439868452707769},{"$f":"E3-AJ3*TINV(1-ERF(Calculator!$F$7/SQRT(2)),Equations!$F$16)*Equations!$D$16","v":5.0581867637291937},{"$f":"Equations!$B$33+X3*Equations!$B$30+W3*Equations!$B$31+V3*Equations!$B$32","v":25.12333877881909},{"$f":"H3+AP3*TINV(1-ERF(Calculator!$F$7/SQRT(2)),Equations!$F$36)*Equations!$D$36","v":27.143107320146306},{"$f":"H3-AP3*TINV(1-ERF(Calculator!$F$7/SQRT(2)),Equations!$F$36)*Equations!$D$36","v":23.103570237491873},1,{"$f":"$A$5^2*$A$3*$A$7","v":0},{"$f":"$A$5*$A$3*$A$7","v":0},{"$f":"$A$3*$A$7","v":0},{"$f":"$A$5^2*$A$3","v":0.63750469787535069},{"$f":"$A$3","v":1.3010299956639813},{"$f":"$A$5^2/($A$7+Equations!$B$3)","v":7.3257727781418414},{"$f":"1/($A$7+Equations!$B$3)","v":14.950556690085392},{"$f":"$A$7","v":0},{"$f":"$A$5","v":0.7},1,{"$f":"$A$3","v":1.3010299956639813},{"$f":"$A$3*$A$5","v":0.91072099696478681},{"$f":"$A$5^2","v":0.48999999999999994},{"$f":"MMULT(K3:T3,Calcs!$A$134:$J$143)","v":0.36823066614211086},0.99672138964282908,-4.9324369214473904,10.802591863813419,0.39084691835095953,-1.1162068578556585,-7.3615729417544878E-2,9.0377341482740389E-2,-8.1193018107685759,0.39513813838782141,{"$f":"MMULT(Y3:AH3,TRANSPOSE(K3:T3))","v":0.25367496690318297},{"$f":"SQRT(IF(Calculator!$F$6=\"PI\",1,0)+AI3)","v":0.50366155988241046},{"$f":"MMULT(U3:X3,Calcs!$A$152:$D$155)","v":-24.965133948567349},19.671343341931575,1.5319197027094309,5.2839505214330078,{"$f":"MMULT(AK3:AN3,TRANSPOSE(U3:X3))","v":4.6121609887142814},{"$f":"SQRT(IF(Calculator!$F$6=\"PI\",1,0)+AO3)","v":2.147594232790329}]
["Cl/Na",{"$f":"ROUNDDOWN(10^B3/3600,0) & \":\" & ROUNDDOWN(60*(10^B3/3600-ROUNDDOWN(10^B3/3600,0)),0) & \":\" & ROUND((60*(10^B3/3600-ROUNDDOWN(10^B3/3600,0))-ROUNDDOWN(60*(10^B3/3600-ROUNDDOWN(10^B3/3600,0)),0))*60,0)","v":"35:3:28"}]
[{"$f":"ROUND(IF(Calculator!$C$3='Chart Data'!$A$86,Calculator!$F$3,((Equations!$B$21+Equations!$B$22*$F$86)+SQRT((-Equations!$B$21-Equations!$B$22*$F$86)^2-4*(-Equations!$B$20)*(Calculator!$F$3-Equations!$B$23)))/(2*(-Equations!$B$20))),2)","v":0.7},{"$f":"IF($R$88=\"N/A\",0,B3)","v":5.1010868044999853},null,"pH",10,9.5,9,8.5,8,7.5,7,null,"NaCl (m)",0.1,0.2,0.3,0.4,0.6,0.8]
["NaCl/SiO2",null,2,"Cl/Na",{"$f":"((Equations!$B$21+Equations!$B$22*10^$A$3)+SQRT((-Equations!$B$21-Equations!$B$22*10^$A$3)^2-4*(-Equations!$B$20)*(E$5-Equations!$B$23)))/(2*(-Equations!$B$20))","v":9.7052612504014021E-2},{"$f":"((Equations!$B$21+Equations!$B$22*10^$A$3)+SQRT((-Equations!$B$21-Equations!$B$22*10^$A$3)^2-4*(-Equations!$B$20)*(F$5-Equations!$B$23)))/(2*(-Equations!$B$20))","v":0.26002091804916588},{"$f":"((Equations!$B$21+Equations!$B$22*10^$A$3)+SQRT((-Equations!$B$21-Equations!$B$22*10^$A$3)^2-4*(-Equations!$B$20)*(G$5-Equations!$B$23)))/(2*(-Equations!$B$20))","v":0.40268644116211244},{"$f":"((Equations!$B$21+Equations!$B$22*10^$A$3)+SQRT((-Equations!$B$21-Equations!$B$22*10^$A$3)^2-4*(-Equations!$B$20)*(H$5-Equations!$B$23)))/(2*(-Equations!$B$20))","v":0.53115397492041405},{"$f":"((Equations!$B$21+Equations!$B$22*10^$A$3)+SQRT((-Equations!$B$21-Equations!$B$22*10^$A$3)^2-4*(-Equations!$B$20)*(I$5-Equations!$B$23)))/(2*(-Equations!$B$20))","v":0.6489709950598862},{"$f":"((Equations!$B$21+Equations!$B$22*10^$A$3)+SQRT((-Equations!$B$21-Equations!$B$22*10^$A$3)^2-4*(-Equations!$B$20)*(J$5-Equations!$B$23)))/(2*(-Equations!$B$20))","v":0.75841543206719875},{"$f":"((Equations!$B$21+Equations!$B$22*10^$A$3)+SQRT((-Equations!$B$21-Equations!$B$22*10^$A$3)^2-4*(-Equations!$B$20)*(K$5-Equations!$B$23)))/(2*(-Equations!$B$20))","v":0.86105316519374486},null,"NaCl/SiO2",{"$f":"N$5*(1/10^$A$3-1/100)*60.085/10","v":2.4033999999999993E-2},{"$f":"O$5*(1/10^$A$3-1/100)*60.085/10","v":4.8067999999999986E-2},7.2101999999999972E-2,9.6135999999999971E-2,0.14420399999999994,0.19227199999999994]
[{"$f":"IF(Calculator!$C$2='Chart Data'!$H$85,Calculator!$F$2,IF(Calculator!$C$2='Chart Data'!$H$86,Calculator!$F$2*(1/10^$A$3-1/100)*60.085/10,IF(Calculator!$C$2='Chart Data'!$H$87,(Calculator!$F$2/58440)*(1/10^$A$3-1/100)*60.085/10,Calculator!$F$2)))","v":0},null,7,"Cl/Na",{"$f":"((Equations!$B$21+Equations!$B$22*10^$A$3)+SQRT((-Equations!$B$21-Equations!$B$22*10^$A$3)^2-4*(-Equations!$B$20)*(E$5-Equations!$B$23)))/(2*(-Equations!$B$20))","v":9.7052612504014021E-2},{"$f":"((Equations!$B$21+Equations!$B$22*10^$A$3)+SQRT((-Equations!$B$21-Equations!$B$22*10^$A$3)^2-4*(-Equations!$B$20)*(F$5-Equations!$B$23)))/(2*(-Equations!$B$20))","v":0.26002091804916588},{"$f":"((Equations!$B$21+Equations!$B$22*10^$A$3)+SQRT((-Equations!$B$21-Equations!$B$22*10^$A$3)^2-4*(-Equations!$B$20)*(G$5-Equations!$B$23)))/(2*(-Equations!$B$20))","v":0.40268644116211244},{"$f":"((Equations!$B$21+Equations!$B$22*10^$A$3)+SQRT((-Equations!$B$21-Equations!$B$22*10^$A$3)^2-4*(-Equations!$B$20)*(H$5-Equations!$B$23)))/(2*(-Equations!$B$20))","v":0.53115397492041405},{"$f":"((Equations!$B$21+Equations!$B$22*10^$A$3)+SQRT((-Equations!$B$21-Equations!$B$22*10^$A$3)^2-4*(-Equations!$B$20)*(I$5-Equations!$B$23)))/(2*(-Equations!$B$20))","v":0.6489709950598862},{"$f":"((Equations!$B$21+Equations!$B$22*10^$A$3)+SQRT((-Equations!$B$21-Equations!$B$22*10^$A$3)^2-4*(-Equations!$B$20)*(J$5-Equations!$B$23)))/(2*(-Equations!$B$20))","v":0.75841543206719875},{"$f":"((Equations!$B$21+Equations!$B$22*10^$A$3)+SQRT((-Equations!$B$21-Equations!$B$22*10^$A$3)^2-4*(-Equations!$B$20)*(K$5-Equations!$B$23)))/(2*(-Equations!$B$20))","v":0.86105316519374486},null,"NaCl/SiO2",{"$f":"N$5*(1/10^$A$3-1/100)*60.085/10","v":2.4033999999999993E-2},4.8067999999999986E-2,7.2101999999999972E-2,9.6135999999999971E-2,0.14420399999999994,0.19227199999999994]
["T (K)",null,{"$f":"IF(Calculator!$C$2='Chart Data'!$H$85,Calculator!$F$2,IF(Calculator!$C$2='Chart Data'!$H$86,Calculator!$F$2*(1/10^$A$3-1/100)*60.085/10,IF(Calculator!$C$2='Chart Data'!$H$87,(Calculator!$F$2/58440)*(1/10^$A$3-1/100)*60.085/10,Calculator!$F$2)))","v":0}]
[{"$f":"IF(Calculator!C5=B84,Calculator!F5+273.15,IF(Calculator!C5=B85,Calculator!F5,IF(Calculator!C5=B83,(Calculator!F5-32)*5/9+273.15,273.15)))","v":298.14999999999998}]
[]
["SiO2:","GT","UI","LI","GT25","UI25","LI25","EA","UIEA","LIEA","25B","25X1","25X2","25X3","25X4","25X5","25X6","25X7","25X8","25X9","EAB","EAX1","EAX2","EAX3","25IntMat","25IntMat","25IntMat","25IntMat","25IntMat","25IntMat","25IntMat","25IntMat","25IntMat","25IntMat","25FullMat","25SQRT","EAIntMat","EAIntMat","EAIntMat","EAIntMat","EAFullMat","EASQRT"]
[1,{"$f":"IF($R$88=\"N/A\",0,LOG(EXP(LN(10^E12)+H12*1000*4.184/8.31447*(1/$A$9-1/298.15))))","v":7.6923302203985289},{"$f":"IF($R$88=\"N/A\",0,LOG(EXP(LN(10^F12)+J12*1000*4.184/8.31447*(1/$A$9-1/298.15))))","v":7.8143179367810855},{"$f":"IF($R$88=\"N/A\",0,LOG(EXP(LN(10^G12)+I12*1000*4.184/8.31447*(1/$A$9-1/298.15))))","v":7.5703425040159713},{"$f":"Equations!$B$4+L12*Equations!$B$5+M12*Equations!$B$6+N12*Equations!$B$7+O12*Equations!$B$8+P12*Equations!$B$9+Q12*Equations!$B$10+R12*Equations!$B$11+S12*Equations!$B$12+T12*Equations!$B$13","v":7.692330220398528},{"$f":"E12+AJ12*TINV(1-ERF(Calculator!$F$7/SQRT(2)),Equations!$F$16)*Equations!$D$16","v":7.8143179367810847},{"$f":"E12-AJ12*TINV(1-ERF(Calculator!$F$7/SQRT(2)),Equations!$F$16)*Equations!$D$16","v":7.5703425040159713},{"$f":"Equations!$B$33+X12*Equations!$B$30+W12*Equations!$B$31+V12*Equations!$B$32","v":15.497639977544249},{"$f":"H12+AP12*TINV(1-ERF(Calculator!$F$7/SQRT(2)),Equations!$F$36)*Equations!$D$36","v":16.444187841675017},{"$f":"H12-AP12*TINV(1-ERF(Calculator!$F$7/SQRT(2)),Equations!$F$36)*Equations!$D$36","v":14.551092113413482},1,{"$f":"$A$5^2*$A12*$A$7","v":0},{"$f":"$A$5*$A12*$A$7","v":0},{"$f":"$A12*$A$7","v":0},{"$f":"$A$5^2*$A12","v":0.48999999999999994},{"$f":"$A12","v":1},{"$f":"$A$5^2/($A$7+Equations!$B$3)","v":7.3257727781418414},{"$f":"1/($A$7+Equations!$B$3)","v":14.950556690085392},{"$f":"$A$7","v":0},{"$f":"$A$5","v":0.7},1,{"$f":"$A12","v":1},{"$f":"$A12*$A$5","v":0.7},{"$f":"$A$5^2","v":0.48999999999999994},{"$f":"MMULT(K12:T12,Calcs!$A$134:$J$143)","v":7.2412111612689429},-10.477602517668771,10.84933168160893,40.032583291564194,2.5226749920884401,-6.2824543703619753,-0.13312196350095515,0.19435372811572055,-49.586443216957633,-2.9631527936652802,{"$f":"MMULT(Y12:AH12,TRANSPOSE(K12:T12))","v":2.0511357552000415},{"$f":"SQRT(IF(Calculator!$F$6=$A$84,1,0)+AI12)","v":1.4321786743280469},{"$f":"MMULT(U12:X12,Calcs!$A$152:$D$155)","v":10.25019329347178},-8.0543468101904203,-1.0471540534027324,-0.91814770138752344,{"$f":"MMULT(AK12:AN12,TRANSPOSE(U12:X12))","v":1.0129462722195601},{"$f":"SQRT(IF(Calculator!$F$6=$A$84,1,0)+AO12)","v":1.0064523198937743}]
[{"$f":"A12+0.05","v":1.05},{"$f":"IF($R$88=\"N/A\",0,LOG(EXP(LN(10^E13)+H13*1000*4.184/8.31447*(1/$A$9-1/298.15))))","v":7.2619340052002643},{"$f":"IF($R$88=\"N/A\",0,LOG(EXP(LN(10^F13)+J13*1000*4.184/8.31447*(1/$A$9-1/298.15))))","v":7.3690237490501191},{"$f":"IF($R$88=\"N/A\",0,LOG(EXP(LN(10^G13)+I13*1000*4.184/8.31447*(1/$A$9-1/298.15))))","v":7.1548442613504104},{"$f":"Equations!$B$4+L13*Equations!$B$5+M13*Equations!$B$6+N13*Equations!$B$7+O13*Equations!$B$8+P13*Equations!$B$9+Q13*Equations!$B$10+R13*Equations!$B$11+S13*Equations!$B$12+T13*Equations!$B$13","v":7.2619340052002634},{"$f":"E13+AJ13*TINV(1-ERF(Calculator!$F$7/SQRT(2)),Equations!$F$16)*Equations!$D$16","v":7.3690237490501183},{"$f":"E13-AJ13*TINV(1-ERF(Calculator!$F$7/SQRT(2)),Equations!$F$16)*Equations!$D$16","v":7.1548442613504086},{"$f":"Equations!$B$33+X13*Equations!$B$30+W13*Equations!$B$31+V13*Equations!$B$32","v":17.096433941588177},{"$f":"H13+AP13*TINV(1-ERF(Calculator!$F$7/SQRT(2)),Equations!$F$36)*Equations!$D$36","v":17.675773033255474},{"$f":"H13-AP13*TINV(1-ERF(Calculator!$F$7/SQRT(2)),Equations!$F$36)*Equations!$D$36","v":16.517094849920881},1,{"$f":"$A$5^2*$A13*$A$7","v":0},{"$f":"$A$5*$A13*$A$7","v":0},{"$f":"$A13*$A$7","v":0},{"$f":"$A$5^2*$A13","v":0.51449999999999996},{"$f":"$A13","v":1.05},{"$f":"$A$5^2/($A$7+Equations!$B$3)","v":7.3257727781418414},{"$f":"1/($A$7+Equations!$B$3)","v":14.950556690085392},{"$f":"$A$7","v":0},{"$f":"$A$5","v":0.7},1,{"$f":"$A13","v":1.05},{"$f":"$A13*$A$5","v":0.73499999999999999},{"$f":"$A$5^2","v":0.48999999999999994},{"$f":"MMULT(K13:T13,Calcs!$A$134:$J$143)","v":6.0996338111502055},-8.5717585697919958,8.2280366561337246,35.177586804706081,2.1685860135075359,-5.4243592325151369,-0.12323819195982386,0.17708362411767226,-42.698900114363283,-2.405352743765647,{"$f":"MMULT(Y13:AH13,TRANSPOSE(K13:T13))","v":1.5807309696933218},{"$f":"SQRT(IF(Calculator!$F$6=$A$84,1,0)+AI13)","v":1.2572712395077372},{"$f":"MMULT(U13:X13,Calcs!$A$152:$D$155)","v":4.4010540466726749},-3.4492093568666196,-0.6187791749419489,0.1119985152944043,{"$f":"MMULT(AK13:AN13,TRANSPOSE(U13:X13))","v":0.37946080087464973},{"$f":"SQRT(IF(Calculator!$F$6=$A$84,1,0)+AO13)","v":0.61600389680151357}]
[{"$f":"A13+0.05","v":1.1000000000000001},6.8315377900020033,6.9240153284849182,6.7390602515190885,{"$f":"Equations!$B$4+L14*Equations!$B$5+M14*Equations!$B$6+N14*Equations!$B$7+O14*Equations!$B$8+P14*Equations!$B$9+Q14*Equations!$B$10+R14*Equations!$B$11+S14*Equations!$B$12+T14*Equations!$B$13","v":6.8315377900020025},{"$f":"E14+AJ14*TINV(1-ERF(Calculator!$F$7/SQRT(2)),Equations!$F$16)*Equations!$D$16","v":6.9240153284849173},{"$f":"E14-AJ14*TINV(1-ERF(Calculator!$F$7/SQRT(2)),Equations!$F$16)*Equations!$D$16","v":6.7390602515190876},{"$f":"Equations!$B$33+X14*Equations!$B$30+W14*Equations!$B$31+V14*Equations!$B$32","v":18.695227905632098},{"$f":"H14+AP14*TINV(1-ERF(Calculator!$F$7/SQRT(2)),Equations!$F$36)*Equations!$D$36","v":19.152571164589084},{"$f":"H14-AP14*TINV(1-ERF(Calculator!$F$7/SQRT(2)),Equations!$F$36)*Equations!$D$36","v":18.237884646675113},1,0,0,0,0.53899999999999992,1.1000000000000001,{"$f":"$A$5^2/($A$7+Equations!$B$3)","v":7.3257727781418414},{"$f":"1/($A$7+Equations!$B$3)","v":14.950556690085392},0,0.7,1,1.1000000000000001,0.77,0.48999999999999994,{"$f":"MMULT(K14:T14,Calcs!$A$134:$J$143)","v":4.9580564610314752},-6.6659146219151353,5.6067416306585187,30.322590317847968,1.8144970349266174,-4.5662640946683091,-0.11335442041869279,0.15981352011962374,-35.81135701176899,-1.8475526938660067,{"$f":"MMULT(Y14:AH14,TRANSPOSE(K14:T14))","v":1.1787853380208091},{"$f":"SQRT(IF(Calculator!$F$6=$A$84,1,0)+AI14)","v":1.0857188116730818},{"$f":"MMULT(U14:X14,Calcs!$A$152:$D$155)","v":-1.4480852001264299},1.155928096457183,-0.19040429648116453,1.1421447319763294,{"$f":"MMULT(AK14:AN14,TRANSPOSE(U14:X14))","v":0.23647531635437608},{"$f":"SQRT(IF(Calculator!$F$6=$A$84,1,0)+AO14)","v":0.48628727759872153}]
[1.1500000000000001,6.4011415748037388,6.4794528039239978,6.3228303456834798,{"$f":"Equations!$B$4+L15*Equations!$B$5+M15*Equations!$B$6+N15*Equations!$B$7+O15*Equations!$B$8+P15*Equations!$B$9+Q15*Equations!$B$10+R15*Equations!$B$11+S15*Equations!$B$12+T15*Equations!$B$13","v":6.4011415748037379},{"$f":"E15+AJ15*TINV(1-ERF(Calculator!$F$7/SQRT(2)),Equations!$F$16)*Equations!$D$16","v":6.4794528039239969},{"$f":"E15-AJ15*TINV(1-ERF(Calculator!$F$7/SQRT(2)),Equations!$F$16)*Equations!$D$16","v":6.3228303456834789},{"$f":"Equations!$B$33+X15*Equations!$B$30+W15*Equations!$B$31+V15*Equations!$B$32","v":20.294021869676026},{"$f":"H15+AP15*TINV(1-ERF(Calculator!$F$7/SQRT(2)),Equations!$F$36)*Equations!$D$36","v":21.012729097432238},{"$f":"H15-AP15*TINV(1-ERF(Calculator!$F$7/SQRT(2)),Equations!$F$36)*Equations!$D$36","v":19.575314641919814},1,0,0,0,0.5635,1.1500000000000001,{"$f":"$A$5^2/($A$7+Equations!$B$3)","v":7.3257727781418414},{"$f":"1/($A$7+Equations!$B$3)","v":14.950556690085392},0,0.7,1,1.1500000000000001,0.80500000000000005,0.48999999999999994,{"$f":"MMULT(K15:T15,Calcs!$A$134:$J$143)","v":3.8164791109127378},-4.76007067403836,2.985446605183256,25.467593830989884,1.4604080563457131,-3.7081689568214777,-0.10347064887756172,0.14254341612157534,-28.923813909174612,-1.2897526439663807,{"$f":"MMULT(Y15:AH15,TRANSPOSE(K15:T15))","v":0.84529886018251144},{"$f":"SQRT(IF(Calculator!$F$6=$A$84,1,0)+AI15)","v":0.91940135968058667},{"$f":"MMULT(U15:X15,Calcs!$A$152:$D$155)","v":-7.2972244469255347},5.7610655497809695,0.2379705819796194,2.1722909486582553,{"$f":"MMULT(AK15:AN15,TRANSPOSE(U15:X15))","v":0.58398981865871913},{"$f":"SQRT(IF(Calculator!$F$6=$A$84,1,0)+AO15)","v":0.76419226550569008}]
[1.2000000000000002,5.9707453596054725,6.0356288990066753,5.9058618202042679,{"$f":"Equations!$B$4+L16*Equations!$B$5+M16*Equations!$B$6+N16*Equations!$B$7+O16*Equations!$B$8+P16*Equations!$B$9+Q16*Equations!$B$10+R16*Equations!$B$11+S16*Equations!$B$12+T16*Equations!$B$13","v":5.9707453596054716},{"$f":"E16+AJ16*TINV(1-ERF(Calculator!$F$7/SQRT(2)),Equations!$F$16)*Equations!$D$16","v":6.0356288990066753},{"$f":"E16-AJ16*TINV(1-ERF(Calculator!$F$7/SQRT(2)),Equations!$F$16)*Equations!$D$16","v":5.9058618202042679},{"$f":"Equations!$B$33+X16*Equations!$B$30+W16*Equations!$B$31+V16*Equations!$B$32","v":21.892815833719954},{"$f":"H16+AP16*TINV(1-ERF(Calculator!$F$7/SQRT(2)),Equations!$F$36)*Equations!$D$36","v":23.014317260950776},{"$f":"H16-AP16*TINV(1-ERF(Calculator!$F$7/SQRT(2)),Equations!$F$36)*Equations!$D$36","v":20.771314406489132},1,0,0,0,0.58799999999999997,1.2000000000000002,{"$f":"$A$5^2/($A$7+Equations!$B$3)","v":7.3257727781418414},{"$f":"1/($A$7+Equations!$B$3)","v":14.950556690085392},0,0.7,1,1.2000000000000002,0.84000000000000008,0.48999999999999994,{"$f":"MMULT(K16:T16,Calcs!$A$134:$J$143)","v":2.6749017607940004},-2.8542267261615564,0.36415157970816381,20.612597344131771,1.1063190777648089,-2.8500738189746428,-9.3586877336430202E-2,0.12527331212352694,-22.036270806580319,-0.73195259406674751,{"$f":"MMULT(Y16:AH16,TRANSPOSE(K16:T16))","v":0.58027153617844374},{"$f":"SQRT(IF(Calculator!$F$6=$A$84,1,0)+AI16)","v":0.76175556196095062},{"$f":"MMULT(U16:X16,Calcs!$A$152:$D$155)","v":-13.146363693724668},10.366203003104772,0.66634546044040333,3.2024371653401777,{"$f":"MMULT(AK16:AN16,TRANSPOSE(U16:X16))","v":1.4220043077876858},{"$f":"SQRT(IF(Calculator!$F$6=$A$84,1,0)+AO16)","v":1.1924782210957505}]
[1.2500000000000002,5.5403491444072097,5.5931105920803406,5.487587696734078,{"$f":"Equations!$B$4+L17*Equations!$B$5+M17*Equations!$B$6+N17*Equations!$B$7+O17*Equations!$B$8+P17*Equations!$B$9+Q17*Equations!$B$10+R17*Equations!$B$11+S17*Equations!$B$12+T17*Equations!$B$13","v":5.5403491444072088},{"$f":"E17+AJ17*TINV(1-ERF(Calculator!$F$7/SQRT(2)),Equations!$F$16)*Equations!$D$16","v":5.5931105920803397},{"$f":"E17-AJ17*TINV(1-ERF(Calculator!$F$7/SQRT(2)),Equations!$F$16)*Equations!$D$16","v":5.487587696734078},{"$f":"Equations!$B$33+X17*Equations!$B$30+W17*Equations!$B$31+V17*Equations!$B$32","v":23.491609797763878},{"$f":"H17+AP17*TINV(1-ERF(Calculator!$F$7/SQRT(2)),Equations!$F$36)*Equations!$D$36","v":25.051365859675062},{"$f":"H17-AP17*TINV(1-ERF(Calculator!$F$7/SQRT(2)),Equations!$F$36)*Equations!$D$36","v":21.931853735852695},1,0,0,0,0.61250000000000004,1.2500000000000002,{"$f":"$A$5^2/($A$7+Equations!$B$3)","v":7.3257727781418414},{"$f":"1/($A$7+Equations!$B$3)","v":14.950556690085392},0,0.7,1,1.2500000000000002,0.87500000000000011,0.48999999999999994,{"$f":"MMULT(K17:T17,Calcs!$A$134:$J$143)","v":1.533324410675263},-0.94838277828472428,-2.2571434457671558,15.757600857273658,0.75223009918389749,-1.9919786811278044,-8.3703105795299132E-2,0.10800320812547841,-15.148727703985969,-0.17415254416710724,{"$f":"MMULT(Y17:AH17,TRANSPOSE(K17:T17))","v":0.38370336600859656},{"$f":"SQRT(IF(Calculator!$F$6=$A$84,1,0)+AI17)","v":0.61943794363002702},{"$f":"MMULT(U17:X17,Calcs!$A$152:$D$155)","v":-18.995502940523771},14.971340456428575,1.0947203389011873,4.2325833820221037,{"$f":"MMULT(AK17:AN17,TRANSPOSE(U17:X17))","v":2.7505187837413212},{"$f":"SQRT(IF(Calculator!$F$6=$A$84,1,0)+AO17)","v":1.6584688069847202}]
[1.3000000000000003,5.1099529292089452,5.1530149615847707,5.0668908968331188,{"$f":"Equations!$B$4+L18*Equations!$B$5+M18*Equations!$B$6+N18*Equations!$B$7+O18*Equations!$B$8+P18*Equations!$B$9+Q18*Equations!$B$10+R18*Equations!$B$11+S18*Equations!$B$12+T18*Equations!$B$13","v":5.1099529292089443},{"$f":"E18+AJ18*TINV(1-ERF(Calculator!$F$7/SQRT(2)),Equations!$F$16)*Equations!$D$16","v":5.1530149615847707},{"$f":"E18-AJ18*TINV(1-ERF(Calculator!$F$7/SQRT(2)),Equations!$F$16)*Equations!$D$16","v":5.0668908968331179},{"$f":"Equations!$B$33+X18*Equations!$B$30+W18*Equations!$B$31+V18*Equations!$B$32","v":25.090403761807799},{"$f":"H18+AP18*TINV(1-ERF(Calculator!$F$7/SQRT(2)),Equations!$F$36)*Equations!$D$36","v":27.100816814738153},{"$f":"H18-AP18*TINV(1-ERF(Calculator!$F$7/SQRT(2)),Equations!$F$36)*Equations!$D$36","v":23.079990708877446},1,0,0,0,0.63700000000000001,1.3000000000000003,{"$f":"$A$5^2/($A$7+Equations!$B$3)","v":7.3257727781418414},{"$f":"1/($A$7+Equations!$B$3)","v":14.950556690085392},0,0.7,1,1.3000000000000003,0.91000000000000014,0.48999999999999994,{"$f":"MMULT(K18:T18,Calcs!$A$134:$J$143)","v":0.39174706055653274},0.95746116959207939,-4.8784384712422479,10.902604370415574,0.39814112060298612,-1.1338835432809731,-7.381933425416784E-2,9.0733104127430006E-2,-8.2611846013916761,0.38364750573252593,{"$f":"MMULT(Y18:AH18,TRANSPOSE(K18:T18))","v":0.25559434967296463},{"$f":"SQRT(IF(Calculator!$F$6=$A$84,1,0)+AI18)","v":0.50556339827262475},{"$f":"MMULT(U18:X18,Calcs!$A$152:$D$155)","v":-24.844642187322876},19.576477909752377,1.5230952173619712,5.2627295987040297,{"$f":"MMULT(AK18:AN18,TRANSPOSE(U18:X18))","v":4.5695332465195877},{"$f":"SQRT(IF(Calculator!$F$6=$A$84,1,0)+AO18)","v":2.1376466608210976}]
[1.3500000000000003,4.6795567140106815,4.7172605400836956,4.6418528879376693,{"$f":"Equations!$B$4+L19*Equations!$B$5+M19*Equations!$B$6+N19*Equations!$B$7+O19*Equations!$B$8+P19*Equations!$B$9+Q19*Equations!$B$10+R19*Equations!$B$11+S19*Equations!$B$12+T19*Equations!$B$13","v":4.6795567140106815},{"$f":"E19+AJ19*TINV(1-ERF(Calculator!$F$7/SQRT(2)),Equations!$F$16)*Equations!$D$16","v":4.7172605400836947},{"$f":"E19-AJ19*TINV(1-ERF(Calculator!$F$7/SQRT(2)),Equations!$F$16)*Equations!$D$16","v":4.6418528879376684},{"$f":"Equations!$B$33+X19*Equations!$B$30+W19*Equations!$B$31+V19*Equations!$B$32","v":26.689197725851727},{"$f":"H19+AP19*TINV(1-ERF(Calculator!$F$7/SQRT(2)),Equations!$F$36)*Equations!$D$36","v":29.155881828742267},{"$f":"H19-AP19*TINV(1-ERF(Calculator!$F$7/SQRT(2)),Equations!$F$36)*Equations!$D$36","v":24.222513622961188},1,0,0,0,0.66150000000000009,1.3500000000000003,{"$f":"$A$5^2/($A$7+Equations!$B$3)","v":7.3257727781418414},{"$f":"1/($A$7+Equations!$B$3)","v":14.950556690085392},0,0.7,1,1.3500000000000003,0.94500000000000017,0.48999999999999994,{"$f":"MMULT(K19:T19,Calcs!$A$134:$J$143)","v":-0.74983028956220465},2.8633051174689115,-7.4997334967175675,6.0476078835574327,4.4052142022081853E-2,-0.27578840543414174,-6.393556271303677E-2,7.3463000129381825E-2,-1.3736414987973831,0.9414475556321662,{"$f":"MMULT(Y19:AH19,TRANSPOSE(K19:T19))","v":0.19594448717155555},{"$f":"SQRT(IF(Calculator!$F$6=$A$84,1,0)+AI19)","v":0.44265617263464829},{"$f":"MMULT(U19:X19,Calcs!$A$152:$D$155)","v":-30.693781434121981},24.181615363076162,1.9514700958227551,6.2928758153859556,{"$f":"MMULT(AK19:AN19,TRANSPOSE(U19:X19))","v":6.8790476961224654},{"$f":"SQRT(IF(Calculator!$F$6=$A$84,1,0)+AO19)","v":2.6227938722138395}]
[1.4000000000000004,4.249160498812417,4.2877025533137862,4.2106184443110495,{"$f":"Equations!$B$4+L20*Equations!$B$5+M20*Equations!$B$6+N20*Equations!$B$7+O20*Equations!$B$8+P20*Equations!$B$9+Q20*Equations!$B$10+R20*Equations!$B$11+S20*Equations!$B$12+T20*Equations!$B$13","v":4.249160498812417},{"$f":"E20+AJ20*TINV(1-ERF(Calculator!$F$7/SQRT(2)),Equations!$F$16)*Equations!$D$16","v":4.2877025533137854},{"$f":"E20-AJ20*TINV(1-ERF(Calculator!$F$7/SQRT(2)),Equations!$F$16)*Equations!$D$16","v":4.2106184443110486},{"$f":"Equations!$B$33+X20*Equations!$B$30+W20*Equations!$B$31+V20*Equations!$B$32","v":28.287991689895655},{"$f":"H20+AP20*TINV(1-ERF(Calculator!$F$7/SQRT(2)),Equations!$F$36)*Equations!$D$36","v":31.213935714112324},{"$f":"H20-AP20*TINV(1-ERF(Calculator!$F$7/SQRT(2)),Equations!$F$36)*Equations!$D$36","v":25.362047665678986},1,0,0,0,0.68600000000000005,1.4000000000000004,{"$f":"$A$5^2/($A$7+Equations!$B$3)","v":7.3257727781418414},{"$f":"1/($A$7+Equations!$B$3)","v":14.950556690085392},0,0.7,1,1.4000000000000004,0.9800000000000002,0.48999999999999994,{"$f":"MMULT(K20:T20,Calcs!$A$134:$J$143)","v":-1.8914076396809421},4.7691490653456583,-10.12102852219266,1.1926113966993199,-0.31003683655882242,0.5823067324126967,-5.4051791171905263E-2,5.6192896131333311E-2,5.5139016037969668,1.4992476055317852,{"$f":"MMULT(Y20:AH20,TRANSPOSE(K20:T20))","v":0.20475377850435872},{"$f":"SQRT(IF(Calculator!$F$6=$A$84,1,0)+AI20)","v":0.45249726905734883},{"$f":"MMULT(U20:X20,Calcs!$A$152:$D$155)","v":-36.542920680921085},28.786752816399964,2.3798449742835399,7.3230220320678816,{"$f":"MMULT(AK20:AN20,TRANSPOSE(U20:X20))","v":9.6790621325500048},{"$f":"SQRT(IF(Calculator!$F$6=$A$84,1,0)+AO20)","v":3.1111191125622311}]
[]
["Cl/Na:","GT","UI","LI","GT25","UI25","LI25","EA","UIEA","LIEA","25B","25X1","25X2","25X3","25X4","25X5","25X6","25X7","25X8","25X9","EAB","EAX1","EAX2","EAX3","25IntMat","25IntMat","25IntMat","25IntMat","25IntMat","25IntMat","25IntMat","25IntMat","25IntMat","25IntMat","25FullMat","25SQRT","EAIntMat","EAIntMat","EAIntMat","EAIntMat","EAFullMat","EASQRT"]
[0,{"$f":"IF($R$88=\"N/A\",0,LOG(EXP(LN(10^E23)+H23*1000*4.184/8.31447*(1/$A$9-1/298.15))))","v":9.4575045471719701},{"$f":"IF($R$88=\"N/A\",0,LOG(EXP(LN(10^F23)+J23*1000*4.184/8.31447*(1/$A$9-1/298.15))))","v":9.7717802703547445},{"$f":"IF($R$88=\"N/A\",0,LOG(EXP(LN(10^G23)+I23*1000*4.184/8.31447*(1/$A$9-1/298.15))))","v":9.1432288239891939},{"$f":"Equations!$B$4+L23*Equations!$B$5+M23*Equations!$B$6+N23*Equations!$B$7+O23*Equations!$B$8+P23*Equations!$B$9+Q23*Equations!$B$10+R23*Equations!$B$11+S23*Equations!$B$12+T23*Equations!$B$13","v":9.4575045471719683},{"$f":"E23+AJ23*TINV(1-ERF(Calculator!$F$7/SQRT(2)),Equations!$F$16)*Equations!$D$16","v":9.7717802703547427},{"$f":"E23-AJ23*TINV(1-ERF(Calculator!$F$7/SQRT(2)),Equations!$F$16)*Equations!$D$16","v":9.1432288239891939},{"$f":"Equations!$B$33+X23*Equations!$B$30+W23*Equations!$B$31+V23*Equations!$B$32","v":25.688449800002054},{"$f":"H23+AP23*TINV(1-ERF(Calculator!$F$7/SQRT(2)),Equations!$F$36)*Equations!$D$36","v":26.22319295627765},{"$f":"H23-AP23*TINV(1-ERF(Calculator!$F$7/SQRT(2)),Equations!$F$36)*Equations!$D$36","v":25.153706643726458},1,{"$f":"$A23^2*$A$3*$A$7","v":0},{"$f":"$A23*$A$3*$A$7","v":0},{"$f":"$A$3*$A$7","v":0},{"$f":"$A23^2*$A$3","v":0},{"$f":"$A$3","v":1.3010299956639813},{"$f":"$A23^2/($A$7+Equations!$B$3)","v":0},{"$f":"1/($A$7+Equations!$B$3)","v":14.950556690085392},{"$f":"$A$7","v":0},{"$f":"$A23","v":0},1,{"$f":"$A$3","v":1.3010299956639813},{"$f":"$A$3*$A23","v":0},{"$f":"$A23^2","v":0},{"$f":"MMULT(K23:T23,Calcs!$A$134:$J$143)","v":27.694903765772285},-128.40371831383078,203.47052069188561,-29.941145069475979,17.123060456770069,-14.057649734066569,-0.27837840028821481,0.28149195520214887,-55.248859035615453,-31.747760247950289,{"$f":"MMULT(Y23:AH23,TRANSPOSE(K23:T23))","v":13.613941227266594},{"$f":"SQRT(IF(Calculator!$F$6=$A$84,1,0)+AI23)","v":3.689707471774232},{"$f":"MMULT(U23:X23,Calcs!$A$152:$D$155)","v":-3.9588195288357895},3.2913223627062251,-0.63666868584344538,1.8049219268439316,{"$f":"MMULT(AK23:AN23,TRANSPOSE(U23:X23))","v":0.32328959044465488},{"$f":"SQRT(IF(Calculator!$F$6=$A$84,1,0)+AO23)","v":0.56858560520352153}]
[{"$f":"A23+0.05","v":0.05},{"$f":"IF($R$88=\"N/A\",0,LOG(EXP(LN(10^E24)+H24*1000*4.184/8.31447*(1/$A$9-1/298.15))))","v":9.0946170727101023},{"$f":"IF($R$88=\"N/A\",0,LOG(EXP(LN(10^F24)+J24*1000*4.184/8.31447*(1/$A$9-1/298.15))))","v":9.3734914846100104},{"$f":"IF($R$88=\"N/A\",0,LOG(EXP(LN(10^G24)+I24*1000*4.184/8.31447*(1/$A$9-1/298.15))))","v":8.8157426608101943},{"$f":"Equations!$B$4+L24*Equations!$B$5+M24*Equations!$B$6+N24*Equations!$B$7+O24*Equations!$B$8+P24*Equations!$B$9+Q24*Equations!$B$10+R24*Equations!$B$11+S24*Equations!$B$12+T24*Equations!$B$13","v":9.0946170727101006},{"$f":"E24+AJ24*TINV(1-ERF(Calculator!$F$7/SQRT(2)),Equations!$F$16)*Equations!$D$16","v":9.3734914846100086},{"$f":"E24-AJ24*TINV(1-ERF(Calculator!$F$7/SQRT(2)),Equations!$F$16)*Equations!$D$16","v":8.8157426608101925},{"$f":"Equations!$B$33+X24*Equations!$B$30+W24*Equations!$B$31+V24*Equations!$B$32","v":25.122207767750343},{"$f":"H24+AP24*TINV(1-ERF(Calculator!$F$7/SQRT(2)),Equations!$F$36)*Equations!$D$36","v":25.610671700646421},{"$f":"H24-AP24*TINV(1-ERF(Calculator!$F$7/SQRT(2)),Equations!$F$36)*Equations!$D$36","v":24.633743834854265},1,{"$f":"$A24^2*$A$3*$A$7","v":0},{"$f":"$A24*$A$3*$A$7","v":0},{"$f":"$A$3*$A$7","v":0},{"$f":"$A24^2*$A$3","v":3.2525749891599539E-3},{"$f":"$A$3","v":1.3010299956639813},{"$f":"$A24^2/($A$7+Equations!$B$3)","v":3.7376391725213488E-2},{"$f":"1/($A$7+Equations!$B$3)","v":14.950556690085392},{"$f":"$A$7","v":0},{"$f":"$A24","v":0.05},1,{"$f":"$A$3","v":1.3010299956639813},{"$f":"$A$3*$A24","v":6.505149978319906E-2},{"$f":"$A24^2","v":2.5000000000000005E-3},{"$f":"MMULT(K24:T24,Calcs!$A$134:$J$143)","v":24.36678663857861},-113.29673088194507,177.91011892671298,-24.210282572573913,15.300558496698704,-12.622469348510045,-0.2811831499654856,0.27606109669688778,-49.770142122203715,-27.829508890645364,{"$f":"MMULT(Y24:AH24,TRANSPOSE(K24:T24))","v":10.719623630706451},{"$f":"SQRT(IF(Calculator!$F$6=$A$84,1,0)+AI24)","v":3.2740836322101563},{"$f":"MMULT(U24:X24,Calcs!$A$152:$D$155)","v":-4.4937291445532814},3.6741003688361524,-0.3137288701712182,1.5103493302839979,{"$f":"MMULT(AK24:AN24,TRANSPOSE(U24:X24))","v":0.26975298217843402},{"$f":"SQRT(IF(Calculator!$F$6=$A$84,1,0)+AO24)","v":0.51937749487095997}]
[{"$f":"A24+0.05","v":0.1},8.7396857180261946,8.9856490772637265,8.493722358788661,{"$f":"Equations!$B$4+L25*Equations!$B$5+M25*Equations!$B$6+N25*Equations!$B$7+O25*Equations!$B$8+P25*Equations!$B$9+Q25*Equations!$B$10+R25*Equations!$B$11+S25*Equations!$B$12+T25*Equations!$B$13","v":8.7396857180261929},{"$f":"E25+AJ25*TINV(1-ERF(Calculator!$F$7/SQRT(2)),Equations!$F$16)*Equations!$D$16","v":8.9856490772637265},{"$f":"E25-AJ25*TINV(1-ERF(Calculator!$F$7/SQRT(2)),Equations!$F$16)*Equations!$D$16","v":8.4937223587886592},{"$f":"Equations!$B$33+X25*Equations!$B$30+W25*Equations!$B$31+V25*Equations!$B$32","v":24.636869883084792},{"$f":"H25+AP25*TINV(1-ERF(Calculator!$F$7/SQRT(2)),Equations!$F$36)*Equations!$D$36","v":25.124954748667772},{"$f":"H25-AP25*TINV(1-ERF(Calculator!$F$7/SQRT(2)),Equations!$F$36)*Equations!$D$36","v":24.148785017501812},1,0,0,0,1.3010299956639815E-2,1.3010299956639813,{"$f":"$A25^2/($A$7+Equations!$B$3)","v":0.14950556690085395},{"$f":"1/($A$7+Equations!$B$3)","v":14.950556690085392},0,0.1,1,1.3010299956639813,0.13010299956639812,1.0000000000000002E-2,{"$f":"MMULT(K25:T25,Calcs!$A$134:$J$143)","v":21.250394419968259},-99.091912508772765,153.99194427251933,-18.913357856148117,13.574570975117231,-11.265872287366486,-0.28130626045207013,0.26936559429442058,-44.616397511681186,-24.160846770878148,{"$f":"MMULT(Y25:AH25,TRANSPOSE(K25:T25))","v":8.3387899457816612},{"$f":"SQRT(IF(Calculator!$F$6=$A$84,1,0)+AI25)","v":2.8876963042850718},{"$f":"MMULT(U25:X25,Calcs!$A$152:$D$155)","v":-5.1771835932343624},4.1779896814870288,-1.6641461431499818E-2,1.2993266781903074,{"$f":"MMULT(AK25:AN25,TRANSPOSE(U25:X25))","v":0.26933446668736183},{"$f":"SQRT(IF(Calculator!$F$6=$A$84,1,0)+AO25)","v":0.51897443741225047}]
[0.15000000000000002,8.3927104831202399,8.6082590672240329,8.1771618990164487,{"$f":"Equations!$B$4+L26*Equations!$B$5+M26*Equations!$B$6+N26*Equations!$B$7+O26*Equations!$B$8+P26*Equations!$B$9+Q26*Equations!$B$10+R26*Equations!$B$11+S26*Equations!$B$12+T26*Equations!$B$13","v":8.3927104831202399},{"$f":"E26+AJ26*TINV(1-ERF(Calculator!$F$7/SQRT(2)),Equations!$F$16)*Equations!$D$16","v":8.6082590672240311},{"$f":"E26-AJ26*TINV(1-ERF(Calculator!$F$7/SQRT(2)),Equations!$F$16)*Equations!$D$16","v":8.1771618990164487},{"$f":"Equations!$B$33+X26*Equations!$B$30+W26*Equations!$B$31+V26*Equations!$B$32","v":24.232436146005409},{"$f":"H26+AP26*TINV(1-ERF(Calculator!$F$7/SQRT(2)),Equations!$F$36)*Equations!$D$36","v":24.760867988502689},{"$f":"H26-AP26*TINV(1-ERF(Calculator!$F$7/SQRT(2)),Equations!$F$36)*Equations!$D$36","v":23.704004303508128},1,0,0,0,2.9273174902439587E-2,1.3010299956639813,{"$f":"$A26^2/($A$7+Equations!$B$3)","v":0.33638752552692142},{"$f":"1/($A$7+Equations!$B$3)","v":14.950556690085392},0,0.15000000000000002,1,1.3010299956639813,0.19515449934959722,2.2500000000000006E-2,{"$f":"MMULT(K26:T26,Calcs!$A$134:$J$143)","v":18.345727109941208},-85.789263194314032,131.71599672930461,-14.050370920198574,11.945097892025647,-9.9878585506359094,-0.2787477317479683,0.26140544799474741,-39.78762520404787,-20.74177388864863,{"$f":"MMULT(Y26:AH26,TRANSPOSE(K26:T26))","v":6.4040181092513464},{"$f":"SQRT(IF(Calculator!$F$6=$A$84,1,0)+AI26)","v":2.5306161520964308},{"$f":"MMULT(U26:X26,Calcs!$A$152:$D$155)","v":-6.0091828748790341},4.8029903006588546,0.25459354037570986,1.1718539705628603,{"$f":"MMULT(AK26:AN26,TRANSPOSE(U26:X26))","v":0.31570336440862679},{"$f":"SQRT(IF(Calculator!$F$6=$A$84,1,0)+AO26)","v":0.56187486543591425}]
[0.2,8.0536913679922471,8.2413279852862722,7.8660547506982192,{"$f":"Equations!$B$4+L27*Equations!$B$5+M27*Equations!$B$6+N27*Equations!$B$7+O27*Equations!$B$8+P27*Equations!$B$9+Q27*Equations!$B$10+R27*Equations!$B$11+S27*Equations!$B$12+T27*Equations!$B$13","v":8.0536913679922453},{"$f":"E27+AJ27*TINV(1-ERF(Calculator!$F$7/SQRT(2)),Equations!$F$16)*Equations!$D$16","v":8.2413279852862722},{"$f":"E27-AJ27*TINV(1-ERF(Calculator!$F$7/SQRT(2)),Equations!$F$16)*Equations!$D$16","v":7.8660547506982192},{"$f":"Equations!$B$33+X27*Equations!$B$30+W27*Equations!$B$31+V27*Equations!$B$32","v":23.908906556512189},{"$f":"H27+AP27*TINV(1-ERF(Calculator!$F$7/SQRT(2)),Equations!$F$36)*Equations!$D$36","v":24.507450328347314},{"$f":"H27-AP27*TINV(1-ERF(Calculator!$F$7/SQRT(2)),Equations!$F$36)*Equations!$D$36","v":23.310362784677064},1,0,0,0,5.2041199826559262E-2,1.3010299956639813,{"$f":"$A27^2/($A$7+Equations!$B$3)","v":0.59802226760341581},{"$f":"1/($A$7+Equations!$B$3)","v":14.950556690085392},0,0.2,1,1.3010299956639813,0.26020599913279624,4.0000000000000008E-2,{"$f":"MMULT(K27:T27,Calcs!$A$134:$J$143)","v":15.652784708497467},-73.388782938568681,111.08227629706886,-9.6213217647252804,10.412139247423955,-8.7884281383182916,-0.27350756385317992,0.25218065779786802,-35.283825199303735,-17.5722902439568,{"$f":"MMULT(Y27:AH27,TRANSPOSE(K27:T27))","v":4.8528558632216861},{"$f":"SQRT(IF(Calculator!$F$6=$A$84,1,0)+AI27)","v":2.2029198494774351},{"$f":"MMULT(U27:X27,Calcs!$A$152:$D$155)","v":-6.9897269894872949},5.5491022263516285,0.49997613525041035,1.127931207401657,{"$f":"MMULT(AK27:AN27,TRANSPOSE(U27:X27))","v":0.40503549411340628},{"$f":"SQRT(IF(Calculator!$F$6=$A$84,1,0)+AO27)","v":0.63642398926612298}]
[0.25,7.7226283726422134,7.8848623476591904,7.5603943976252355,{"$f":"Equations!$B$4+L28*Equations!$B$5+M28*Equations!$B$6+N28*Equations!$B$7+O28*Equations!$B$8+P28*Equations!$B$9+Q28*Equations!$B$10+R28*Equations!$B$11+S28*Equations!$B$12+T28*Equations!$B$13","v":7.7226283726422125},{"$f":"E28+AJ28*TINV(1-ERF(Calculator!$F$7/SQRT(2)),Equations!$F$16)*Equations!$D$16","v":7.8848623476591904},{"$f":"E28-AJ28*TINV(1-ERF(Calculator!$F$7/SQRT(2)),Equations!$F$16)*Equations!$D$16","v":7.5603943976252346},{"$f":"Equations!$B$33+X28*Equations!$B$30+W28*Equations!$B$31+V28*Equations!$B$32","v":23.666281114605138},{"$f":"H28+AP28*TINV(1-ERF(Calculator!$F$7/SQRT(2)),Equations!$F$36)*Equations!$D$36","v":24.354833688455557},{"$f":"H28-AP28*TINV(1-ERF(Calculator!$F$7/SQRT(2)),Equations!$F$36)*Equations!$D$36","v":22.977728540754718},1,0,0,0,8.1314374728998828E-2,1.3010299956639813,{"$f":"$A28^2/($A$7+Equations!$B$3)","v":0.93440979313033701},{"$f":"1/($A$7+Equations!$B$3)","v":14.950556690085392},0,0.25,1,1.3010299956639813,0.32525749891599531,6.25E-2,{"$f":"MMULT(K28:T28,Calcs!$A$134:$J$143)","v":13.17156721563704},-61.890471741536899,92.090782975812004,-5.6262103897282536,8.9756950413121483,-7.6675810504136575,-0.26558575676770524,0.24169122370378254,-31.104997497448824,-14.652395836802672,{"$f":"MMULT(Y28:AH28,TRANSPOSE(K28:T28))","v":3.6278207551457751},{"$f":"SQRT(IF(Calculator!$F$6=$A$84,1,0)+AI28)","v":1.9046838990094328},{"$f":"MMULT(U28:X28,Calcs!$A$152:$D$155)","v":-8.1188159370591446},6.4163254585653524,0.71950632319260222,1.1675583887066965,{"$f":"MMULT(AK28:AN28,TRANSPOSE(U28:X28))","v":0.53601317290686612},{"$f":"SQRT(IF(Calculator!$F$6=$A$84,1,0)+AO28)","v":0.73212920506346835}]
[0.3,7.3995214970701353,7.5388674694573981,7.2601755246828708,{"$f":"Equations!$B$4+L29*Equations!$B$5+M29*Equations!$B$6+N29*Equations!$B$7+O29*Equations!$B$8+P29*Equations!$B$9+Q29*Equations!$B$10+R29*Equations!$B$11+S29*Equations!$B$12+T29*Equations!$B$13","v":7.3995214970701344},{"$f":"E29+AJ29*TINV(1-ERF(Calculator!$F$7/SQRT(2)),Equations!$F$16)*Equations!$D$16","v":7.5388674694573981},{"$f":"E29-AJ29*TINV(1-ERF(Calculator!$F$7/SQRT(2)),Equations!$F$16)*Equations!$D$16","v":7.2601755246828708},{"$f":"Equations!$B$33+X29*Equations!$B$30+W29*Equations!$B$31+V29*Equations!$B$32","v":23.50455982028425},{"$f":"H29+AP29*TINV(1-ERF(Calculator!$F$7/SQRT(2)),Equations!$F$36)*Equations!$D$36","v":24.296924459884728},{"$f":"H29-AP29*TINV(1-ERF(Calculator!$F$7/SQRT(2)),Equations!$F$36)*Equations!$D$36","v":22.712195180683771},1,0,0,0,0.11709269960975831,1.3010299956639813,{"$f":"$A29^2/($A$7+Equations!$B$3)","v":1.3455501021076852},{"$f":"1/($A$7+Equations!$B$3)","v":14.950556690085392},0,0.3,1,1.3010299956639813,0.39030899869919439,0.09,{"$f":"MMULT(K29:T29,Calcs!$A$134:$J$143)","v":10.902074631359909},-51.294329603218586,74.741516765534072,-2.0650367952074973,7.6357652736902306,-6.625317286921991,-0.25498231049154407,0.22993714571249102,-27.251142098483115,-11.982090667186263,{"$f":"MMULT(Y29:AH29,TRANSPOSE(K29:T29))","v":2.6764001378237174},{"$f":"SQRT(IF(Calculator!$F$6=$A$84,1,0)+AI29)","v":1.6359707020065235},{"$f":"MMULT(U29:X29,Calcs!$A$152:$D$155)","v":-9.3964497175945851},7.4046599973000253,0.91318410420228557,1.2907355144779795,{"$f":"MMULT(AK29:AN29,TRANSPOSE(U29:X29))","v":0.70982521622815586},{"$f":"SQRT(IF(Calculator!$F$6=$A$84,1,0)+AO29)","v":0.84251125584656483}]
[0.35,7.0843707412760155,7.2033450605292897,6.9653964220227396,{"$f":"Equations!$B$4+L30*Equations!$B$5+M30*Equations!$B$6+N30*Equations!$B$7+O30*Equations!$B$8+P30*Equations!$B$9+Q30*Equations!$B$10+R30*Equations!$B$11+S30*Equations!$B$12+T30*Equations!$B$13","v":7.0843707412760146},{"$f":"E30+AJ30*TINV(1-ERF(Calculator!$F$7/SQRT(2)),Equations!$F$16)*Equations!$D$16","v":7.2033450605292897},{"$f":"E30-AJ30*TINV(1-ERF(Calculator!$F$7/SQRT(2)),Equations!$F$16)*Equations!$D$16","v":6.9653964220227396},{"$f":"Equations!$B$33+X30*Equations!$B$30+W30*Equations!$B$31+V30*Equations!$B$32","v":23.423742673549526},{"$f":"H30+AP30*TINV(1-ERF(Calculator!$F$7/SQRT(2)),Equations!$F$36)*Equations!$D$36","v":24.330789741841812},{"$f":"H30-AP30*TINV(1-ERF(Calculator!$F$7/SQRT(2)),Equations!$F$36)*Equations!$D$36","v":22.51669560525724},1,0,0,0,0.15937617446883767,1.3010299956639813,{"$f":"$A30^2/($A$7+Equations!$B$3)","v":1.8314431945354603},{"$f":"1/($A$7+Equations!$B$3)","v":14.950556690085392},0,0.35,1,1.3010299956639813,0.45536049848239341,0.12249999999999998,{"$f":"MMULT(K30:T30,Calcs!$A$134:$J$143)","v":8.8443069556661058},-41.600356523613684,59.034477666235119,1.0621990188370276,6.3923499445582053,-5.6616368478432975,-0.24169722502469654,0.21691842382399354,-23.722259002406588,-9.5613747351075453,{"$f":"MMULT(Y30:AH30,TRANSPOSE(K30:T30))","v":1.9510511694026365},{"$f":"SQRT(IF(Calculator!$F$6=$A$84,1,0)+AI30)","v":1.3968003326899077},{"$f":"MMULT(U30:X30,Calcs!$A$152:$D$155)","v":-10.822628331093616},8.5141058425556473,1.0810094782794595,1.4974625847155063,{"$f":"MMULT(AK30:AN30,TRANSPOSE(U30:X30))","v":0.93016693785041071},{"$f":"SQRT(IF(Calculator!$F$6=$A$84,1,0)+AO30)","v":0.96445162545895002}]
[0.39999999999999997,6.7771761052598496,6.8782887200163616,6.6760634905033394,{"$f":"Equations!$B$4+L31*Equations!$B$5+M31*Equations!$B$6+N31*Equations!$B$7+O31*Equations!$B$8+P31*Equations!$B$9+Q31*Equations!$B$10+R31*Equations!$B$11+S31*Equations!$B$12+T31*Equations!$B$13","v":6.7771761052598496},{"$f":"E31+AJ31*TINV(1-ERF(Calculator!$F$7/SQRT(2)),Equations!$F$16)*Equations!$D$16","v":6.8782887200163607},{"$f":"E31-AJ31*TINV(1-ERF(Calculator!$F$7/SQRT(2)),Equations!$F$16)*Equations!$D$16","v":6.6760634905033385},{"$f":"Equations!$B$33+X31*Equations!$B$30+W31*Equations!$B$31+V31*Equations!$B$32","v":23.42382967440097},{"$f":"H31+AP31*TINV(1-ERF(Calculator!$F$7/SQRT(2)),Equations!$F$36)*Equations!$D$36","v":24.455463401703692},{"$f":"H31-AP31*TINV(1-ERF(Calculator!$F$7/SQRT(2)),Equations!$F$36)*Equations!$D$36","v":22.392195947098248},1,0,0,0,0.20816479930623696,1.3010299956639813,{"$f":"$A31^2/($A$7+Equations!$B$3)","v":2.3920890704136624},{"$f":"1/($A$7+Equations!$B$3)","v":14.950556690085392},0,0.39999999999999997,1,1.3010299956639813,0.52041199826559248,0.15999999999999998,{"$f":"MMULT(K31:T31,Calcs!$A$134:$J$143)","v":6.9982641885556056},-32.808552502722321,44.96966567791506,3.7554970524052678,5.2454490539160759,-4.7765397331775805,-0.22573050036716269,0.20263505803828979,-20.518348209219269,-7.3902480405665329,{"$f":"MMULT(Y31:AH31,TRANSPOSE(K31:T31))","v":1.4092008133765606},{"$f":"SQRT(IF(Calculator!$F$6=$A$84,1,0)+AI31)","v":1.1870976427306057},{"$f":"MMULT(U31:X31,Calcs!$A$152:$D$155)","v":-12.397351777556237},9.7446629943322165,1.2229824454241247,1.7877395994192762,{"$f":"MMULT(AK31:AN31,TRANSPOSE(U31:X31))","v":1.203240149880759},{"$f":"SQRT(IF(Calculator!$F$6=$A$84,1,0)+AO31)","v":1.0969230373552918}]
[0.44999999999999996,6.4779375890216464,6.5636761742835388,6.3921990037597558,{"$f":"Equations!$B$4+L32*Equations!$B$5+M32*Equations!$B$6+N32*Equations!$B$7+O32*Equations!$B$8+P32*Equations!$B$9+Q32*Equations!$B$10+R32*Equations!$B$11+S32*Equations!$B$12+T32*Equations!$B$13","v":6.4779375890216464},{"$f":"E32+AJ32*TINV(1-ERF(Calculator!$F$7/SQRT(2)),Equations!$F$16)*Equations!$D$16","v":6.5636761742835379},{"$f":"E32-AJ32*TINV(1-ERF(Calculator!$F$7/SQRT(2)),Equations!$F$16)*Equations!$D$16","v":6.3921990037597549},{"$f":"Equations!$B$33+X32*Equations!$B$30+W32*Equations!$B$31+V32*Equations!$B$32","v":23.504820822838575},{"$f":"H32+AP32*TINV(1-ERF(Calculator!$F$7/SQRT(2)),Equations!$F$36)*Equations!$D$36","v":24.671073594959896},{"$f":"H32-AP32*TINV(1-ERF(Calculator!$F$7/SQRT(2)),Equations!$F$36)*Equations!$D$36","v":22.338568050717253},1,0,0,0,0.26345857412195617,1.3010299956639813,{"$f":"$A32^2/($A$7+Equations!$B$3)","v":3.0274877297422913},{"$f":"1/($A$7+Equations!$B$3)","v":14.950556690085392},0,0.44999999999999996,1,1.3010299956639813,0.5854634980487915,0.20249999999999996,{"$f":"MMULT(K32:T32,Calcs!$A$134:$J$143)","v":5.3639463300284227},-24.91891754054447,32.54708080057398,6.0148573054972871,4.1950626017638335,-3.9700259429248259,-0.20708213651894231,0.18708704835538015,-17.639409718921144,-5.4687105835632224,{"$f":"MMULT(Y32:AH32,TRANSPOSE(K32:T32))","v":1.0132458385865788},{"$f":"SQRT(IF(Calculator!$F$6=$A$84,1,0)+AI32)","v":1.0066011318226196},{"$f":"MMULT(U32:X32,Calcs!$A$152:$D$155)","v":-14.120620056982446},11.096331452629737,1.3391030056362809,2.1615665585892891,{"$f":"MMULT(AK32:AN32,TRANSPOSE(U32:X32))","v":1.5377531627603183},{"$f":"SQRT(IF(Calculator!$F$6=$A$84,1,0)+AO32)","v":1.240061757639642}]
[0.49999999999999994,6.186655192561398,6.2594574270698056,6.1138529580529912,{"$f":"Equations!$B$4+L33*Equations!$B$5+M33*Equations!$B$6+N33*Equations!$B$7+O33*Equations!$B$8+P33*Equations!$B$9+Q33*Equations!$B$10+R33*Equations!$B$11+S33*Equations!$B$12+T33*Equations!$B$13","v":6.186655192561398},{"$f":"E33+AJ33*TINV(1-ERF(Calculator!$F$7/SQRT(2)),Equations!$F$16)*Equations!$D$16","v":6.2594574270698047},{"$f":"E33-AJ33*TINV(1-ERF(Calculator!$F$7/SQRT(2)),Equations!$F$16)*Equations!$D$16","v":6.1138529580529912},{"$f":"Equations!$B$33+X33*Equations!$B$30+W33*Equations!$B$31+V33*Equations!$B$32","v":23.666716118862347},{"$f":"H33+AP33*TINV(1-ERF(Calculator!$F$7/SQRT(2)),Equations!$F$36)*Equations!$D$36","v":24.978312873510887},{"$f":"H33-AP33*TINV(1-ERF(Calculator!$F$7/SQRT(2)),Equations!$F$36)*Equations!$D$36","v":22.355119364213806},1,0,0,0,0.32525749891599526,1.3010299956639813,{"$f":"$A33^2/($A$7+Equations!$B$3)","v":3.7376391725213476},{"$f":"1/($A$7+Equations!$B$3)","v":14.950556690085392},0,0.49999999999999994,1,1.3010299956639813,0.65051499783199052,0.24999999999999994,{"$f":"MMULT(K33:T33,Calcs!$A$134:$J$143)","v":3.9413533800845428},-17.931451637080045,21.766723034211907,7.8402797781130289,3.2411905881014818,-3.2420954770850532,-0.18575213348003564,0.17027439477526443,-15.08544353151224,-3.79676236409761,{"$f":"MMULT(Y33:AH33,TRANSPOSE(K33:T33))","v":0.73055281922068516},{"$f":"SQRT(IF(Calculator!$F$6=$A$84,1,0)+AI33)","v":0.85472382628582733},{"$f":"MMULT(U33:X33,Calcs!$A$152:$D$155)","v":-15.992433169372244},12.569111217448206,1.4293711589159286,2.6189434622255461,{"$f":"MMULT(AK33:AN33,TRANSPOSE(U33:X33))","v":1.9449207852641848},{"$f":"SQRT(IF(Calculator!$F$6=$A$84,1,0)+AO33)","v":1.3946041679502412}]
[0.54999999999999993,5.9033289158791078,5.9655401862456312,5.8411176455125835,{"$f":"Equations!$B$4+L34*Equations!$B$5+M34*Equations!$B$6+N34*Equations!$B$7+O34*Equations!$B$8+P34*Equations!$B$9+Q34*Equations!$B$10+R34*Equations!$B$11+S34*Equations!$B$12+T34*Equations!$B$13","v":5.9033289158791069},{"$f":"E34+AJ34*TINV(1-ERF(Calculator!$F$7/SQRT(2)),Equations!$F$16)*Equations!$D$16","v":5.9655401862456312},{"$f":"E34-AJ34*TINV(1-ERF(Calculator!$F$7/SQRT(2)),Equations!$F$16)*Equations!$D$16","v":5.8411176455125826},{"$f":"Equations!$B$33+X34*Equations!$B$30+W34*Equations!$B$31+V34*Equations!$B$32","v":23.90951556247229},{"$f":"H34+AP34*TINV(1-ERF(Calculator!$F$7/SQRT(2)),Equations!$F$36)*Equations!$D$36","v":25.378129270668687},{"$f":"H34-AP34*TINV(1-ERF(Calculator!$F$7/SQRT(2)),Equations!$F$36)*Equations!$D$36","v":22.440901854275893},1,0,0,0,0.39356157368835426,1.3010299956639813,{"$f":"$A34^2/($A$7+Equations!$B$3)","v":4.5225433987508303},{"$f":"1/($A$7+Equations!$B$3)","v":14.950556690085392},0,0.54999999999999993,1,1.3010299956639813,0.71556649761518965,0.30249999999999994,{"$f":"MMULT(K34:T34,Calcs!$A$134:$J$143)","v":2.7304853387239731},-11.846154792329116,12.628592378828671,9.2317644702525001,2.38383301292901,-2.5927483356582393,-0.16174049125044265,0.15219709729794245,-12.85644964699253,-2.374403382169703,{"$f":"MMULT(Y34:AH34,TRANSPOSE(K34:T34))","v":0.53345813481392024},{"$f":"SQRT(IF(Calculator!$F$6=$A$84,1,0)+AI34)","v":0.73038218407483091},{"$f":"MMULT(U34:X34,Calcs!$A$152:$D$155)","v":-18.012791114725637},14.163002288787625,1.4937869052630679,3.1598703103280457,{"$f":"MMULT(AK34:AN34,TRANSPOSE(U34:X34))","v":2.4384643245014441},{"$f":"SQRT(IF(Calculator!$F$6=$A$84,1,0)+AO34)","v":1.5615583000648563}]
[0.6,5.6279587589747768,5.6817796811454988,5.5741378368040548,{"$f":"Equations!$B$4+L35*Equations!$B$5+M35*Equations!$B$6+N35*Equations!$B$7+O35*Equations!$B$8+P35*Equations!$B$9+Q35*Equations!$B$10+R35*Equations!$B$11+S35*Equations!$B$12+T35*Equations!$B$13","v":5.6279587589747768},{"$f":"E35+AJ35*TINV(1-ERF(Calculator!$F$7/SQRT(2)),Equations!$F$16)*Equations!$D$16","v":5.6817796811454988},{"$f":"E35-AJ35*TINV(1-ERF(Calculator!$F$7/SQRT(2)),Equations!$F$16)*Equations!$D$16","v":5.5741378368040548},{"$f":"Equations!$B$33+X35*Equations!$B$30+W35*Equations!$B$31+V35*Equations!$B$32","v":24.23321915366839},{"$f":"H35+AP35*TINV(1-ERF(Calculator!$F$7/SQRT(2)),Equations!$F$36)*Equations!$D$36","v":25.871547443062134},{"$f":"H35-AP35*TINV(1-ERF(Calculator!$F$7/SQRT(2)),Equations!$F$36)*Equations!$D$36","v":22.594890864274646},1,0,0,0,0.46837079843903323,1.3010299956639813,{"$f":"$A35^2/($A$7+Equations!$B$3)","v":5.3822004084307409},{"$f":"1/($A$7+Equations!$B$3)","v":14.950556690085392},0,0.6,1,1.3010299956639813,0.78061799739838877,0.36,{"$f":"MMULT(K35:T35,Calcs!$A$134:$J$143)","v":1.7313422059467101},-6.6630270062916566,5.1326888344243002,10.189311381915743,1.6229898762464394,-2.0219845186444125,-0.13504720983016311,0.13285515592341454,-10.952428065362014,-1.2016336377794872,{"$f":"MMULT(Y35:AH35,TRANSPOSE(K35:T35))","v":0.39926797024826066},{"$f":"SQRT(IF(Calculator!$F$6=$A$84,1,0)+AI35)","v":0.63187654668317972},{"$f":"MMULT(U35:X35,Calcs!$A$152:$D$155)","v":-20.18169389304262},15.878004666647994,1.5323502446776982,3.7843471028967901,{"$f":"MMULT(AK35:AN35,TRANSPOSE(U35:X35))","v":3.0346115859151754},{"$f":"SQRT(IF(Calculator!$F$6=$A$84,1,0)+AO35)","v":1.7420136583606844}]
[0.65,5.3605447218484024,5.4079886472117433,5.3131007964850623,{"$f":"Equations!$B$4+L36*Equations!$B$5+M36*Equations!$B$6+N36*Equations!$B$7+O36*Equations!$B$8+P36*Equations!$B$9+Q36*Equations!$B$10+R36*Equations!$B$11+S36*Equations!$B$12+T36*Equations!$B$13","v":5.3605447218484024},{"$f":"E36+AJ36*TINV(1-ERF(Calculator!$F$7/SQRT(2)),Equations!$F$16)*Equations!$D$16","v":5.4079886472117433},{"$f":"E36-AJ36*TINV(1-ERF(Calculator!$F$7/SQRT(2)),Equations!$F$16)*Equations!$D$16","v":5.3131007964850614},{"$f":"Equations!$B$33+X36*Equations!$B$30+W36*Equations!$B$31+V36*Equations!$B$32","v":24.637826892450661},{"$f":"H36+AP36*TINV(1-ERF(Calculator!$F$7/SQRT(2)),Equations!$F$36)*Equations!$D$36","v":26.459566899440233},{"$f":"H36-AP36*TINV(1-ERF(Calculator!$F$7/SQRT(2)),Equations!$F$36)*Equations!$D$36","v":22.81608688546109},1,0,0,0,0.54968517316803212,1.3010299956639813,{"$f":"$A36^2/($A$7+Equations!$B$3)","v":6.3166102015610788},{"$f":"1/($A$7+Equations!$B$3)","v":14.950556690085392},0,0.65,1,1.3010299956639813,0.84566949718158779,0.42250000000000004,{"$f":"MMULT(K36:T36,Calcs!$A$134:$J$143)","v":0.94392398175276071},-2.3820682789676653,-0.72098759900109144,10.712920513102702,0.95866117805375239,-1.5298040260435464,-0.10567228921919727,0.11224857065168037,-9.3733787866207052,-0.27845313092697666,{"$f":"MMULT(Y36:AH36,TRANSPOSE(K36:T36))","v":0.31025831575270457},{"$f":"SQRT(IF(Calculator!$F$6=$A$84,1,0)+AI36)","v":0.55700836237232976},{"$f":"MMULT(U36:X36,Calcs!$A$152:$D$155)","v":-22.499141504323191},17.714118351029313,1.5450611771598184,4.4923738399317781,{"$f":"MMULT(AK36:AN36,TRANSPOSE(U36:X36))","v":3.7520968732824391},{"$f":"SQRT(IF(Calculator!$F$6=$A$84,1,0)+AO36)","v":1.9370330077937339}]
[0.70000000000000007,5.1010868044999853,5.143986845270776,5.0581867637291937,{"$f":"Equations!$B$4+L37*Equations!$B$5+M37*Equations!$B$6+N37*Equations!$B$7+O37*Equations!$B$8+P37*Equations!$B$9+Q37*Equations!$B$10+R37*Equations!$B$11+S37*Equations!$B$12+T37*Equations!$B$13","v":5.1010868044999844},{"$f":"E37+AJ37*TINV(1-ERF(Calculator!$F$7/SQRT(2)),Equations!$F$16)*Equations!$D$16","v":5.1439868452707751},{"$f":"E37-AJ37*TINV(1-ERF(Calculator!$F$7/SQRT(2)),Equations!$F$16)*Equations!$D$16","v":5.0581867637291937},{"$f":"Equations!$B$33+X37*Equations!$B$30+W37*Equations!$B$31+V37*Equations!$B$32","v":25.123338778819097},{"$f":"H37+AP37*TINV(1-ERF(Calculator!$F$7/SQRT(2)),Equations!$F$36)*Equations!$D$36","v":27.143107320146314},{"$f":"H37-AP37*TINV(1-ERF(Calculator!$F$7/SQRT(2)),Equations!$F$36)*Equations!$D$36","v":23.10357023749188},1,0,0,0,0.63750469787535091,1.3010299956639813,{"$f":"$A37^2/($A$7+Equations!$B$3)","v":7.325772778141844},{"$f":"1/($A$7+Equations!$B$3)","v":14.950556690085392},0,0.70000000000000007,1,1.3010299956639813,0.91072099696478692,0.4900000000000001,{"$f":"MMULT(K37:T37,Calcs!$A$134:$J$143)","v":0.36823066614210376},0.99672138964280066,-4.9324369214474473,10.802591863813404,0.39084691835094887,-1.1162068578556585,-7.3615729417544892E-2,9.0377341482740056E-2,-8.1193018107685617,0.39513813838783562,{"$f":"MMULT(Y37:AH37,TRANSPOSE(K37:T37))","v":0.25367496690317431},{"$f":"SQRT(IF(Calculator!$F$6=$A$84,1,0)+AI37)","v":0.50366155988240191},{"$f":"MMULT(U37:X37,Calcs!$A$152:$D$155)","v":-24.965133948567352},19.671343341931582,1.5319197027094309,5.2839505214330096,{"$f":"MMULT(AK37:AN37,TRANSPOSE(U37:X37))","v":4.6121609887142876},{"$f":"SQRT(IF(Calculator!$F$6=$A$84,1,0)+AO37)","v":2.1475942327903303}]
[0.75000000000000011,4.8495850069295292,4.8896933368780315,4.8094766769810269,{"$f":"Equations!$B$4+L38*Equations!$B$5+M38*Equations!$B$6+N38*Equations!$B$7+O38*Equations!$B$8+P38*Equations!$B$9+Q38*Equations!$B$10+R38*Equations!$B$11+S38*Equations!$B$12+T38*Equations!$B$13","v":4.8495850069295292},{"$f":"E38+AJ38*TINV(1-ERF(Calculator!$F$7/SQRT(2)),Equations!$F$16)*Equations!$D$16","v":4.8896933368780315},{"$f":"E38-AJ38*TINV(1-ERF(Calculator!$F$7/SQRT(2)),Equations!$F$16)*Equations!$D$16","v":4.8094766769810269},{"$f":"Equations!$B$33+X38*Equations!$B$30+W38*Equations!$B$31+V38*Equations!$B$32","v":25.689754812773693},{"$f":"H38+AP38*TINV(1-ERF(Calculator!$F$7/SQRT(2)),Equations!$F$36)*Equations!$D$36","v":27.922983201806638},{"$f":"H38-AP38*TINV(1-ERF(Calculator!$F$7/SQRT(2)),Equations!$F$36)*Equations!$D$36","v":23.456526423740748},1,0,0,0,0.73182937256098979,1.3010299956639813,{"$f":"$A38^2/($A$7+Equations!$B$3)","v":8.4096881381730366},{"$f":"1/($A$7+Equations!$B$3)","v":14.950556690085392},0,0.75000000000000011,1,1.3010299956639813,0.97577249674798605,0.56250000000000022,{"$f":"MMULT(K38:T38,Calcs!$A$134:$J$143)","v":4.2622591147818412E-3},3.4733419995397981,-7.5016591329149378,10.458325434047893,-8.0452902861949838E-2,-0.78119301408074193,-3.8877530425206204E-2,6.7241468416594022E-2,-7.1901971378056686,0.81914017016492835,{"$f":"MMULT(Y38:AH38,TRANSPOSE(K38:T38))","v":0.22173352462266449},{"$f":"SQRT(IF(Calculator!$F$6=$A$84,1,0)+AI38)","v":0.47088589342075698},{"$f":"MMULT(U38:X38,Calcs!$A$152:$D$155)","v":-27.579671225775108},21.749679639354799,1.4929258213265335,6.1590771474004855,{"$f":"MMULT(AK38:AN38,TRANSPOSE(U38:X38))","v":5.6385512326557521},{"$f":"SQRT(IF(Calculator!$F$6=$A$84,1,0)+AO38)","v":2.3745633772665982}]
[0.80000000000000016,4.6060393291370252,4.6452222343105554,4.5668564239634941,{"$f":"Equations!$B$4+L39*Equations!$B$5+M39*Equations!$B$6+N39*Equations!$B$7+O39*Equations!$B$8+P39*Equations!$B$9+Q39*Equations!$B$10+R39*Equations!$B$11+S39*Equations!$B$12+T39*Equations!$B$13","v":4.6060393291370243},{"$f":"E39+AJ39*TINV(1-ERF(Calculator!$F$7/SQRT(2)),Equations!$F$16)*Equations!$D$16","v":4.6452222343105554},{"$f":"E39-AJ39*TINV(1-ERF(Calculator!$F$7/SQRT(2)),Equations!$F$16)*Equations!$D$16","v":4.5668564239634932},{"$f":"Equations!$B$33+X39*Equations!$B$30+W39*Equations!$B$31+V39*Equations!$B$32","v":26.33707499431446},{"$f":"H39+AP39*TINV(1-ERF(Calculator!$F$7/SQRT(2)),Equations!$F$36)*Equations!$D$36","v":28.799896631784282},{"$f":"H39-AP39*TINV(1-ERF(Calculator!$F$7/SQRT(2)),Equations!$F$36)*Equations!$D$36","v":23.874253356844637},1,0,0,0,0.8326591972249483,1.3010299956639813,{"$f":"$A39^2/($A$7+Equations!$B$3)","v":9.5683562816546548},{"$f":"1/($A$7+Equations!$B$3)","v":14.950556690085392},0,0.80000000000000016,1,1.3010299956639813,1.0408239965311852,0.64000000000000024,{"$f":"MMULT(K39:T39,Calcs!$A$134:$J$143)","v":-0.14798123932924767},5.0477935507233838,-8.4286542334033925,9.6801212238060685,-0.45523828558496149,-0.5247624947188001,-1.4576922421812022E-3,4.2840951453241724E-2,-6.5860647677319548,0.99355296440432994,{"$f":"MMULT(Y39:AH39,TRANSPOSE(K39:T39))","v":0.21161939518105322},{"$f":"SQRT(IF(Calculator!$F$6=$A$84,1,0)+AI39)","v":0.46002108123547253},{"$f":"MMULT(U39:X39,Calcs!$A$152:$D$155)","v":-30.342753335946448},23.949127243298964,1.4280795330111284,7.1177537178342014,{"$f":"MMULT(AK39:AN39,TRANSPOSE(U39:X39))","v":6.8575214038858601},{"$f":"SQRT(IF(Calculator!$F$6=$A$84,1,0)+AO39)","v":2.618686961797049}]
[0.8500000000000002,4.3704497711224812,4.4108962215460075,4.3300033206989568,{"$f":"Equations!$B$4+L40*Equations!$B$5+M40*Equations!$B$6+N40*Equations!$B$7+O40*Equations!$B$8+P40*Equations!$B$9+Q40*Equations!$B$10+R40*Equations!$B$11+S40*Equations!$B$12+T40*Equations!$B$13","v":4.3704497711224812},{"$f":"E40+AJ40*TINV(1-ERF(Calculator!$F$7/SQRT(2)),Equations!$F$16)*Equations!$D$16","v":4.4108962215460066},{"$f":"E40-AJ40*TINV(1-ERF(Calculator!$F$7/SQRT(2)),Equations!$F$16)*Equations!$D$16","v":4.3300033206989559},{"$f":"Equations!$B$33+X40*Equations!$B$30+W40*Equations!$B$31+V40*Equations!$B$32","v":27.065299323441391},{"$f":"H40+AP40*TINV(1-ERF(Calculator!$F$7/SQRT(2)),Equations!$F$36)*Equations!$D$36","v":29.774440818079075},{"$f":"H40-AP40*TINV(1-ERF(Calculator!$F$7/SQRT(2)),Equations!$F$36)*Equations!$D$36","v":24.356157828803706},1,0,0,0,0.93999417186722689,1.3010299956639813,{"$f":"$A40^2/($A$7+Equations!$B$3)","v":10.801777208586701},{"$f":"1/($A$7+Equations!$B$3)","v":14.950556690085392},0,0.8500000000000002,1,1.3010299956639813,1.1058754963143844,0.72250000000000036,{"$f":"MMULT(K40:T40,Calcs!$A$134:$J$143)","v":-8.8499829189942147E-2},5.7200760431933872,-7.7134222229130387,8.4679792330880161,-0.73350922981808608,-0.34691529976982238,3.8643785131530564E-2,1.7175790592683274E-2,-6.3069047005474914,0.91837652110602619,{"$f":"MMULT(Y40:AH40,TRANSPOSE(K40:T40))","v":0.22548779019529552},{"$f":"SQRT(IF(Calculator!$F$6=$A$84,1,0)+AI40)","v":0.47485554666160901},{"$f":"MMULT(U40:X40,Calcs!$A$152:$D$155)","v":-33.254380279081381},26.269686153764081,1.3373808377632148,8.1599802327341635,{"$f":"MMULT(AK40:AN40,TRANSPOSE(U40:X40))","v":8.2978317995176241},{"$f":"SQRT(IF(Calculator!$F$6=$A$84,1,0)+AO40)","v":2.8805957369123534}]
[0.90000000000000024,4.1428163328858956,4.1871132408673404,4.0985194249044516,{"$f":"Equations!$B$4+L41*Equations!$B$5+M41*Equations!$B$6+N41*Equations!$B$7+O41*Equations!$B$8+P41*Equations!$B$9+Q41*Equations!$B$10+R41*Equations!$B$11+S41*Equations!$B$12+T41*Equations!$B$13","v":4.1428163328858956},{"$f":"E41+AJ41*TINV(1-ERF(Calculator!$F$7/SQRT(2)),Equations!$F$16)*Equations!$D$16","v":4.1871132408673395},{"$f":"E41-AJ41*TINV(1-ERF(Calculator!$F$7/SQRT(2)),Equations!$F$16)*Equations!$D$16","v":4.0985194249044516},{"$f":"Equations!$B$33+X41*Equations!$B$30+W41*Equations!$B$31+V41*Equations!$B$32","v":27.874427800154486},{"$f":"H41+AP41*TINV(1-ERF(Calculator!$F$7/SQRT(2)),Equations!$F$36)*Equations!$D$36","v":30.847109457540768},{"$f":"H41-AP41*TINV(1-ERF(Calculator!$F$7/SQRT(2)),Equations!$F$36)*Equations!$D$36","v":24.901746142768204},1,0,0,0,1.0538342964878253,1.3010299956639813,{"$f":"$A41^2/($A$7+Equations!$B$3)","v":12.109950918969174},{"$f":"1/($A$7+Equations!$B$3)","v":14.950556690085392},0,0.90000000000000024,1,1.3010299956639813,1.1709269960975834,0.81000000000000039,{"$f":"MMULT(K41:T41,Calcs!$A$134:$J$143)","v":0.18270648953265578},5.4901894769499791,-5.3559631014435922,6.8218994618936932,-0.91526573556132718,-0.247651429233823,8.1426901695928422E-2,-9.7540141650814399E-3,-6.3527169362521789,0.5936108402700313,{"$f":"MMULT(Y41:AH41,TRANSPOSE(K41:T41))","v":0.27046372662921625},{"$f":"SQRT(IF(Calculator!$F$6=$A$84,1,0)+AI41)","v":0.52006127199515273},{"$f":"MMULT(U41:X41,Calcs!$A$152:$D$155)","v":-36.314552055179902},28.711356370750146,1.2208297355827913,9.2857566921003674,{"$f":"MMULT(AK41:AN41,TRANSPOSE(U41:X41))","v":9.990749214998047},{"$f":"SQRT(IF(Calculator!$F$6=$A$84,1,0)+AO41)","v":3.160814644201404}]
[0.95000000000000029,3.923139014427266,3.9741483291176496,3.8721296997368819,{"$f":"Equations!$B$4+L42*Equations!$B$5+M42*Equations!$B$6+N42*Equations!$B$7+O42*Equations!$B$8+P42*Equations!$B$9+Q42*Equations!$B$10+R42*Equations!$B$11+S42*Equations!$B$12+T42*Equations!$B$13","v":3.9231390144272655},{"$f":"E42+AJ42*TINV(1-ERF(Calculator!$F$7/SQRT(2)),Equations!$F$16)*Equations!$D$16","v":3.9741483291176491},{"$f":"E42-AJ42*TINV(1-ERF(Calculator!$F$7/SQRT(2)),Equations!$F$16)*Equations!$D$16","v":3.8721296997368819},{"$f":"Equations!$B$33+X42*Equations!$B$30+W42*Equations!$B$31+V42*Equations!$B$32","v":28.764460424453748},{"$f":"H42+AP42*TINV(1-ERF(Calculator!$F$7/SQRT(2)),Equations!$F$36)*Equations!$D$36","v":32.018308723567323},{"$f":"H42-AP42*TINV(1-ERF(Calculator!$F$7/SQRT(2)),Equations!$F$36)*Equations!$D$36","v":25.510612125340174},1,0,0,0,1.1741795710867438,1.3010299956639813,{"$f":"$A42^2/($A$7+Equations!$B$3)","v":13.492877412802075},{"$f":"1/($A$7+Equations!$B$3)","v":14.950556690085392},0,0.95000000000000029,1,1.3010299956639813,1.2359784958807825,0.90250000000000052,{"$f":"MMULT(K42:T42,Calcs!$A$134:$J$143)","v":0.66563771683856032},4.3581338519930455,-1.3562768689953373,4.741881910223114,-1.0005078028146528,-0.22697088311079128,0.1268916574510128,-3.7948462820051737E-2,-6.7235014748460884,1.9255921896331074E-2,{"$f":"MMULT(Y42:AH42,TRANSPOSE(K42:T42))","v":0.35864202679375023},{"$f":"SQRT(IF(Calculator!$F$6=$A$84,1,0)+AI42)","v":0.59886728646149157},{"$f":"MMULT(U42:X42,Calcs!$A$152:$D$155)","v":-39.523268664242018},31.274137894257159,1.0784262264698583,10.49508309593282,{"$f":"MMULT(AK42:AN42,TRANSPOSE(U42:X42))","v":11.970046944108105},{"$f":"SQRT(IF(Calculator!$F$6=$A$84,1,0)+AO42)","v":3.4597755626786117}]
[1.0000000000000002,3.7114178157465969,3.7720719311835627,3.6507637003096312,{"$f":"Equations!$B$4+L43*Equations!$B$5+M43*Equations!$B$6+N43*Equations!$B$7+O43*Equations!$B$8+P43*Equations!$B$9+Q43*Equations!$B$10+R43*Equations!$B$11+S43*Equations!$B$12+T43*Equations!$B$13","v":3.7114178157465965},{"$f":"E43+AJ43*TINV(1-ERF(Calculator!$F$7/SQRT(2)),Equations!$F$16)*Equations!$D$16","v":3.7720719311835622},{"$f":"E43-AJ43*TINV(1-ERF(Calculator!$F$7/SQRT(2)),Equations!$F$16)*Equations!$D$16","v":3.6507637003096307},{"$f":"Equations!$B$33+X43*Equations!$B$30+W43*Equations!$B$31+V43*Equations!$B$32","v":29.735397196339171},{"$f":"H43+AP43*TINV(1-ERF(Calculator!$F$7/SQRT(2)),Equations!$F$36)*Equations!$D$36","v":33.288369857917786},{"$f":"H43-AP43*TINV(1-ERF(Calculator!$F$7/SQRT(2)),Equations!$F$36)*Equations!$D$36","v":26.18242453476056},1,0,0,0,1.3010299956639819,1.3010299956639813,{"$f":"$A43^2/($A$7+Equations!$B$3)","v":14.950556690085399},{"$f":"1/($A$7+Equations!$B$3)","v":14.950556690085392},0,1.0000000000000002,1,1.3010299956639813,1.3010299956639815,1.0000000000000004,{"$f":"MMULT(K43:T43,Calcs!$A$134:$J$143)","v":1.3602938527277786},2.3239091683226434,4.2856364744318398,2.2279265780762927,-0.98923543157811622,-0.28487366140074144,0.1750380523967833,-6.7407555372228423E-2,-7.419258316329163,-0.80468823401508871,{"$f":"MMULT(Y43:AH43,TRANSPOSE(K43:T43))","v":0.50708731834664289},{"$f":"SQRT(IF(Calculator!$F$6=$A$84,1,0)+AI43)","v":0.712100637794015},{"$f":"MMULT(U43:X43,Calcs!$A$152:$D$155)","v":-42.880530106267713},33.958030724285116,0.91017031042441676,11.787959444231507,{"$f":"MMULT(AK43:AN43,TRANSPOSE(U43:X43))","v":14.272004778962771},{"$f":"SQRT(IF(Calculator!$F$6=$A$84,1,0)+AO43)","v":3.7778306974986018}]
[]
["NaCl/SiO2:","GT","UI","LI","GT25","UI25","LI25","EA","UIEA","LIEA","25B","25X1","25X2","25X3","25X4","25X5","25X6","25X7","25X8","25X9","EAB","EAX1","EAX2","EAX3","25IntMat","25IntMat","25IntMat","25IntMat","25IntMat","25IntMat","25IntMat","25IntMat","25IntMat","25IntMat","25FullMat","25SQRT","EAIntMat","EAIntMat","EAIntMat","EAIntMat","EAFullMat","EASQRT"]
[0,{"$f":"IF($R$88=\"N/A\",0,LOG(EXP(LN(10^E46)+H46*1000*4.184/8.31447*(1/$A$9-1/298.15))))","v":5.1010868044999853},{"$f":"IF($R$88=\"N/A\",0,LOG(EXP(LN(10^F46)+J46*1000*4.184/8.31447*(1/$A$9-1/298.15))))","v":5.1439868452707778},{"$f":"IF($R$88=\"N/A\",0,LOG(EXP(LN(10^G46)+I46*1000*4.184/8.31447*(1/$A$9-1/298.15))))","v":5.0581867637291937},{"$f":"Equations!$B$4+L46*Equations!$B$5+M46*Equations!$B$6+N46*Equations!$B$7+O46*Equations!$B$8+P46*Equations!$B$9+Q46*Equations!$B$10+R46*Equations!$B$11+S46*Equations!$B$12+T46*Equations!$B$13","v":5.1010868044999853},{"$f":"E46+AJ46*TINV(1-ERF(Calculator!$F$7/SQRT(2)),Equations!$F$16)*Equations!$D$16","v":5.1439868452707769},{"$f":"E46-AJ46*TINV(1-ERF(Calculator!$F$7/SQRT(2)),Equations!$F$16)*Equations!$D$16","v":5.0581867637291937},{"$f":"Equations!$B$33+X46*Equations!$B$30+W46*Equations!$B$31+V46*Equations!$B$32","v":25.12333877881909},{"$f":"H46+AP46*TINV(1-ERF(Calculator!$F$7/SQRT(2)),Equations!$F$36)*Equations!$D$36","v":27.143107320146306},{"$f":"H46-AP46*TINV(1-ERF(Calculator!$F$7/SQRT(2)),Equations!$F$36)*Equations!$D$36","v":23.103570237491873},1,{"$f":"$A$5^2*$A$3*$A46","v":0},{"$f":"$A$5*$A$3*$A46","v":0},{"$f":"$A$3*$A46","v":0},{"$f":"$A$5^2*$A$3","v":0.63750469787535069},{"$f":"$A$3","v":1.3010299956639813},{"$f":"$A$5^2/($A46+Equations!$B$3)","v":7.3257727781418414},{"$f":"1/($A46+Equations!$B$3)","v":14.950556690085392},{"$f":"$A46","v":0},{"$f":"$A$5","v":0.7},1,{"$f":"$A$3","v":1.3010299956639813},{"$f":"$A$3*$A$5","v":0.91072099696478681},{"$f":"$A$5^2","v":0.48999999999999994},{"$f":"MMULT(K46:T46,Calcs!$A$134:$J$143)","v":0.36823066614211086},0.99672138964282908,-4.9324369214473904,10.802591863813419,0.39084691835095953,-1.1162068578556585,-7.3615729417544878E-2,9.0377341482740389E-2,-8.1193018107685759,0.39513813838782141,{"$f":"MMULT(Y46:AH46,TRANSPOSE(K46:T46))","v":0.25367496690318297},{"$f":"SQRT(IF(Calculator!$F$6=$A$84,1,0)+AI46)","v":0.50366155988241046},{"$f":"MMULT(U46:X46,Calcs!$A$152:$D$155)","v":-24.965133948567349},19.671343341931575,1.5319197027094309,5.2839505214330078,{"$f":"MMULT(AK46:AN46,TRANSPOSE(U46:X46))","v":4.6121609887142814},{"$f":"SQRT(IF(Calculator!$F$6=$A$84,1,0)+AO46)","v":2.147594232790329}]
[5.0000000000000001E-3,{"$f":"IF($R$88=\"N/A\",0,LOG(EXP(LN(10^E47)+H47*1000*4.184/8.31447*(1/$A$9-1/298.15))))","v":4.8091367928430735},{"$f":"IF($R$88=\"N/A\",0,LOG(EXP(LN(10^F47)+J47*1000*4.184/8.31447*(1/$A$9-1/298.15))))","v":4.8444369857846725},{"$f":"IF($R$88=\"N/A\",0,LOG(EXP(LN(10^G47)+I47*1000*4.184/8.31447*(1/$A$9-1/298.15))))","v":4.7738365999014754},{"$f":"Equations!$B$4+L47*Equations!$B$5+M47*Equations!$B$6+N47*Equations!$B$7+O47*Equations!$B$8+P47*Equations!$B$9+Q47*Equations!$B$10+R47*Equations!$B$11+S47*Equations!$B$12+T47*Equations!$B$13","v":4.8091367928430735},{"$f":"E47+AJ47*TINV(1-ERF(Calculator!$F$7/SQRT(2)),Equations!$F$16)*Equations!$D$16","v":4.8444369857846716},{"$f":"E47-AJ47*TINV(1-ERF(Calculator!$F$7/SQRT(2)),Equations!$F$16)*Equations!$D$16","v":4.7738365999014754},{"$f":"Equations!$B$33+X47*Equations!$B$30+W47*Equations!$B$31+V47*Equations!$B$32","v":25.12333877881909},{"$f":"H47+AP47*TINV(1-ERF(Calculator!$F$7/SQRT(2)),Equations!$F$36)*Equations!$D$36","v":27.143107320146306},{"$f":"H47-AP47*TINV(1-ERF(Calculator!$F$7/SQRT(2)),Equations!$F$36)*Equations!$D$36","v":23.103570237491873},1,{"$f":"$A$5^2*$A$3*$A47","v":3.1875234893767534E-3},{"$f":"$A$5*$A$3*$A47","v":4.5536049848239344E-3},{"$f":"$A$3*$A47","v":6.505149978319906E-3},{"$f":"$A$5^2*$A$3","v":0.63750469787535069},{"$f":"$A$3","v":1.3010299956639813},{"$f":"$A$5^2/($A47+Equations!$B$3)","v":6.8162398748323341},{"$f":"1/($A47+Equations!$B$3)","v":13.910693622106807},{"$f":"$A47","v":5.0000000000000001E-3},{"$f":"$A$5","v":0.7},1,{"$f":"$A$3","v":1.3010299956639813},{"$f":"$A$3*$A$5","v":0.91072099696478681},{"$f":"$A$5^2","v":0.48999999999999994},{"$f":"MMULT(K47:T47,Calcs!$A$134:$J$143)","v":0.20482516574145393},1.2590017253131123,-4.5900653386902945,8.585410874039809,0.22384321795657769,-0.83605000472815405,-5.7700150378238425E-2,6.9927365316880971E-2,-6.297168004925922,0.46434605020532871,{"$f":"MMULT(Y47:AH47,TRANSPOSE(K47:T47))","v":0.17175775732816634},{"$f":"SQRT(IF(Calculator!$F$6=$A$84,1,0)+AI47)","v":0.41443667469007411},{"$f":"MMULT(U47:X47,Calcs!$A$152:$D$155)","v":-24.965133948567349},19.671343341931575,1.5319197027094309,5.2839505214330078,{"$f":"MMULT(AK47:AN47,TRANSPOSE(U47:X47))","v":4.6121609887142814},{"$f":"SQRT(IF(Calculator!$F$6=$A$84,1,0)+AO47)","v":2.147594232790329}]
[1.4999999999999999E-2,4.3359481038799608,4.3606524791946741,4.3112437285652483,{"$f":"Equations!$B$4+L48*Equations!$B$5+M48*Equations!$B$6+N48*Equations!$B$7+O48*Equations!$B$8+P48*Equations!$B$9+Q48*Equations!$B$10+R48*Equations!$B$11+S48*Equations!$B$12+T48*Equations!$B$13","v":4.3359481038799608},{"$f":"E48+AJ48*TINV(1-ERF(Calculator!$F$7/SQRT(2)),Equations!$F$16)*Equations!$D$16","v":4.3606524791946741},{"$f":"E48-AJ48*TINV(1-ERF(Calculator!$F$7/SQRT(2)),Equations!$F$16)*Equations!$D$16","v":4.3112437285652474},{"$f":"Equations!$B$33+X48*Equations!$B$30+W48*Equations!$B$31+V48*Equations!$B$32","v":25.12333877881909},{"$f":"H48+AP48*TINV(1-ERF(Calculator!$F$7/SQRT(2)),Equations!$F$36)*Equations!$D$36","v":27.143107320146306},{"$f":"H48-AP48*TINV(1-ERF(Calculator!$F$7/SQRT(2)),Equations!$F$36)*Equations!$D$36","v":23.103570237491873},1,9.5625704681302597E-3,1.3660814954471802E-2,1.9515449934959718E-2,0.63750469787535069,1.3010299956639813,{"$f":"$A$5^2/($A48+Equations!$B$3)","v":5.9838454653299538},{"$f":"1/($A48+Equations!$B$3)","v":12.211929521081538},1.4999999999999999E-2,0.7,1,1.3010299956639813,0.91072099696478681,0.48999999999999994,{"$f":"MMULT(K48:T48,Calcs!$A$134:$J$143)","v":-3.234977527623073E-2},1.5291521273732087,-3.8638750959695471,5.1712118688387392,-2.215836939600635E-2,-0.41354387746127941,-3.327590035126364E-2,3.8721245815335703E-2,-3.5584191601730311,0.55072348465438381,{"$f":"MMULT(Y48:AH48,TRANSPOSE(K48:T48))","v":8.4122070946046901E-2},{"$f":"SQRT(IF(Calculator!$F$6=$A$84,1,0)+AI48)","v":0.29003805085892936},{"$f":"MMULT(U48:X48,Calcs!$A$152:$D$155)","v":-24.965133948567349},19.671343341931575,1.5319197027094309,5.2839505214330078,{"$f":"MMULT(AK48:AN48,TRANSPOSE(U48:X48))","v":4.6121609887142814},{"$f":"SQRT(IF(Calculator!$F$6=$A$84,1,0)+AO48)","v":2.147594232790329}]
[2.5000000000000001E-2,3.9702124573310584,3.9890636194232849,3.9513612952388328,{"$f":"Equations!$B$4+L49*Equations!$B$5+M49*Equations!$B$6+N49*Equations!$B$7+O49*Equations!$B$8+P49*Equations!$B$9+Q49*Equations!$B$10+R49*Equations!$B$11+S49*Equations!$B$12+T49*Equations!$B$13","v":3.9702124573310584},{"$f":"E49+AJ49*TINV(1-ERF(Calculator!$F$7/SQRT(2)),Equations!$F$16)*Equations!$D$16","v":3.9890636194232845},{"$f":"E49-AJ49*TINV(1-ERF(Calculator!$F$7/SQRT(2)),Equations!$F$16)*Equations!$D$16","v":3.9513612952388324},{"$f":"Equations!$B$33+X49*Equations!$B$30+W49*Equations!$B$31+V49*Equations!$B$32","v":25.12333877881909},{"$f":"H49+AP49*TINV(1-ERF(Calculator!$F$7/SQRT(2)),Equations!$F$36)*Equations!$D$36","v":27.143107320146306},{"$f":"H49-AP49*TINV(1-ERF(Calculator!$F$7/SQRT(2)),Equations!$F$36)*Equations!$D$36","v":23.103570237491873},1,1.5937617446883767E-2,2.2768024924119671E-2,3.252574989159953E-2,0.63750469787535069,1.3010299956639813,{"$f":"$A$5^2/($A49+Equations!$B$3)","v":5.3326286170007915},{"$f":"1/($A49+Equations!$B$3)","v":10.882915544899577},2.5000000000000001E-2,0.7,1,1.3010299956639813,0.91072099696478681,0.48999999999999994,{"$f":"MMULT(K49:T49,Calcs!$A$134:$J$143)","v":-0.18252669219582174},1.552379686203551,-3.0974575850007113,2.7471519130377828,-0.18274420000319225,-0.12478958072605906,-1.6040569233980048E-2,1.6923664620783485E-2,-1.6985391958352238,0.58659404667567827,{"$f":"MMULT(Y49:AH49,TRANSPOSE(K49:T49))","v":4.8982219258939197E-2},{"$f":"SQRT(IF(Calculator!$F$6=$A$84,1,0)+AI49)","v":0.22131926996748205},{"$f":"MMULT(U49:X49,Calcs!$A$152:$D$155)","v":-24.965133948567349},19.671343341931575,1.5319197027094309,5.2839505214330078,{"$f":"MMULT(AK49:AN49,TRANSPOSE(U49:X49))","v":4.6121609887142814},{"$f":"SQRT(IF(Calculator!$F$6=$A$84,1,0)+AO49)","v":2.147594232790329}]
[3.5000000000000003E-2,3.680291010190937,3.6965766316638771,3.6640053887179969,{"$f":"Equations!$B$4+L50*Equations!$B$5+M50*Equations!$B$6+N50*Equations!$B$7+O50*Equations!$B$8+P50*Equations!$B$9+Q50*Equations!$B$10+R50*Equations!$B$11+S50*Equations!$B$12+T50*Equations!$B$13","v":3.6802910101909365},{"$f":"E50+AJ50*TINV(1-ERF(Calculator!$F$7/SQRT(2)),Equations!$F$16)*Equations!$D$16","v":3.6965766316638766},{"$f":"E50-AJ50*TINV(1-ERF(Calculator!$F$7/SQRT(2)),Equations!$F$16)*Equations!$D$16","v":3.6640053887179964},{"$f":"Equations!$B$33+X50*Equations!$B$30+W50*Equations!$B$31+V50*Equations!$B$32","v":25.12333877881909},{"$f":"H50+AP50*TINV(1-ERF(Calculator!$F$7/SQRT(2)),Equations!$F$36)*Equations!$D$36","v":27.143107320146306},{"$f":"H50-AP50*TINV(1-ERF(Calculator!$F$7/SQRT(2)),Equations!$F$36)*Equations!$D$36","v":23.103570237491873},1,2.2312664425637275E-2,3.1875234893767541E-2,4.5536049848239349E-2,0.63750469787535069,1.3010299956639813,{"$f":"$A$5^2/($A50+Equations!$B$3)","v":4.8092427862265774},{"$f":"1/($A50+Equations!$B$3)","v":9.8147811963807712},3.5000000000000003E-2,0.7,1,1.3010299956639813,0.91072099696478681,0.48999999999999994,{"$f":"MMULT(K50:T50,Calcs!$A$134:$J$143)","v":-0.27132158214853064},1.4013892121648723,-2.302657460863486,1.0216910629212634,-0.28306438276037227,6.9595234016009755E-2,-3.8774270422727158E-3,1.7643393873966184E-3,-0.45875093906502684,0.58682915332290975,{"$f":"MMULT(Y50:AH50,TRANSPOSE(K50:T50))","v":3.6557027467190084E-2},{"$f":"SQRT(IF(Calculator!$F$6=$A$84,1,0)+AI50)","v":0.19119892119776744},{"$f":"MMULT(U50:X50,Calcs!$A$152:$D$155)","v":-24.965133948567349},19.671343341931575,1.5319197027094309,5.2839505214330078,{"$f":"MMULT(AK50:AN50,TRANSPOSE(U50:X50))","v":4.6121609887142814},{"$f":"SQRT(IF(Calculator!$F$6=$A$84,1,0)+AO50)","v":2.147594232790329}]
[4.5000000000000005E-2,3.4458559039326535,3.4613873941082476,3.430324413757059,{"$f":"Equations!$B$4+L51*Equations!$B$5+M51*Equations!$B$6+N51*Equations!$B$7+O51*Equations!$B$8+P51*Equations!$B$9+Q51*Equations!$B$10+R51*Equations!$B$11+S51*Equations!$B$12+T51*Equations!$B$13","v":3.4458559039326531},{"$f":"E51+AJ51*TINV(1-ERF(Calculator!$F$7/SQRT(2)),Equations!$F$16)*Equations!$D$16","v":3.4613873941082476},{"$f":"E51-AJ51*TINV(1-ERF(Calculator!$F$7/SQRT(2)),Equations!$F$16)*Equations!$D$16","v":3.4303244137570585},{"$f":"Equations!$B$33+X51*Equations!$B$30+W51*Equations!$B$31+V51*Equations!$B$32","v":25.12333877881909},{"$f":"H51+AP51*TINV(1-ERF(Calculator!$F$7/SQRT(2)),Equations!$F$36)*Equations!$D$36","v":27.143107320146306},{"$f":"H51-AP51*TINV(1-ERF(Calculator!$F$7/SQRT(2)),Equations!$F$36)*Equations!$D$36","v":23.103570237491873},1,2.8687711404390786E-2,4.0982444863415408E-2,5.8546349804879161E-2,0.63750469787535069,1.3010299956639813,{"$f":"$A$5^2/($A51+Equations!$B$3)","v":4.3794129841466898},{"$f":"1/($A51+Equations!$B$3)","v":8.9375775186667159},4.5000000000000005E-2,0.7,1,1.3010299956639813,0.91072099696478681,0.48999999999999994,{"$f":"MMULT(K51:T51,Calcs!$A$134:$J$143)","v":-0.31519264386243862},1.1228933204745886,-1.4870848777192691,-0.1924841913565416,-0.33927778464871139,0.19491360358622956,4.5735186752081172E-3,-8.5366277020745146E-3,0.32720914128958611,0.56098364394069478,{"$f":"MMULT(Y51:AH51,TRANSPOSE(K51:T51))","v":3.3249755426857264E-2},{"$f":"SQRT(IF(Calculator!$F$6=$A$84,1,0)+AI51)","v":0.18234515465692328},{"$f":"MMULT(U51:X51,Calcs!$A$152:$D$155)","v":-24.965133948567349},19.671343341931575,1.5319197027094309,5.2839505214330078,{"$f":"MMULT(AK51:AN51,TRANSPOSE(U51:X51))","v":4.6121609887142814},{"$f":"SQRT(IF(Calculator!$F$6=$A$84,1,0)+AO51)","v":2.147594232790329}]
[5.5000000000000007E-2,3.2532503228598899,3.2687054870686421,3.2377951586511378,{"$f":"Equations!$B$4+L52*Equations!$B$5+M52*Equations!$B$6+N52*Equations!$B$7+O52*Equations!$B$8+P52*Equations!$B$9+Q52*Equations!$B$10+R52*Equations!$B$11+S52*Equations!$B$12+T52*Equations!$B$13","v":3.2532503228598895},{"$f":"E52+AJ52*TINV(1-ERF(Calculator!$F$7/SQRT(2)),Equations!$F$16)*Equations!$D$16","v":3.2687054870686416},{"$f":"E52-AJ52*TINV(1-ERF(Calculator!$F$7/SQRT(2)),Equations!$F$16)*Equations!$D$16","v":3.2377951586511373},{"$f":"Equations!$B$33+X52*Equations!$B$30+W52*Equations!$B$31+V52*Equations!$B$32","v":25.12333877881909},{"$f":"H52+AP52*TINV(1-ERF(Calculator!$F$7/SQRT(2)),Equations!$F$36)*Equations!$D$36","v":27.143107320146306},{"$f":"H52-AP52*TINV(1-ERF(Calculator!$F$7/SQRT(2)),Equations!$F$36)*Equations!$D$36","v":23.103570237491873},1,3.5062758383144293E-2,5.0089654833063282E-2,7.1556649761518973E-2,0.63750469787535069,1.3010299956639813,{"$f":"$A$5^2/($A52+Equations!$B$3)","v":4.0201123284536662},{"$f":"1/($A52+Equations!$B$3)","v":8.2043108743952384},5.5000000000000007E-2,0.7,1,1.3010299956639813,0.91072099696478681,0.48999999999999994,{"$f":"MMULT(K52:T52,Calcs!$A$134:$J$143)","v":-0.32519694891372097},0.74827483367025138,-0.65585254690734018,-1.0212162290115288,-0.3622403779257084,0.26816480559997302,1.0225948335503894E-2,-1.5175021064185043E-2,0.77104146851482369,0.51547672298002567,{"$f":"MMULT(Y52:AH52,TRANSPOSE(K52:T52))","v":3.2923761728451573E-2},{"$f":"SQRT(IF(Calculator!$F$6=$A$84,1,0)+AI52)","v":0.18144906097428989},{"$f":"MMULT(U52:X52,Calcs!$A$152:$D$155)","v":-24.965133948567349},19.671343341931575,1.5319197027094309,5.2839505214330078,{"$f":"MMULT(AK52:AN52,TRANSPOSE(U52:X52))","v":4.6121609887142814},{"$f":"SQRT(IF(Calculator!$F$6=$A$84,1,0)+AO52)","v":2.147594232790329}]
[6.5000000000000002E-2,3.0929594216145255,3.1084380675102161,3.0774807757188349,{"$f":"Equations!$B$4+L53*Equations!$B$5+M53*Equations!$B$6+N53*Equations!$B$7+O53*Equations!$B$8+P53*Equations!$B$9+Q53*Equations!$B$10+R53*Equations!$B$11+S53*Equations!$B$12+T53*Equations!$B$13","v":3.0929594216145251},{"$f":"E53+AJ53*TINV(1-ERF(Calculator!$F$7/SQRT(2)),Equations!$F$16)*Equations!$D$16","v":3.1084380675102157},{"$f":"E53-AJ53*TINV(1-ERF(Calculator!$F$7/SQRT(2)),Equations!$F$16)*Equations!$D$16","v":3.0774807757188345},{"$f":"Equations!$B$33+X53*Equations!$B$30+W53*Equations!$B$31+V53*Equations!$B$32","v":25.12333877881909},{"$f":"H53+AP53*TINV(1-ERF(Calculator!$F$7/SQRT(2)),Equations!$F$36)*Equations!$D$36","v":27.143107320146306},{"$f":"H53-AP53*TINV(1-ERF(Calculator!$F$7/SQRT(2)),Equations!$F$36)*Equations!$D$36","v":23.103570237491873},1,4.1437805361897798E-2,5.9196864802711142E-2,8.4566949718158785E-2,0.63750469787535069,1.3010299956639813,{"$f":"$A$5^2/($A53+Equations!$B$3)","v":3.715297751048253},{"$f":"1/($A53+Equations!$B$3)","v":7.5822403082617411},6.5000000000000002E-2,0.7,1,1.3010299956639813,0.91072099696478681,0.48999999999999994,{"$f":"MMULT(K53:T53,Calcs!$A$134:$J$143)","v":-0.30903807392669336},0.29939849020809106,0.18747745247276271,-1.5521807428523431,-0.3595156312314316,0.30119241335477653,1.371643257617821E-2,-1.8983956123362414E-2,0.95056888782124815,0.45478071686254395,{"$f":"MMULT(Y53:AH53,TRANSPOSE(K53:T53))","v":3.3023882666834092E-2},{"$f":"SQRT(IF(Calculator!$F$6=$A$84,1,0)+AI53)","v":0.18172474423378368},{"$f":"MMULT(U53:X53,Calcs!$A$152:$D$155)","v":-24.965133948567349},19.671343341931575,1.5319197027094309,5.2839505214330078,{"$f":"MMULT(AK53:AN53,TRANSPOSE(U53:X53))","v":4.6121609887142814},{"$f":"SQRT(IF(Calculator!$F$6=$A$84,1,0)+AO53)","v":2.147594232790329}]
[7.4999999999999997E-2,2.9581507248576848,2.9735652513874355,2.942736198327935,{"$f":"Equations!$B$4+L54*Equations!$B$5+M54*Equations!$B$6+N54*Equations!$B$7+O54*Equations!$B$8+P54*Equations!$B$9+Q54*Equations!$B$10+R54*Equations!$B$11+S54*Equations!$B$12+T54*Equations!$B$13","v":2.9581507248576848},{"$f":"E54+AJ54*TINV(1-ERF(Calculator!$F$7/SQRT(2)),Equations!$F$16)*Equations!$D$16","v":2.9735652513874351},{"$f":"E54-AJ54*TINV(1-ERF(Calculator!$F$7/SQRT(2)),Equations!$F$16)*Equations!$D$16","v":2.9427361983279345},{"$f":"Equations!$B$33+X54*Equations!$B$30+W54*Equations!$B$31+V54*Equations!$B$32","v":25.12333877881909},{"$f":"H54+AP54*TINV(1-ERF(Calculator!$F$7/SQRT(2)),Equations!$F$36)*Equations!$D$36","v":27.143107320146306},{"$f":"H54-AP54*TINV(1-ERF(Calculator!$F$7/SQRT(2)),Equations!$F$36)*Equations!$D$36","v":23.103570237491873},1,4.7812852340651302E-2,6.8304074772359002E-2,9.7577249674798597E-2,0.63750469787535069,1.3010299956639813,{"$f":"$A$5^2/($A54+Equations!$B$3)","v":3.4534489525432734},{"$f":"1/($A54+Equations!$B$3)","v":7.047855005190355},7.4999999999999997E-2,0.7,1,1.3010299956639813,0.91072099696478681,0.48999999999999994,{"$f":"MMULT(K54:T54,Calcs!$A$134:$J$143)","v":-0.27224784788290179},-0.20803495171026043,1.0403472420019284,-1.8483364028719222,-0.33653476399345905,0.30250112865432754,1.5502083732629117E-2,-2.0561681235475124E-2,0.92167487925399882,0.38210713968368992,{"$f":"MMULT(Y54:AH54,TRANSPOSE(K54:T54))","v":3.2750850428179157E-2},{"$f":"SQRT(IF(Calculator!$F$6=$A$84,1,0)+AI54)","v":0.18097196033689628},{"$f":"MMULT(U54:X54,Calcs!$A$152:$D$155)","v":-24.965133948567349},19.671343341931575,1.5319197027094309,5.2839505214330078,{"$f":"MMULT(AK54:AN54,TRANSPOSE(U54:X54))","v":4.6121609887142814},{"$f":"SQRT(IF(Calculator!$F$6=$A$84,1,0)+AO54)","v":2.147594232790329}]
[8.4999999999999992E-2,2.8437911130811213,2.8590671048439851,2.8285151213182567,{"$f":"Equations!$B$4+L55*Equations!$B$5+M55*Equations!$B$6+N55*Equations!$B$7+O55*Equations!$B$8+P55*Equations!$B$9+Q55*Equations!$B$10+R55*Equations!$B$11+S55*Equations!$B$12+T55*Equations!$B$13","v":2.8437911130811209},{"$f":"E55+AJ55*TINV(1-ERF(Calculator!$F$7/SQRT(2)),Equations!$F$16)*Equations!$D$16","v":2.8590671048439851},{"$f":"E55-AJ55*TINV(1-ERF(Calculator!$F$7/SQRT(2)),Equations!$F$16)*Equations!$D$16","v":2.8285151213182567},{"$f":"Equations!$B$33+X55*Equations!$B$30+W55*Equations!$B$31+V55*Equations!$B$32","v":25.12333877881909},{"$f":"H55+AP55*TINV(1-ERF(Calculator!$F$7/SQRT(2)),Equations!$F$36)*Equations!$D$36","v":27.143107320146306},{"$f":"H55-AP55*TINV(1-ERF(Calculator!$F$7/SQRT(2)),Equations!$F$36)*Equations!$D$36","v":23.103570237491873},1,5.4187899319404806E-2,7.7411284742006869E-2,0.11058754963143839,0.63750469787535069,1.3010299956639813,{"$f":"$A$5^2/($A55+Equations!$B$3)","v":3.2260795439346532},{"$f":"1/($A55+Equations!$B$3)","v":6.5838358039482729},8.4999999999999992E-2,0.7,1,1.3010299956639813,0.91072099696478681,0.48999999999999994,{"$f":"MMULT(K55:T55,Calcs!$A$134:$J$143)","v":-0.21890127361550071},-0.76245958244302869,1.9008725693215069,-1.9560614972364476,-0.29729866536234439,0.27835591089294098,1.5919632037847208E-2,-2.0348893998592257E-2,0.72552581658746362,0.29982174227932745,{"$f":"MMULT(Y55:AH55,TRANSPOSE(K55:T55))","v":3.2164813202766623E-2},{"$f":"SQRT(IF(Calculator!$F$6=$A$84,1,0)+AI55)","v":0.17934551347264482},{"$f":"MMULT(U55:X55,Calcs!$A$152:$D$155)","v":-24.965133948567349},19.671343341931575,1.5319197027094309,5.2839505214330078,{"$f":"MMULT(AK55:AN55,TRANSPOSE(U55:X55))","v":4.6121609887142814},{"$f":"SQRT(IF(Calculator!$F$6=$A$84,1,0)+AO55)","v":2.147594232790329}]
[9.4999999999999987E-2,2.7460910787060557,2.7612639096587337,2.7309182477533787,{"$f":"Equations!$B$4+L56*Equations!$B$5+M56*Equations!$B$6+N56*Equations!$B$7+O56*Equations!$B$8+P56*Equations!$B$9+Q56*Equations!$B$10+R56*Equations!$B$11+S56*Equations!$B$12+T56*Equations!$B$13","v":2.7460910787060557},{"$f":"E56+AJ56*TINV(1-ERF(Calculator!$F$7/SQRT(2)),Equations!$F$16)*Equations!$D$16","v":2.7612639096587333},{"$f":"E56-AJ56*TINV(1-ERF(Calculator!$F$7/SQRT(2)),Equations!$F$16)*Equations!$D$16","v":2.7309182477533782},{"$f":"Equations!$B$33+X56*Equations!$B$30+W56*Equations!$B$31+V56*Equations!$B$32","v":25.12333877881909},{"$f":"H56+AP56*TINV(1-ERF(Calculator!$F$7/SQRT(2)),Equations!$F$36)*Equations!$D$36","v":27.143107320146306},{"$f":"H56-AP56*TINV(1-ERF(Calculator!$F$7/SQRT(2)),Equations!$F$36)*Equations!$D$36","v":23.103570237491873},1,6.056294629815831E-2,8.6518494711654736E-2,0.12359784958807821,0.63750469787535069,1.3010299956639813,{"$f":"$A$5^2/($A56+Equations!$B$3)","v":3.0268000017082772},{"$f":"1/($A56+Equations!$B$3)","v":6.1771428606291376},9.4999999999999987E-2,0.7,1,1.3010299956639813,0.91072099696478681,0.48999999999999994,{"$f":"MMULT(K56:T56,Calcs!$A$134:$J$143)","v":-0.15206647897127823},-1.3551672633954013,2.7676347539137964,-1.9102749016467442,-0.24481966193452465,0.23347373749703948,1.5222606494635381E-2,-1.867740192991714E-2,0.39311645072163515,0.20970573225002909,{"$f":"MMULT(Y56:AH56,TRANSPOSE(K56:T56))","v":3.1731853524317469E-2},{"$f":"SQRT(IF(Calculator!$F$6=$A$84,1,0)+AI56)","v":0.17813436929553339},{"$f":"MMULT(U56:X56,Calcs!$A$152:$D$155)","v":-24.965133948567349},19.671343341931575,1.5319197027094309,5.2839505214330078,{"$f":"MMULT(AK56:AN56,TRANSPOSE(U56:X56))","v":4.6121609887142814},{"$f":"SQRT(IF(Calculator!$F$6=$A$84,1,0)+AO56)","v":2.147594232790329}]
[0.10499999999999998,2.6621429736219633,2.6774013377072579,2.6468846095366678,{"$f":"Equations!$B$4+L57*Equations!$B$5+M57*Equations!$B$6+N57*Equations!$B$7+O57*Equations!$B$8+P57*Equations!$B$9+Q57*Equations!$B$10+R57*Equations!$B$11+S57*Equations!$B$12+T57*Equations!$B$13","v":2.6621429736219628},{"$f":"E57+AJ57*TINV(1-ERF(Calculator!$F$7/SQRT(2)),Equations!$F$16)*Equations!$D$16","v":2.6774013377072579},{"$f":"E57-AJ57*TINV(1-ERF(Calculator!$F$7/SQRT(2)),Equations!$F$16)*Equations!$D$16","v":2.6468846095366678},{"$f":"Equations!$B$33+X57*Equations!$B$30+W57*Equations!$B$31+V57*Equations!$B$32","v":25.12333877881909},{"$f":"H57+AP57*TINV(1-ERF(Calculator!$F$7/SQRT(2)),Equations!$F$36)*Equations!$D$36","v":27.143107320146306},{"$f":"H57-AP57*TINV(1-ERF(Calculator!$F$7/SQRT(2)),Equations!$F$36)*Equations!$D$36","v":23.103570237491873},1,6.6937993276911814E-2,9.5625704681302603E-2,0.136608149544718,0.63750469787535069,1.3010299956639813,{"$f":"$A$5^2/($A57+Equations!$B$3)","v":2.8507077136943995},{"$f":"1/($A57+Equations!$B$3)","v":5.8177708442742855},0.10499999999999998,0.7,1,1.3010299956639813,0.91072099696478681,0.48999999999999994,{"$f":"MMULT(K57:T57,Calcs!$A$134:$J$143)","v":-7.4097605207754214E-2},-1.9794763341652981,3.6395452575865761,-1.7377694911248938,-0.18140907927258709,0.17147389414333247,1.3605537160168983E-2,-1.5801797342674465E-2,-5.1771281767940991E-2,0.11312581089046603,{"$f":"MMULT(Y57:AH57,TRANSPOSE(K57:T57))","v":3.2090623084523567E-2},{"$f":"SQRT(IF(Calculator!$F$6=$A$84,1,0)+AI57)","v":0.17913855834108849},{"$f":"MMULT(U57:X57,Calcs!$A$152:$D$155)","v":-24.965133948567349},19.671343341931575,1.5319197027094309,5.2839505214330078,{"$f":"MMULT(AK57:AN57,TRANSPOSE(U57:X57))","v":4.6121609887142814},{"$f":"SQRT(IF(Calculator!$F$6=$A$84,1,0)+AO57)","v":2.147594232790329}]
[0.15499999999999997,2.3836053959536976,2.405997554729193,2.3612132371782026,{"$f":"Equations!$B$4+L58*Equations!$B$5+M58*Equations!$B$6+N58*Equations!$B$7+O58*Equations!$B$8+P58*Equations!$B$9+Q58*Equations!$B$10+R58*Equations!$B$11+S58*Equations!$B$12+T58*Equations!$B$13","v":2.3836053959536976},{"$f":"E58+AJ58*TINV(1-ERF(Calculator!$F$7/SQRT(2)),Equations!$F$16)*Equations!$D$16","v":2.405997554729193},{"$f":"E58-AJ58*TINV(1-ERF(Calculator!$F$7/SQRT(2)),Equations!$F$16)*Equations!$D$16","v":2.3612132371782022},{"$f":"Equations!$B$33+X58*Equations!$B$30+W58*Equations!$B$31+V58*Equations!$B$32","v":25.12333877881909},{"$f":"H58+AP58*TINV(1-ERF(Calculator!$F$7/SQRT(2)),Equations!$F$36)*Equations!$D$36","v":27.143107320146306},{"$f":"H58-AP58*TINV(1-ERF(Calculator!$F$7/SQRT(2)),Equations!$F$36)*Equations!$D$36","v":23.103570237491873},1,9.8813228170679335E-2,0.14116175452954194,0.20165964932791705,0.63750469787535069,1.3010299956639813,{"$f":"$A$5^2/($A58+Equations!$B$3)","v":2.2083298599937904},{"$f":"1/($A58+Equations!$B$3)","v":4.5067956326403884},0.15499999999999997,0.7,1,1.3010299956639813,0.91072099696478681,0.48999999999999994,{"$f":"MMULT(K58:T58,Calcs!$A$134:$J$143)","v":0.43006998029379417},-5.4255004793831745,8.0519600191119594,0.42588919367116773,0.24788780932108523,-0.31428723977520789,-3.9266945737018513E-3,1.0939889880174067E-2,-3.4311225815324065,-0.4361443621410146,{"$f":"MMULT(Y58:AH58,TRANSPOSE(K58:T58))","v":6.9112106837577847E-2},{"$f":"SQRT(IF(Calculator!$F$6=$A$84,1,0)+AI58)","v":0.26289181584366189},{"$f":"MMULT(U58:X58,Calcs!$A$152:$D$155)","v":-24.965133948567349},19.671343341931575,1.5319197027094309,5.2839505214330078,{"$f":"MMULT(AK58:AN58,TRANSPOSE(U58:X58))","v":4.6121609887142814},{"$f":"SQRT(IF(Calculator!$F$6=$A$84,1,0)+AO58)","v":2.147594232790329}]
[0.20499999999999996,2.2451930031548981,2.2846111227047539,2.2057748836050428,{"$f":"Equations!$B$4+L59*Equations!$B$5+M59*Equations!$B$6+N59*Equations!$B$7+O59*Equations!$B$8+P59*Equations!$B$9+Q59*Equations!$B$10+R59*Equations!$B$11+S59*Equations!$B$12+T59*Equations!$B$13","v":2.2451930031548981},{"$f":"E59+AJ59*TINV(1-ERF(Calculator!$F$7/SQRT(2)),Equations!$F$16)*Equations!$D$16","v":2.2846111227047539},{"$f":"E59-AJ59*TINV(1-ERF(Calculator!$F$7/SQRT(2)),Equations!$F$16)*Equations!$D$16","v":2.2057748836050424},{"$f":"Equations!$B$33+X59*Equations!$B$30+W59*Equations!$B$31+V59*Equations!$B$32","v":25.12333877881909},{"$f":"H59+AP59*TINV(1-ERF(Calculator!$F$7/SQRT(2)),Equations!$F$36)*Equations!$D$36","v":27.143107320146306},{"$f":"H59-AP59*TINV(1-ERF(Calculator!$F$7/SQRT(2)),Equations!$F$36)*Equations!$D$36","v":23.103570237491873},1,0.13068846306444687,0.18669780437778127,0.2667111491111161,0.63750469787535069,1.3010299956639813,{"$f":"$A$5^2/($A59+Equations!$B$3)","v":1.8022183667721412},{"$f":"1/($A59+Equations!$B$3)","v":3.6779966668819215},0.20499999999999996,0.7,1,1.3010299956639813,0.91072099696478681,0.48999999999999994,{"$f":"MMULT(K59:T59,Calcs!$A$134:$J$143)","v":1.0476881851182753},-9.1935267594747359,12.516833540979462,3.8807483342798577,0.78857194610988302,-0.97446874894594515,-3.083370591920024E-2,4.995087297402083E-2,-7.9565713912162437,-1.051278513307615,{"$f":"MMULT(Y59:AH59,TRANSPOSE(K59:T59))","v":0.21416771700085036},{"$f":"SQRT(IF(Calculator!$F$6=$A$84,1,0)+AI59)","v":0.46278258070161882},{"$f":"MMULT(U59:X59,Calcs!$A$152:$D$155)","v":-24.965133948567349},19.671343341931575,1.5319197027094309,5.2839505214330078,{"$f":"MMULT(AK59:AN59,TRANSPOSE(U59:X59))","v":4.6121609887142814},{"$f":"SQRT(IF(Calculator!$F$6=$A$84,1,0)+AO59)","v":2.147594232790329}]
[0.25499999999999995,2.1816072013267496,2.2425583155213777,2.1206560871321218,{"$f":"Equations!$B$4+L60*Equations!$B$5+M60*Equations!$B$6+N60*Equations!$B$7+O60*Equations!$B$8+P60*Equations!$B$9+Q60*Equations!$B$10+R60*Equations!$B$11+S60*Equations!$B$12+T60*Equations!$B$13","v":2.1816072013267496},{"$f":"E60+AJ60*TINV(1-ERF(Calculator!$F$7/SQRT(2)),Equations!$F$16)*Equations!$D$16","v":2.2425583155213777},{"$f":"E60-AJ60*TINV(1-ERF(Calculator!$F$7/SQRT(2)),Equations!$F$16)*Equations!$D$16","v":2.1206560871321214},{"$f":"Equations!$B$33+X60*Equations!$B$30+W60*Equations!$B$31+V60*Equations!$B$32","v":25.12333877881909},{"$f":"H60+AP60*TINV(1-ERF(Calculator!$F$7/SQRT(2)),Equations!$F$36)*Equations!$D$36","v":27.143107320146306},{"$f":"H60-AP60*TINV(1-ERF(Calculator!$F$7/SQRT(2)),Equations!$F$36)*Equations!$D$36","v":23.103570237491873},1,0.1625636979582144,0.23223385422602058,0.33176264889431517,0.63750469787535069,1.3010299956639813,{"$f":"$A$5^2/($A60+Equations!$B$3)","v":1.5222726754522089},{"$f":"1/($A60+Equations!$B$3)","v":3.1066789294943042},0.25499999999999995,0.7,1,1.3010299956639813,0.91072099696478681,0.48999999999999994,{"$f":"MMULT(K60:T60,Calcs!$A$134:$J$143)","v":1.7258888119773772},-13.133501587290226,17.009719944375547,8.0251061432271484,1.3887366685464997,-1.7277904176683379,-6.2746832333111319E-2,9.5513637494540934E-2,-13.094034163037577,-1.7015839076465653,{"$f":"MMULT(Y60:AH60,TRANSPOSE(K60:T60))","v":0.51206548105747007},{"$f":"SQRT(IF(Calculator!$F$6=$A$84,1,0)+AI60)","v":0.7155875076169721},{"$f":"MMULT(U60:X60,Calcs!$A$152:$D$155)","v":-24.965133948567349},19.671343341931575,1.5319197027094309,5.2839505214330078,{"$f":"MMULT(AK60:AN60,TRANSPOSE(U60:X60))","v":4.6121609887142814},{"$f":"SQRT(IF(Calculator!$F$6=$A$84,1,0)+AO60)","v":2.147594232790329}]
[]
["Temperature:","GT","UI","LI","GT25","UI25","LI25","EA","UIEA","LIEA","25B","25X1","25X2","25X3","25X4","25X5","25X6","25X7","25X8","25X9","EAB","EAX1","EAX2","EAX3","25IntMat","25IntMat","25IntMat","25IntMat","25IntMat","25IntMat","25IntMat","25IntMat","25IntMat","25IntMat","25FullMat","25SQRT","EAIntMat","EAIntMat","EAIntMat","EAIntMat","EAFullMat","EASQRT"]
[25,{"$f":"IF($R$88=\"N/A\",0,LOG(EXP(LN(10^E63)+H63*1000*4.184/8.31447*(1/($A63+273.15)-1/298.15))))","v":5.1010868044999853},{"$f":"IF($R$88=\"N/A\",0,LOG(EXP(LN(10^F63)+J63*1000*4.184/8.31447*(1/($A63+273.15)-1/298.15))))","v":5.1439868452707778},{"$f":"IF($R$88=\"N/A\",0,LOG(EXP(LN(10^G63)+I63*1000*4.184/8.31447*(1/($A63+273.15)-1/298.15))))","v":5.0581867637291937},{"$f":"Equations!$B$4+L63*Equations!$B$5+M63*Equations!$B$6+N63*Equations!$B$7+O63*Equations!$B$8+P63*Equations!$B$9+Q63*Equations!$B$10+R63*Equations!$B$11+S63*Equations!$B$12+T63*Equations!$B$13","v":5.1010868044999853},{"$f":"E63+AJ63*TINV(1-ERF(Calculator!$F$7/SQRT(2)),Equations!$F$16)*Equations!$D$16","v":5.1439868452707769},{"$f":"E63-AJ63*TINV(1-ERF(Calculator!$F$7/SQRT(2)),Equations!$F$16)*Equations!$D$16","v":5.0581867637291937},{"$f":"Equations!$B$33+X63*Equations!$B$30+W63*Equations!$B$31+V63*Equations!$B$32","v":25.12333877881909},{"$f":"H63+AP63*TINV(1-ERF(Calculator!$F$7/SQRT(2)),Equations!$F$36)*Equations!$D$36","v":27.143107320146306},{"$f":"H63-AP63*TINV(1-ERF(Calculator!$F$7/SQRT(2)),Equations!$F$36)*Equations!$D$36","v":23.103570237491873},1,{"$f":"$A$5^2*$A$3*$A$7","v":0},{"$f":"$A$5*$A$3*$A$7","v":0},{"$f":"$A$3*$A$7","v":0},{"$f":"$A$5^2*$A$3","v":0.63750469787535069},{"$f":"$A$3","v":1.3010299956639813},{"$f":"$A$5^2/($A$7+Equations!$B$3)","v":7.3257727781418414},{"$f":"1/($A$7+Equations!$B$3)","v":14.950556690085392},{"$f":"$A$7","v":0},{"$f":"$A$5","v":0.7},1,{"$f":"$A$3","v":1.3010299956639813},{"$f":"$A$3*$A$5","v":0.91072099696478681},{"$f":"$A$5^2","v":0.48999999999999994},{"$f":"MMULT(K63:T63,Calcs!$A$134:$J$143)","v":0.36823066614211086},0.99672138964282908,-4.9324369214473904,10.802591863813419,0.39084691835095953,-1.1162068578556585,-7.3615729417544878E-2,9.0377341482740389E-2,-8.1193018107685759,0.39513813838782141,{"$f":"MMULT(Y63:AH63,TRANSPOSE(K63:T63))","v":0.25367496690318297},{"$f":"SQRT(IF(Calculator!$F$6=$A$84,1,0)+AI63)","v":0.50366155988241046},{"$f":"MMULT(U63:X63,Calcs!$A$152:$D$155)","v":-24.965133948567349},19.671343341931575,1.5319197027094309,5.2839505214330078,{"$f":"MMULT(AK63:AN63,TRANSPOSE(U63:X63))","v":4.6121609887142814},{"$f":"SQRT(IF(Calculator!$F$6=$A$84,1,0)+AO63)","v":2.147594232790329}]
[{"$f":"A63+10","v":35},{"$f":"IF($R$88=\"N/A\",0,LOG(EXP(LN(10^E64)+H64*1000*4.184/8.31447*(1/($A64+273.15)-1/298.15))))","v":4.5034713974386351},{"$f":"IF($R$88=\"N/A\",0,LOG(EXP(LN(10^F64)+J64*1000*4.184/8.31447*(1/($A64+273.15)-1/298.15))))","v":4.5944161988848116},{"$f":"IF($R$88=\"N/A\",0,LOG(EXP(LN(10^G64)+I64*1000*4.184/8.31447*(1/($A64+273.15)-1/298.15))))","v":4.4125265959924587},{"$f":"Equations!$B$4+L64*Equations!$B$5+M64*Equations!$B$6+N64*Equations!$B$7+O64*Equations!$B$8+P64*Equations!$B$9+Q64*Equations!$B$10+R64*Equations!$B$11+S64*Equations!$B$12+T64*Equations!$B$13","v":5.1010868044999853},{"$f":"E64+AJ64*TINV(1-ERF(Calculator!$F$7/SQRT(2)),Equations!$F$16)*Equations!$D$16","v":5.1439868452707769},{"$f":"E64-AJ64*TINV(1-ERF(Calculator!$F$7/SQRT(2)),Equations!$F$16)*Equations!$D$16","v":5.0581867637291937},{"$f":"Equations!$B$33+X64*Equations!$B$30+W64*Equations!$B$31+V64*Equations!$B$32","v":25.12333877881909},{"$f":"H64+AP64*TINV(1-ERF(Calculator!$F$7/SQRT(2)),Equations!$F$36)*Equations!$D$36","v":27.143107320146306},{"$f":"H64-AP64*TINV(1-ERF(Calculator!$F$7/SQRT(2)),Equations!$F$36)*Equations!$D$36","v":23.103570237491873},1,{"$f":"$A$5^2*$A$3*$A$7","v":0},{"$f":"$A$5*$A$3*$A$7","v":0},{"$f":"$A$3*$A$7","v":0},{"$f":"$A$5^2*$A$3","v":0.63750469787535069},{"$f":"$A$3","v":1.3010299956639813},{"$f":"$A$5^2/($A$7+Equations!$B$3)","v":7.3257727781418414},{"$f":"1/($A$7+Equations!$B$3)","v":14.950556690085392},{"$f":"$A$7","v":0},{"$f":"$A$5","v":0.7},1,{"$f":"$A$3","v":1.3010299956639813},{"$f":"$A$3*$A$5","v":0.91072099696478681},{"$f":"$A$5^2","v":0.48999999999999994},{"$f":"MMULT(K64:T64,Calcs!$A$134:$J$143)","v":0.36823066614211086},0.99672138964282908,-4.9324369214473904,10.802591863813419,0.39084691835095953,-1.1162068578556585,-7.3615729417544878E-2,9.0377341482740389E-2,-8.1193018107685759,0.39513813838782141,{"$f":"MMULT(Y64:AH64,TRANSPOSE(K64:T64))","v":0.25367496690318297},{"$f":"SQRT(IF(Calculator!$F$6=$A$84,1,0)+AI64)","v":0.50366155988241046},{"$f":"MMULT(U64:X64,Calcs!$A$152:$D$155)","v":-24.965133948567349},19.671343341931575,1.5319197027094309,5.2839505214330078,{"$f":"MMULT(AK64:AN64,TRANSPOSE(U64:X64))","v":4.6121609887142814},{"$f":"SQRT(IF(Calculator!$F$6=$A$84,1,0)+AO64)","v":2.147594232790329}]
[{"$f":"A64+10","v":45},3.9434241442079516,4.0793934479183616,3.8074548404975412,{"$f":"Equations!$B$4+L65*Equations!$B$5+M65*Equations!$B$6+N65*Equations!$B$7+O65*Equations!$B$8+P65*Equations!$B$9+Q65*Equations!$B$10+R65*Equations!$B$11+S65*Equations!$B$12+T65*Equations!$B$13","v":5.1010868044999853},{"$f":"E65+AJ65*TINV(1-ERF(Calculator!$F$7/SQRT(2)),Equations!$F$16)*Equations!$D$16","v":5.1439868452707769},{"$f":"E65-AJ65*TINV(1-ERF(Calculator!$F$7/SQRT(2)),Equations!$F$16)*Equations!$D$16","v":5.0581867637291937},{"$f":"Equations!$B$33+X65*Equations!$B$30+W65*Equations!$B$31+V65*Equations!$B$32","v":25.12333877881909},{"$f":"H65+AP65*TINV(1-ERF(Calculator!$F$7/SQRT(2)),Equations!$F$36)*Equations!$D$36","v":27.143107320146306},{"$f":"H65-AP65*TINV(1-ERF(Calculator!$F$7/SQRT(2)),Equations!$F$36)*Equations!$D$36","v":23.103570237491873},1,0,0,0,0.63750469787535069,1.3010299956639813,{"$f":"$A$5^2/($A$7+Equations!$B$3)","v":7.3257727781418414},{"$f":"1/($A$7+Equations!$B$3)","v":14.950556690085392},0,0.7,1,1.3010299956639813,0.91072099696478681,0.48999999999999994,{"$f":"MMULT(K65:T65,Calcs!$A$134:$J$143)","v":0.36823066614211086},0.99672138964282908,-4.9324369214473904,10.802591863813419,0.39084691835095953,-1.1162068578556585,-7.3615729417544878E-2,9.0377341482740389E-2,-8.1193018107685759,0.39513813838782141,{"$f":"MMULT(Y65:AH65,TRANSPOSE(K65:T65))","v":0.25367496690318297},{"$f":"SQRT(IF(Calculator!$F$6=$A$84,1,0)+AI65)","v":0.50366155988241046},{"$f":"MMULT(U65:X65,Calcs!$A$152:$D$155)","v":-24.965133948567349},19.671343341931575,1.5319197027094309,5.2839505214330078,{"$f":"MMULT(AK65:AN65,TRANSPOSE(U65:X65))","v":4.6121609887142814},{"$f":"SQRT(IF(Calculator!$F$6=$A$84,1,0)+AO65)","v":2.147594232790329}]
[55,3.4175105038513016,3.5957601682891949,3.2392608394134084,{"$f":"Equations!$B$4+L66*Equations!$B$5+M66*Equations!$B$6+N66*Equations!$B$7+O66*Equations!$B$8+P66*Equations!$B$9+Q66*Equations!$B$10+R66*Equations!$B$11+S66*Equations!$B$12+T66*Equations!$B$13","v":5.1010868044999853},{"$f":"E66+AJ66*TINV(1-ERF(Calculator!$F$7/SQRT(2)),Equations!$F$16)*Equations!$D$16","v":5.1439868452707769},{"$f":"E66-AJ66*TINV(1-ERF(Calculator!$F$7/SQRT(2)),Equations!$F$16)*Equations!$D$16","v":5.0581867637291937},{"$f":"Equations!$B$33+X66*Equations!$B$30+W66*Equations!$B$31+V66*Equations!$B$32","v":25.12333877881909},{"$f":"H66+AP66*TINV(1-ERF(Calculator!$F$7/SQRT(2)),Equations!$F$36)*Equations!$D$36","v":27.143107320146306},{"$f":"H66-AP66*TINV(1-ERF(Calculator!$F$7/SQRT(2)),Equations!$F$36)*Equations!$D$36","v":23.103570237491873},1,0,0,0,0.63750469787535069,1.3010299956639813,{"$f":"$A$5^2/($A$7+Equations!$B$3)","v":7.3257727781418414},{"$f":"1/($A$7+Equations!$B$3)","v":14.950556690085392},0,0.7,1,1.3010299956639813,0.91072099696478681,0.48999999999999994,{"$f":"MMULT(K66:T66,Calcs!$A$134:$J$143)","v":0.36823066614211086},0.99672138964282908,-4.9324369214473904,10.802591863813419,0.39084691835095953,-1.1162068578556585,-7.3615729417544878E-2,9.0377341482740389E-2,-8.1193018107685759,0.39513813838782141,{"$f":"MMULT(Y66:AH66,TRANSPOSE(K66:T66))","v":0.25367496690318297},{"$f":"SQRT(IF(Calculator!$F$6=$A$84,1,0)+AI66)","v":0.50366155988241046},{"$f":"MMULT(U66:X66,Calcs!$A$152:$D$155)","v":-24.965133948567349},19.671343341931575,1.5319197027094309,5.2839505214330078,{"$f":"MMULT(AK66:AN66,TRANSPOSE(U66:X66))","v":4.6121609887142814},{"$f":"SQRT(IF(Calculator!$F$6=$A$84,1,0)+AO66)","v":2.147594232790329}]
[65,2.9227022096639041,3.1407315481087439,2.7046728712190653,{"$f":"Equations!$B$4+L67*Equations!$B$5+M67*Equations!$B$6+N67*Equations!$B$7+O67*Equations!$B$8+P67*Equations!$B$9+Q67*Equations!$B$10+R67*Equations!$B$11+S67*Equations!$B$12+T67*Equations!$B$13","v":5.1010868044999853},{"$f":"E67+AJ67*TINV(1-ERF(Calculator!$F$7/SQRT(2)),Equations!$F$16)*Equations!$D$16","v":5.1439868452707769},{"$f":"E67-AJ67*TINV(1-ERF(Calculator!$F$7/SQRT(2)),Equations!$F$16)*Equations!$D$16","v":5.0581867637291937},{"$f":"Equations!$B$33+X67*Equations!$B$30+W67*Equations!$B$31+V67*Equations!$B$32","v":25.12333877881909},{"$f":"H67+AP67*TINV(1-ERF(Calculator!$F$7/SQRT(2)),Equations!$F$36)*Equations!$D$36","v":27.143107320146306},{"$f":"H67-AP67*TINV(1-ERF(Calculator!$F$7/SQRT(2)),Equations!$F$36)*Equations!$D$36","v":23.103570237491873},1,0,0,0,0.63750469787535069,1.3010299956639813,{"$f":"$A$5^2/($A$7+Equations!$B$3)","v":7.3257727781418414},{"$f":"1/($A$7+Equations!$B$3)","v":14.950556690085392},0,0.7,1,1.3010299956639813,0.91072099696478681,0.48999999999999994,{"$f":"MMULT(K67:T67,Calcs!$A$134:$J$143)","v":0.36823066614211086},0.99672138964282908,-4.9324369214473904,10.802591863813419,0.39084691835095953,-1.1162068578556585,-7.3615729417544878E-2,9.0377341482740389E-2,-8.1193018107685759,0.39513813838782141,{"$f":"MMULT(Y67:AH67,TRANSPOSE(K67:T67))","v":0.25367496690318297},{"$f":"SQRT(IF(Calculator!$F$6=$A$84,1,0)+AI67)","v":0.50366155988241046},{"$f":"MMULT(U67:X67,Calcs!$A$152:$D$155)","v":-24.965133948567349},19.671343341931575,1.5319197027094309,5.2839505214330078,{"$f":"MMULT(AK67:AN67,TRANSPOSE(U67:X67))","v":4.6121609887142814},{"$f":"SQRT(IF(Calculator!$F$6=$A$84,1,0)+AO67)","v":2.147594232790329}]
[75,2.4563189216053267,2.7118427308971551,2.2007951123134979,{"$f":"Equations!$B$4+L68*Equations!$B$5+M68*Equations!$B$6+N68*Equations!$B$7+O68*Equations!$B$8+P68*Equations!$B$9+Q68*Equations!$B$10+R68*Equations!$B$11+S68*Equations!$B$12+T68*Equations!$B$13","v":5.1010868044999853},{"$f":"E68+AJ68*TINV(1-ERF(Calculator!$F$7/SQRT(2)),Equations!$F$16)*Equations!$D$16","v":5.1439868452707769},{"$f":"E68-AJ68*TINV(1-ERF(Calculator!$F$7/SQRT(2)),Equations!$F$16)*Equations!$D$16","v":5.0581867637291937},{"$f":"Equations!$B$33+X68*Equations!$B$30+W68*Equations!$B$31+V68*Equations!$B$32","v":25.12333877881909},{"$f":"H68+AP68*TINV(1-ERF(Calculator!$F$7/SQRT(2)),Equations!$F$36)*Equations!$D$36","v":27.143107320146306},{"$f":"H68-AP68*TINV(1-ERF(Calculator!$F$7/SQRT(2)),Equations!$F$36)*Equations!$D$36","v":23.103570237491873},1,0,0,0,0.63750469787535069,1.3010299956639813,{"$f":"$A$5^2/($A$7+Equations!$B$3)","v":7.3257727781418414},{"$f":"1/($A$7+Equations!$B$3)","v":14.950556690085392},0,0.7,1,1.3010299956639813,0.91072099696478681,0.48999999999999994,{"$f":"MMULT(K68:T68,Calcs!$A$134:$J$143)","v":0.36823066614211086},0.99672138964282908,-4.9324369214473904,10.802591863813419,0.39084691835095953,-1.1162068578556585,-7.3615729417544878E-2,9.0377341482740389E-2,-8.1193018107685759,0.39513813838782141,{"$f":"MMULT(Y68:AH68,TRANSPOSE(K68:T68))","v":0.25367496690318297},{"$f":"SQRT(IF(Calculator!$F$6=$A$84,1,0)+AI68)","v":0.50366155988241046},{"$f":"MMULT(U68:X68,Calcs!$A$152:$D$155)","v":-24.965133948567349},19.671343341931575,1.5319197027094309,5.2839505214330078,{"$f":"MMULT(AK68:AN68,TRANSPOSE(U68:X68))","v":4.6121609887142814},{"$f":"SQRT(IF(Calculator!$F$6=$A$84,1,0)+AO68)","v":2.147594232790329}]
[85,2.0159796535416423,2.3069041477892416,1.7250551592940426,{"$f":"Equations!$B$4+L69*Equations!$B$5+M69*Equations!$B$6+N69*Equations!$B$7+O69*Equations!$B$8+P69*Equations!$B$9+Q69*Equations!$B$10+R69*Equations!$B$11+S69*Equations!$B$12+T69*Equations!$B$13","v":5.1010868044999853},{"$f":"E69+AJ69*TINV(1-ERF(Calculator!$F$7/SQRT(2)),Equations!$F$16)*Equations!$D$16","v":5.1439868452707769},{"$f":"E69-AJ69*TINV(1-ERF(Calculator!$F$7/SQRT(2)),Equations!$F$16)*Equations!$D$16","v":5.0581867637291937},{"$f":"Equations!$B$33+X69*Equations!$B$30+W69*Equations!$B$31+V69*Equations!$B$32","v":25.12333877881909},{"$f":"H69+AP69*TINV(1-ERF(Calculator!$F$7/SQRT(2)),Equations!$F$36)*Equations!$D$36","v":27.143107320146306},{"$f":"H69-AP69*TINV(1-ERF(Calculator!$F$7/SQRT(2)),Equations!$F$36)*Equations!$D$36","v":23.103570237491873},1,0,0,0,0.63750469787535069,1.3010299956639813,{"$f":"$A$5^2/($A$7+Equations!$B$3)","v":7.3257727781418414},{"$f":"1/($A$7+Equations!$B$3)","v":14.950556690085392},0,0.7,1,1.3010299956639813,0.91072099696478681,0.48999999999999994,{"$f":"MMULT(K69:T69,Calcs!$A$134:$J$143)","v":0.36823066614211086},0.99672138964282908,-4.9324369214473904,10.802591863813419,0.39084691835095953,-1.1162068578556585,-7.3615729417544878E-2,9.0377341482740389E-2,-8.1193018107685759,0.39513813838782141,{"$f":"MMULT(Y69:AH69,TRANSPOSE(K69:T69))","v":0.25367496690318297},{"$f":"SQRT(IF(Calculator!$F$6=$A$84,1,0)+AI69)","v":0.50366155988241046},{"$f":"MMULT(U69:X69,Calcs!$A$152:$D$155)","v":-24.965133948567349},19.671343341931575,1.5319197027094309,5.2839505214330078,{"$f":"MMULT(AK69:AN69,TRANSPOSE(U69:X69))","v":4.6121609887142814},{"$f":"SQRT(IF(Calculator!$F$6=$A$84,1,0)+AO69)","v":2.147594232790329}]
[95,1.5995621167322653,1.9239641295656364,1.2751601038988949,{"$f":"Equations!$B$4+L70*Equations!$B$5+M70*Equations!$B$6+N70*Equations!$B$7+O70*Equations!$B$8+P70*Equations!$B$9+Q70*Equations!$B$10+R70*Equations!$B$11+S70*Equations!$B$12+T70*Equations!$B$13","v":5.1010868044999853},{"$f":"E70+AJ70*TINV(1-ERF(Calculator!$F$7/SQRT(2)),Equations!$F$16)*Equations!$D$16","v":5.1439868452707769},{"$f":"E70-AJ70*TINV(1-ERF(Calculator!$F$7/SQRT(2)),Equations!$F$16)*Equations!$D$16","v":5.0581867637291937},{"$f":"Equations!$B$33+X70*Equations!$B$30+W70*Equations!$B$31+V70*Equations!$B$32","v":25.12333877881909},{"$f":"H70+AP70*TINV(1-ERF(Calculator!$F$7/SQRT(2)),Equations!$F$36)*Equations!$D$36","v":27.143107320146306},{"$f":"H70-AP70*TINV(1-ERF(Calculator!$F$7/SQRT(2)),Equations!$F$36)*Equations!$D$36","v":23.103570237491873},1,0,0,0,0.63750469787535069,1.3010299956639813,{"$f":"$A$5^2/($A$7+Equations!$B$3)","v":7.3257727781418414},{"$f":"1/($A$7+Equations!$B$3)","v":14.950556690085392},0,0.7,1,1.3010299956639813,0.91072099696478681,0.48999999999999994,{"$f":"MMULT(K70:T70,Calcs!$A$134:$J$143)","v":0.36823066614211086},0.99672138964282908,-4.9324369214473904,10.802591863813419,0.39084691835095953,-1.1162068578556585,-7.3615729417544878E-2,9.0377341482740389E-2,-8.1193018107685759,0.39513813838782141,{"$f":"MMULT(Y70:AH70,TRANSPOSE(K70:T70))","v":0.25367496690318297},{"$f":"SQRT(IF(Calculator!$F$6=$A$84,1,0)+AI70)","v":0.50366155988241046},{"$f":"MMULT(U70:X70,Calcs!$A$152:$D$155)","v":-24.965133948567349},19.671343341931575,1.5319197027094309,5.2839505214330078,{"$f":"MMULT(AK70:AN70,TRANSPOSE(U70:X70))","v":4.6121609887142814},{"$f":"SQRT(IF(Calculator!$F$6=$A$84,1,0)+AO70)","v":2.147594232790329}]
[105,1.2051685141717003,1.5612774509281018,0.84905957741529903,{"$f":"Equations!$B$4+L71*Equations!$B$5+M71*Equations!$B$6+N71*Equations!$B$7+O71*Equations!$B$8+P71*Equations!$B$9+Q71*Equations!$B$10+R71*Equations!$B$11+S71*Equations!$B$12+T71*Equations!$B$13","v":5.1010868044999853},{"$f":"E71+AJ71*TINV(1-ERF(Calculator!$F$7/SQRT(2)),Equations!$F$16)*Equations!$D$16","v":5.1439868452707769},{"$f":"E71-AJ71*TINV(1-ERF(Calculator!$F$7/SQRT(2)),Equations!$F$16)*Equations!$D$16","v":5.0581867637291937},{"$f":"Equations!$B$33+X71*Equations!$B$30+W71*Equations!$B$31+V71*Equations!$B$32","v":25.12333877881909},{"$f":"H71+AP71*TINV(1-ERF(Calculator!$F$7/SQRT(2)),Equations!$F$36)*Equations!$D$36","v":27.143107320146306},{"$f":"H71-AP71*TINV(1-ERF(Calculator!$F$7/SQRT(2)),Equations!$F$36)*Equations!$D$36","v":23.103570237491873},1,0,0,0,0.63750469787535069,1.3010299956639813,{"$f":"$A$5^2/($A$7+Equations!$B$3)","v":7.3257727781418414},{"$f":"1/($A$7+Equations!$B$3)","v":14.950556690085392},0,0.7,1,1.3010299956639813,0.91072099696478681,0.48999999999999994,{"$f":"MMULT(K71:T71,Calcs!$A$134:$J$143)","v":0.36823066614211086},0.99672138964282908,-4.9324369214473904,10.802591863813419,0.39084691835095953,-1.1162068578556585,-7.3615729417544878E-2,9.0377341482740389E-2,-8.1193018107685759,0.39513813838782141,{"$f":"MMULT(Y71:AH71,TRANSPOSE(K71:T71))","v":0.25367496690318297},{"$f":"SQRT(IF(Calculator!$F$6=$A$84,1,0)+AI71)","v":0.50366155988241046},{"$f":"MMULT(U71:X71,Calcs!$A$152:$D$155)","v":-24.965133948567349},19.671343341931575,1.5319197027094309,5.2839505214330078,{"$f":"MMULT(AK71:AN71,TRANSPOSE(U71:X71))","v":4.6121609887142814},{"$f":"SQRT(IF(Calculator!$F$6=$A$84,1,0)+AO71)","v":2.147594232790329}]
[115,0.83109662242193272,1.217278737182363,0.44491450766150242,{"$f":"Equations!$B$4+L72*Equations!$B$5+M72*Equations!$B$6+N72*Equations!$B$7+O72*Equations!$B$8+P72*Equations!$B$9+Q72*Equations!$B$10+R72*Equations!$B$11+S72*Equations!$B$12+T72*Equations!$B$13","v":5.1010868044999853},{"$f":"E72+AJ72*TINV(1-ERF(Calculator!$F$7/SQRT(2)),Equations!$F$16)*Equations!$D$16","v":5.1439868452707769},{"$f":"E72-AJ72*TINV(1-ERF(Calculator!$F$7/SQRT(2)),Equations!$F$16)*Equations!$D$16","v":5.0581867637291937},{"$f":"Equations!$B$33+X72*Equations!$B$30+W72*Equations!$B$31+V72*Equations!$B$32","v":25.12333877881909},{"$f":"H72+AP72*TINV(1-ERF(Calculator!$F$7/SQRT(2)),Equations!$F$36)*Equations!$D$36","v":27.143107320146306},{"$f":"H72-AP72*TINV(1-ERF(Calculator!$F$7/SQRT(2)),Equations!$F$36)*Equations!$D$36","v":23.103570237491873},1,0,0,0,0.63750469787535069,1.3010299956639813,{"$f":"$A$5^2/($A$7+Equations!$B$3)","v":7.3257727781418414},{"$f":"1/($A$7+Equations!$B$3)","v":14.950556690085392},0,0.7,1,1.3010299956639813,0.91072099696478681,0.48999999999999994,{"$f":"MMULT(K72:T72,Calcs!$A$134:$J$143)","v":0.36823066614211086},0.99672138964282908,-4.9324369214473904,10.802591863813419,0.39084691835095953,-1.1162068578556585,-7.3615729417544878E-2,9.0377341482740389E-2,-8.1193018107685759,0.39513813838782141,{"$f":"MMULT(Y72:AH72,TRANSPOSE(K72:T72))","v":0.25367496690318297},{"$f":"SQRT(IF(Calculator!$F$6=$A$84,1,0)+AI72)","v":0.50366155988241046},{"$f":"MMULT(U72:X72,Calcs!$A$152:$D$155)","v":-24.965133948567349},19.671343341931575,1.5319197027094309,5.2839505214330078,{"$f":"MMULT(AK72:AN72,TRANSPOSE(U72:X72))","v":4.6121609887142814},{"$f":"SQRT(IF(Calculator!$F$6=$A$84,1,0)+AO72)","v":2.147594232790329}]
[125,0.47581523132517317,0.89055987845336293,6.1070584196984218E-2,{"$f":"Equations!$B$4+L73*Equations!$B$5+M73*Equations!$B$6+N73*Equations!$B$7+O73*Equations!$B$8+P73*Equations!$B$9+Q73*Equations!$B$10+R73*Equations!$B$11+S73*Equations!$B$12+T73*Equations!$B$13","v":5.1010868044999853},{"$f":"E73+AJ73*TINV(1-ERF(Calculator!$F$7/SQRT(2)),Equations!$F$16)*Equations!$D$16","v":5.1439868452707769},{"$f":"E73-AJ73*TINV(1-ERF(Calculator!$F$7/SQRT(2)),Equations!$F$16)*Equations!$D$16","v":5.0581867637291937},{"$f":"Equations!$B$33+X73*Equations!$B$30+W73*Equations!$B$31+V73*Equations!$B$32","v":25.12333877881909},{"$f":"H73+AP73*TINV(1-ERF(Calculator!$F$7/SQRT(2)),Equations!$F$36)*Equations!$D$36","v":27.143107320146306},{"$f":"H73-AP73*TINV(1-ERF(Calculator!$F$7/SQRT(2)),Equations!$F$36)*Equations!$D$36","v":23.103570237491873},1,0,0,0,0.63750469787535069,1.3010299956639813,{"$f":"$A$5^2/($A$7+Equations!$B$3)","v":7.3257727781418414},{"$f":"1/($A$7+Equations!$B$3)","v":14.950556690085392},0,0.7,1,1.3010299956639813,0.91072099696478681,0.48999999999999994,{"$f":"MMULT(K73:T73,Calcs!$A$134:$J$143)","v":0.36823066614211086},0.99672138964282908,-4.9324369214473904,10.802591863813419,0.39084691835095953,-1.1162068578556585,-7.3615729417544878E-2,9.0377341482740389E-2,-8.1193018107685759,0.39513813838782141,{"$f":"MMULT(Y73:AH73,TRANSPOSE(K73:T73))","v":0.25367496690318297},{"$f":"SQRT(IF(Calculator!$F$6=$A$84,1,0)+AI73)","v":0.50366155988241046},{"$f":"MMULT(U73:X73,Calcs!$A$152:$D$155)","v":-24.965133948567349},19.671343341931575,1.5319197027094309,5.2839505214330078,{"$f":"MMULT(AK73:AN73,TRANSPOSE(U73:X73))","v":4.6121609887142814},{"$f":"SQRT(IF(Calculator!$F$6=$A$84,1,0)+AO73)","v":2.147594232790329}]
[135,0.13794319419615789,0.57985076411877567,-0.3039643757264599,{"$f":"Equations!$B$4+L74*Equations!$B$5+M74*Equations!$B$6+N74*Equations!$B$7+O74*Equations!$B$8+P74*Equations!$B$9+Q74*Equations!$B$10+R74*Equations!$B$11+S74*Equations!$B$12+T74*Equations!$B$13","v":5.1010868044999853},{"$f":"E74+AJ74*TINV(1-ERF(Calculator!$F$7/SQRT(2)),Equations!$F$16)*Equations!$D$16","v":5.1439868452707769},{"$f":"E74-AJ74*TINV(1-ERF(Calculator!$F$7/SQRT(2)),Equations!$F$16)*Equations!$D$16","v":5.0581867637291937},{"$f":"Equations!$B$33+X74*Equations!$B$30+W74*Equations!$B$31+V74*Equations!$B$32","v":25.12333877881909},{"$f":"H74+AP74*TINV(1-ERF(Calculator!$F$7/SQRT(2)),Equations!$F$36)*Equations!$D$36","v":27.143107320146306},{"$f":"H74-AP74*TINV(1-ERF(Calculator!$F$7/SQRT(2)),Equations!$F$36)*Equations!$D$36","v":23.103570237491873},1,0,0,0,0.63750469787535069,1.3010299956639813,{"$f":"$A$5^2/($A$7+Equations!$B$3)","v":7.3257727781418414},{"$f":"1/($A$7+Equations!$B$3)","v":14.950556690085392},0,0.7,1,1.3010299956639813,0.91072099696478681,0.48999999999999994,{"$f":"MMULT(K74:T74,Calcs!$A$134:$J$143)","v":0.36823066614211086},0.99672138964282908,-4.9324369214473904,10.802591863813419,0.39084691835095953,-1.1162068578556585,-7.3615729417544878E-2,9.0377341482740389E-2,-8.1193018107685759,0.39513813838782141,{"$f":"MMULT(Y74:AH74,TRANSPOSE(K74:T74))","v":0.25367496690318297},{"$f":"SQRT(IF(Calculator!$F$6=$A$84,1,0)+AI74)","v":0.50366155988241046},{"$f":"MMULT(U74:X74,Calcs!$A$152:$D$155)","v":-24.965133948567349},19.671343341931575,1.5319197027094309,5.2839505214330078,{"$f":"MMULT(AK74:AN74,TRANSPOSE(U74:X74))","v":4.6121609887142814},{"$f":"SQRT(IF(Calculator!$F$6=$A$84,1,0)+AO74)","v":2.147594232790329}]
[145,-0.18376851591484644,0.28400278164283455,-0.65153981347252665,{"$f":"Equations!$B$4+L75*Equations!$B$5+M75*Equations!$B$6+N75*Equations!$B$7+O75*Equations!$B$8+P75*Equations!$B$9+Q75*Equations!$B$10+R75*Equations!$B$11+S75*Equations!$B$12+T75*Equations!$B$13","v":5.1010868044999853},{"$f":"E75+AJ75*TINV(1-ERF(Calculator!$F$7/SQRT(2)),Equations!$F$16)*Equations!$D$16","v":5.1439868452707769},{"$f":"E75-AJ75*TINV(1-ERF(Calculator!$F$7/SQRT(2)),Equations!$F$16)*Equations!$D$16","v":5.0581867637291937},{"$f":"Equations!$B$33+X75*Equations!$B$30+W75*Equations!$B$31+V75*Equations!$B$32","v":25.12333877881909},{"$f":"H75+AP75*TINV(1-ERF(Calculator!$F$7/SQRT(2)),Equations!$F$36)*Equations!$D$36","v":27.143107320146306},{"$f":"H75-AP75*TINV(1-ERF(Calculator!$F$7/SQRT(2)),Equations!$F$36)*Equations!$D$36","v":23.103570237491873},1,0,0,0,0.63750469787535069,1.3010299956639813,{"$f":"$A$5^2/($A$7+Equations!$B$3)","v":7.3257727781418414},{"$f":"1/($A$7+Equations!$B$3)","v":14.950556690085392},0,0.7,1,1.3010299956639813,0.91072099696478681,0.48999999999999994,{"$f":"MMULT(K75:T75,Calcs!$A$134:$J$143)","v":0.36823066614211086},0.99672138964282908,-4.9324369214473904,10.802591863813419,0.39084691835095953,-1.1162068578556585,-7.3615729417544878E-2,9.0377341482740389E-2,-8.1193018107685759,0.39513813838782141,{"$f":"MMULT(Y75:AH75,TRANSPOSE(K75:T75))","v":0.25367496690318297},{"$f":"SQRT(IF(Calculator!$F$6=$A$84,1,0)+AI75)","v":0.50366155988241046},{"$f":"MMULT(U75:X75,Calcs!$A$152:$D$155)","v":-24.965133948567349},19.671343341931575,1.5319197027094309,5.2839505214330078,{"$f":"MMULT(AK75:AN75,TRANSPOSE(U75:X75))","v":4.6121609887142814},{"$f":"SQRT(IF(Calculator!$F$6=$A$84,1,0)+AO75)","v":2.147594232790329}]
[155,-0.49045223536318744,1.9746278473042507E-3,-0.98287909857367839,{"$f":"Equations!$B$4+L76*Equations!$B$5+M76*Equations!$B$6+N76*Equations!$B$7+O76*Equations!$B$8+P76*Equations!$B$9+Q76*Equations!$B$10+R76*Equations!$B$11+S76*Equations!$B$12+T76*Equations!$B$13","v":5.1010868044999853},{"$f":"E76+AJ76*TINV(1-ERF(Calculator!$F$7/SQRT(2)),Equations!$F$16)*Equations!$D$16","v":5.1439868452707769},{"$f":"E76-AJ76*TINV(1-ERF(Calculator!$F$7/SQRT(2)),Equations!$F$16)*Equations!$D$16","v":5.0581867637291937},{"$f":"Equations!$B$33+X76*Equations!$B$30+W76*Equations!$B$31+V76*Equations!$B$32","v":25.12333877881909},{"$f":"H76+AP76*TINV(1-ERF(Calculator!$F$7/SQRT(2)),Equations!$F$36)*Equations!$D$36","v":27.143107320146306},{"$f":"H76-AP76*TINV(1-ERF(Calculator!$F$7/SQRT(2)),Equations!$F$36)*Equations!$D$36","v":23.103570237491873},1,0,0,0,0.63750469787535069,1.3010299956639813,{"$f":"$A$5^2/($A$7+Equations!$B$3)","v":7.3257727781418414},{"$f":"1/($A$7+Equations!$B$3)","v":14.950556690085392},0,0.7,1,1.3010299956639813,0.91072099696478681,0.48999999999999994,{"$f":"MMULT(K76:T76,Calcs!$A$134:$J$143)","v":0.36823066614211086},0.99672138964282908,-4.9324369214473904,10.802591863813419,0.39084691835095953,-1.1162068578556585,-7.3615729417544878E-2,9.0377341482740389E-2,-8.1193018107685759,0.39513813838782141,{"$f":"MMULT(Y76:AH76,TRANSPOSE(K76:T76))","v":0.25367496690318297},{"$f":"SQRT(IF(Calculator!$F$6=$A$84,1,0)+AI76)","v":0.50366155988241046},{"$f":"MMULT(U76:X76,Calcs!$A$152:$D$155)","v":-24.965133948567349},19.671343341931575,1.5319197027094309,5.2839505214330078,{"$f":"MMULT(AK76:AN76,TRANSPOSE(U76:X76))","v":4.6121609887142814},{"$f":"SQRT(IF(Calculator!$F$6=$A$84,1,0)+AO76)","v":2.147594232790329}]
[165,-0.78313692619354847,-0.26717993682141672,-1.2990939155656802,{"$f":"Equations!$B$4+L77*Equations!$B$5+M77*Equations!$B$6+N77*Equations!$B$7+O77*Equations!$B$8+P77*Equations!$B$9+Q77*Equations!$B$10+R77*Equations!$B$11+S77*Equations!$B$12+T77*Equations!$B$13","v":5.1010868044999853},{"$f":"E77+AJ77*TINV(1-ERF(Calculator!$F$7/SQRT(2)),Equations!$F$16)*Equations!$D$16","v":5.1439868452707769},{"$f":"E77-AJ77*TINV(1-ERF(Calculator!$F$7/SQRT(2)),Equations!$F$16)*Equations!$D$16","v":5.0581867637291937},{"$f":"Equations!$B$33+X77*Equations!$B$30+W77*Equations!$B$31+V77*Equations!$B$32","v":25.12333877881909},{"$f":"H77+AP77*TINV(1-ERF(Calculator!$F$7/SQRT(2)),Equations!$F$36)*Equations!$D$36","v":27.143107320146306},{"$f":"H77-AP77*TINV(1-ERF(Calculator!$F$7/SQRT(2)),Equations!$F$36)*Equations!$D$36","v":23.103570237491873},1,0,0,0,0.63750469787535069,1.3010299956639813,{"$f":"$A$5^2/($A$7+Equations!$B$3)","v":7.3257727781418414},{"$f":"1/($A$7+Equations!$B$3)","v":14.950556690085392},0,0.7,1,1.3010299956639813,0.91072099696478681,0.48999999999999994,{"$f":"MMULT(K77:T77,Calcs!$A$134:$J$143)","v":0.36823066614211086},0.99672138964282908,-4.9324369214473904,10.802591863813419,0.39084691835095953,-1.1162068578556585,-7.3615729417544878E-2,9.0377341482740389E-2,-8.1193018107685759,0.39513813838782141,{"$f":"MMULT(Y77:AH77,TRANSPOSE(K77:T77))","v":0.25367496690318297},{"$f":"SQRT(IF(Calculator!$F$6=$A$84,1,0)+AI77)","v":0.50366155988241046},{"$f":"MMULT(U77:X77,Calcs!$A$152:$D$155)","v":-24.965133948567349},19.671343341931575,1.5319197027094309,5.2839505214330078,{"$f":"MMULT(AK77:AN77,TRANSPOSE(U77:X77))","v":4.6121609887142814},{"$f":"SQRT(IF(Calculator!$F$6=$A$84,1,0)+AO77)","v":2.147594232790329}]
[175,-1.0627597095897774,-0.52432269452065561,-1.6011967246588998,{"$f":"Equations!$B$4+L78*Equations!$B$5+M78*Equations!$B$6+N78*Equations!$B$7+O78*Equations!$B$8+P78*Equations!$B$9+Q78*Equations!$B$10+R78*Equations!$B$11+S78*Equations!$B$12+T78*Equations!$B$13","v":5.1010868044999853},{"$f":"E78+AJ78*TINV(1-ERF(Calculator!$F$7/SQRT(2)),Equations!$F$16)*Equations!$D$16","v":5.1439868452707769},{"$f":"E78-AJ78*TINV(1-ERF(Calculator!$F$7/SQRT(2)),Equations!$F$16)*Equations!$D$16","v":5.0581867637291937},{"$f":"Equations!$B$33+X78*Equations!$B$30+W78*Equations!$B$31+V78*Equations!$B$32","v":25.12333877881909},{"$f":"H78+AP78*TINV(1-ERF(Calculator!$F$7/SQRT(2)),Equations!$F$36)*Equations!$D$36","v":27.143107320146306},{"$f":"H78-AP78*TINV(1-ERF(Calculator!$F$7/SQRT(2)),Equations!$F$36)*Equations!$D$36","v":23.103570237491873},1,0,0,0,0.63750469787535069,1.3010299956639813,{"$f":"$A$5^2/($A$7+Equations!$B$3)","v":7.3257727781418414},{"$f":"1/($A$7+Equations!$B$3)","v":14.950556690085392},0,0.7,1,1.3010299956639813,0.91072099696478681,0.48999999999999994,{"$f":"MMULT(K78:T78,Calcs!$A$134:$J$143)","v":0.36823066614211086},0.99672138964282908,-4.9324369214473904,10.802591863813419,0.39084691835095953,-1.1162068578556585,-7.3615729417544878E-2,9.0377341482740389E-2,-8.1193018107685759,0.39513813838782141,{"$f":"MMULT(Y78:AH78,TRANSPOSE(K78:T78))","v":0.25367496690318297},{"$f":"SQRT(IF(Calculator!$F$6=$A$84,1,0)+AI78)","v":0.50366155988241046},{"$f":"MMULT(U78:X78,Calcs!$A$152:$D$155)","v":-24.965133948567349},19.671343341931575,1.5319197027094309,5.2839505214330078,{"$f":"MMULT(AK78:AN78,TRANSPOSE(U78:X78))","v":4.6121609887142814},{"$f":"SQRT(IF(Calculator!$F$6=$A$84,1,0)+AO78)","v":2.147594232790329}]
[185,-1.3301758888870767,-0.770240187232477,-1.8901115905416772,{"$f":"Equations!$B$4+L79*Equations!$B$5+M79*Equations!$B$6+N79*Equations!$B$7+O79*Equations!$B$8+P79*Equations!$B$9+Q79*Equations!$B$10+R79*Equations!$B$11+S79*Equations!$B$12+T79*Equations!$B$13","v":5.1010868044999853},{"$f":"E79+AJ79*TINV(1-ERF(Calculator!$F$7/SQRT(2)),Equations!$F$16)*Equations!$D$16","v":5.1439868452707769},{"$f":"E79-AJ79*TINV(1-ERF(Calculator!$F$7/SQRT(2)),Equations!$F$16)*Equations!$D$16","v":5.0581867637291937},{"$f":"Equations!$B$33+X79*Equations!$B$30+W79*Equations!$B$31+V79*Equations!$B$32","v":25.12333877881909},{"$f":"H79+AP79*TINV(1-ERF(Calculator!$F$7/SQRT(2)),Equations!$F$36)*Equations!$D$36","v":27.143107320146306},{"$f":"H79-AP79*TINV(1-ERF(Calculator!$F$7/SQRT(2)),Equations!$F$36)*Equations!$D$36","v":23.103570237491873},1,0,0,0,0.63750469787535069,1.3010299956639813,{"$f":"$A$5^2/($A$7+Equations!$B$3)","v":7.3257727781418414},{"$f":"1/($A$7+Equations!$B$3)","v":14.950556690085392},0,0.7,1,1.3010299956639813,0.91072099696478681,0.48999999999999994,{"$f":"MMULT(K79:T79,Calcs!$A$134:$J$143)","v":0.36823066614211086},0.99672138964282908,-4.9324369214473904,10.802591863813419,0.39084691835095953,-1.1162068578556585,-7.3615729417544878E-2,9.0377341482740389E-2,-8.1193018107685759,0.39513813838782141,{"$f":"MMULT(Y79:AH79,TRANSPOSE(K79:T79))","v":0.25367496690318297},{"$f":"SQRT(IF(Calculator!$F$6=$A$84,1,0)+AI79)","v":0.50366155988241046},{"$f":"MMULT(U79:X79,Calcs!$A$152:$D$155)","v":-24.965133948567349},19.671343341931575,1.5319197027094309,5.2839505214330078,{"$f":"MMULT(AK79:AN79,TRANSPOSE(U79:X79))","v":4.6121609887142814},{"$f":"SQRT(IF(Calculator!$F$6=$A$84,1,0)+AO79)","v":2.147594232790329}]
[195,-1.5861676879943809,-1.0056517526683468,-2.1666836233204152,{"$f":"Equations!$B$4+L80*Equations!$B$5+M80*Equations!$B$6+N80*Equations!$B$7+O80*Equations!$B$8+P80*Equations!$B$9+Q80*Equations!$B$10+R80*Equations!$B$11+S80*Equations!$B$12+T80*Equations!$B$13","v":5.1010868044999853},{"$f":"E80+AJ80*TINV(1-ERF(Calculator!$F$7/SQRT(2)),Equations!$F$16)*Equations!$D$16","v":5.1439868452707769},{"$f":"E80-AJ80*TINV(1-ERF(Calculator!$F$7/SQRT(2)),Equations!$F$16)*Equations!$D$16","v":5.0581867637291937},{"$f":"Equations!$B$33+X80*Equations!$B$30+W80*Equations!$B$31+V80*Equations!$B$32","v":25.12333877881909},{"$f":"H80+AP80*TINV(1-ERF(Calculator!$F$7/SQRT(2)),Equations!$F$36)*Equations!$D$36","v":27.143107320146306},{"$f":"H80-AP80*TINV(1-ERF(Calculator!$F$7/SQRT(2)),Equations!$F$36)*Equations!$D$36","v":23.103570237491873},1,0,0,0,0.63750469787535069,1.3010299956639813,{"$f":"$A$5^2/($A$7+Equations!$B$3)","v":7.3257727781418414},{"$f":"1/($A$7+Equations!$B$3)","v":14.950556690085392},0,0.7,1,1.3010299956639813,0.91072099696478681,0.48999999999999994,{"$f":"MMULT(K80:T80,Calcs!$A$134:$J$143)","v":0.36823066614211086},0.99672138964282908,-4.9324369214473904,10.802591863813419,0.39084691835095953,-1.1162068578556585,-7.3615729417544878E-2,9.0377341482740389E-2,-8.1193018107685759,0.39513813838782141,{"$f":"MMULT(Y80:AH80,TRANSPOSE(K80:T80))","v":0.25367496690318297},{"$f":"SQRT(IF(Calculator!$F$6=$A$84,1,0)+AI80)","v":0.50366155988241046},{"$f":"MMULT(U80:X80,Calcs!$A$152:$D$155)","v":-24.965133948567349},19.671343341931575,1.5319197027094309,5.2839505214330078,{"$f":"MMULT(AK80:AN80,TRANSPOSE(U80:X80))","v":4.6121609887142814},{"$f":"SQRT(IF(Calculator!$F$6=$A$84,1,0)+AO80)","v":2.147594232790329}]
[200,-1.7101058077883282,-1.1196259772318526,-2.300585638344804,{"$f":"Equations!$B$4+L81*Equations!$B$5+M81*Equations!$B$6+N81*Equations!$B$7+O81*Equations!$B$8+P81*Equations!$B$9+Q81*Equations!$B$10+R81*Equations!$B$11+S81*Equations!$B$12+T81*Equations!$B$13","v":5.1010868044999853},{"$f":"E81+AJ81*TINV(1-ERF(Calculator!$F$7/SQRT(2)),Equations!$F$16)*Equations!$D$16","v":5.1439868452707769},{"$f":"E81-AJ81*TINV(1-ERF(Calculator!$F$7/SQRT(2)),Equations!$F$16)*Equations!$D$16","v":5.0581867637291937},{"$f":"Equations!$B$33+X81*Equations!$B$30+W81*Equations!$B$31+V81*Equations!$B$32","v":25.12333877881909},{"$f":"H81+AP81*TINV(1-ERF(Calculator!$F$7/SQRT(2)),Equations!$F$36)*Equations!$D$36","v":27.143107320146306},{"$f":"H81-AP81*TINV(1-ERF(Calculator!$F$7/SQRT(2)),Equations!$F$36)*Equations!$D$36","v":23.103570237491873},1,0,0,0,0.63750469787535069,1.3010299956639813,{"$f":"$A$5^2/($A$7+Equations!$B$3)","v":7.3257727781418414},{"$f":"1/($A$7+Equations!$B$3)","v":14.950556690085392},0,0.7,1,1.3010299956639813,0.91072099696478681,0.48999999999999994,{"$f":"MMULT(K81:T81,Calcs!$A$134:$J$143)","v":0.36823066614211086},0.99672138964282908,-4.9324369214473904,10.802591863813419,0.39084691835095953,-1.1162068578556585,-7.3615729417544878E-2,9.0377341482740389E-2,-8.1193018107685759,0.39513813838782141,{"$f":"MMULT(Y81:AH81,TRANSPOSE(K81:T81))","v":0.25367496690318297},{"$f":"SQRT(IF(Calculator!$F$6=$A$84,1,0)+AI81)","v":0.50366155988241046},{"$f":"MMULT(U81:X81,Calcs!$A$152:$D$155)","v":-24.965133948567349},19.671343341931575,1.5319197027094309,5.2839505214330078,{"$f":"MMULT(AK81:AN81,TRANSPOSE(U81:X81))","v":4.6121609887142814},{"$f":"SQRT(IF(Calculator!$F$6=$A$84,1,0)+AO81)","v":2.147594232790329}]
[]
["Confidence","Temperature (°F):",2,{"$f":"LOG(10)","v":1},{"$f":"LOG(15)","v":1.1760912590556813},{"$f":"LOG(20)","v":1.3010299956639813},{"$f":"LOG(25)","v":1.3979400086720377},null,null,"10m","1h","6h","1d","1w","4w"]
["Prediction","Temperature (°C):",7,{"$f":"D83","v":1},{"$f":"LOG(15)","v":1.1760912590556813},{"$f":"LOG(20)","v":1.3010299956639813},{"$f":"LOG(25)","v":1.3979400086720377},null,0,{"$f":"LOG(3600/6)","v":2.7781512503836434},{"$f":"LOG(3600)","v":3.5563025007672873},{"$f":"LOG(6*3600)","v":4.3344537511509307},{"$f":"LOG(24*3600)","v":4.9365137424788932},{"$f":"LOG(7*24*3600)","v":5.7816117824931501},{"$f":"LOG(4*7*24*3600)","v":6.3836717738211126},0,0,{"$f":"IF(Calculator!$C$5=$B$84,A63,IF(Calculator!$C$5=$B$85,A63+273,IF(Calculator!$C$5=$B$83,A63*9/5+32,273)))","v":25}]
[null,"Temperature (K):",null,null,null,null,null,"NaCl/SiO2:",1.4,{"$f":"LOG(3600/6)","v":2.7781512503836434},{"$f":"LOG(3600)","v":3.5563025007672873},{"$f":"LOG(6*3600)","v":4.3344537511509307},{"$f":"LOG(24*3600)","v":4.9365137424788932},{"$f":"LOG(7*24*3600)","v":5.7816117824931501},{"$f":"LOG(4*7*24*3600)","v":6.3836717738211126},1,0.2,{"$f":"IF(Calculator!$C$5=$B$84,A81,IF(Calculator!$C$5=$B$85,A81+273,IF(Calculator!$C$5=$B$83,A81*9/5+32,273)))","v":200}]
["Cl-/Na+:",null,"T (°C)",{"$f":"A9-273.15","v":25},"[SiO2]",{"$f":"ROUND(10^A3,2)","v":20},null,"NaCl (m):",null,null,null,null,null,"T (DPT):",{"$f":"IF(Calculator!$C$5=$B$84,D86,IF(Calculator!$C$5=$B$85,D86+273.15,IF(Calculator!$C$5=$B$83,D86*9/5+32,273.15)))","v":25}]
["pH:",null,"Cl/Na",{"$f":"A5","v":0.7},"NaCl/SiO2",{"$f":"ROUND(A7,4)","v":0},null,"NaCl (ppm):",null,null,null,null,null,"Temperature X Axis"]
["SiO2 data pts:",null,null,"NaCl data pts:",null,null,"Cl/Na data pts:",null,null,"T data pts",null,"Xaxis T",null,{"$f":"IF(Calculator!$C$5=$B$84,A63,IF(Calculator!$C$5=$B$85,A63+273.15,IF(Calculator!$C$5=$B$83,A63*9/5+32,273.15)))","v":25},null,null,"Log(s)",{"$f":"IF(OR(Calculator!F2<0,AND(Calculator!C3='Chart Data'!A86,Calculator!F3<0),AND(Calculator!C3='Chart Data'!A87,Calculator!F3>10.3),Calculator!F4<0,Calculator!F4>30,'Chart Data'!D86<0),\"N/A\",ROUND(B3,3))","v":5.101},{"$f":"IF(OR(Calculator!F2<0,AND(Calculator!C3='Chart Data'!A86,Calculator!F3<0),AND(Calculator!C3='Chart Data'!A87,Calculator!F3>10.3),Calculator!F4<0,Calculator!F4>30,'Chart Data'!D86<0),\"N/A\",ROUND(C3,3))","v":5.1440000000000001},{"$f":"IF(OR(Calculator!F2<0,AND(Calculator!C3='Chart Data'!A86,Calculator!F3<0),AND(Calculator!C3='Chart Data'!A87,Calculator!F3>10.3),Calculator!F4<0,Calculator!F4>30,'Chart Data'!D86<0),\"N/A\",ROUND(D3,3))","v":5.0579999999999998}]
[{"$f":"IF($D$86=25,IFERROR(INDEX(INDIRECT(\"XDPT\" & $D$87 & $F$87),ROW($A1)),0),IFERROR(INDEX(INDIRECT(\"XDPT\" & $D$87 & $F$87 & $D$86),ROW($A1)),0))","v":1.3010299956639813},{"$f":"IF($D$86=25,IFERROR(INDEX(INDIRECT(\"YDPT\" & $D$87 & $F$87),ROW($A1)),0),IFERROR(INDEX(INDIRECT(\"YDPT\" & $D$87 & $F$87 & $D$86),ROW($A1)),0))","v":5.1596213262910089},null,{"$f":"IF($D$86=25,IFERROR(INDEX(INDIRECT(\"XDPT\" & $D$87 & $F$86),ROW($A1)),0),IF(AND($D$87=0,$F$87=0),IFERROR(INDEX(INDIRECT(\"XDPTNaCl\" & $D$87 & $F$86 & $D$86),ROW($A1)),0),IFERROR(INDEX(INDIRECT(\"XDPT\" & $D$87 & $F$86 & $D$86),ROW($A1)),0)))","v":0},{"$f":"IF($D$86=25,IFERROR(INDEX(INDIRECT(\"YDPT\" & $D$87 & $F$86),ROW($A1)),0),IF(AND($D$87=0,$F$87=0),IFERROR(INDEX(INDIRECT(\"YDPTNaCl\" & $D$87 & $F$86 & $D$86),ROW($A1)),0),IFERROR(INDEX(INDIRECT(\"YDPT\" & $D$87 & $F$86 & $D$86),ROW($A1)),0)))","v":5.1596213262910089},null,{"$f":"IF($D$86=25,IFERROR(INDEX(INDIRECT(\"XDPT\" & $F$87 & $F$86),ROW($A1)),0),IF(AND($D$87=0,$F$87=0),IFERROR(INDEX(INDIRECT(\"XDPTClNa\" & $F$87 & $F$86 & $D$86),ROW($A1)),0),IFERROR(INDEX(INDIRECT(\"XDPT\" &  $F$87 & $F$86 & $D$86),ROW($A1)),0)))","v":0.7},{"$f":"IF($D$86=25,IFERROR(INDEX(INDIRECT(\"YDPT\" & $F$87 & $F$86),ROW($A1)),0),IF(AND($D$87=0,$F$87=0),IFERROR(INDEX(INDIRECT(\"YDPTClNa\" & $F$87 & $F$86 & $D$86),ROW($A1)),0),IFERROR(INDEX(INDIRECT(\"YDPT\" &  $F$87 & $F$86 & $D$86),ROW($A1)),0)))","v":5.1596213262910089},null,{"$f":"IFERROR(INDEX(INDIRECT(\"XDPT\" & $D$87 & $F$87 & $F$86),ROW($A1)),0)","v":25},{"$f":"IFERROR(INDEX(INDIRECT(\"YDPT\" & $D$87 & $F$87 & $F$86),ROW($A1)),0)","v":5.1596213262910089},{"$f":"IF(Calculator!$C$5=$B$84,J89,IF(Calculator!$C$5=$B$85,J89+273.15,IF(Calculator!$C$5=$B$83,J89*9/5+32,273.15)))","v":25},null,{"$f":"IF(Calculator!$C$5=$B$84,A64,IF(Calculator!$C$5=$B$85,A64+273.15,IF(Calculator!$C$5=$B$83,A64*9/5+32,273.15)))","v":35},null,null,"Hr:Min:Sec",{"$f":"IF(OR(Calculator!F2<0,AND(Calculator!C3='Chart Data'!A86,Calculator!F3<0),AND(Calculator!C3='Chart Data'!A87,Calculator!F3>10.3),Calculator!F4<0,Calculator!F4>30,'Chart Data'!D86<0),\"N/A\",ROUNDDOWN(10^B3/3600,0) & \":\" & ROUNDDOWN(60*(10^B3/3600-ROUNDDOWN(10^B3/3600,0)),0) & \":\" & ROUND((60*(10^B3/3600-ROUNDDOWN(10^B3/3600,0))-ROUNDDOWN(60*(10^B3/3600-ROUNDDOWN(10^B3/3600,0)),0))*60,0))","v":"35:3:28"},{"$f":"IF(OR(Calculator!F2<0,AND(Calculator!C3='Chart Data'!A86,Calculator!F3<0),AND(Calculator!C3='Chart Data'!A87,Calculator!F3>10.3),Calculator!F4<0,Calculator!F4>30,'Chart Data'!D86<0),\"N/A\",ROUNDDOWN(10^C3/3600,0) & \":\" & ROUNDDOWN(60*(10^C3/3600-ROUNDDOWN(10^C3/3600,0)),0) & \":\" & ROUND((60*(10^C3/3600-ROUNDDOWN(10^C3/3600,0))-ROUNDDOWN(60*(10^C3/3600-ROUNDDOWN(10^C3/3600,0)),0))*60,0))","v":"38:41:51"},{"$f":"IF(OR(Calculator!F2<0,AND(Calculator!C3='Chart Data'!A86,Calculator!F3<0),AND(Calculator!C3='Chart Data'!A87,Calculator!F3>10.3),Calculator!F4<0,Calculator!F4>30,'Chart Data'!D86<0),\"N/A\",ROUNDDOWN(10^D3/3600,0) & \":\" & ROUNDDOWN(60*(10^D3/3600-ROUNDDOWN(10^D3/3600,0)),0) & \":\" & ROUND((60*(10^D3/3600-ROUNDDOWN(10^D3/3600,0))-ROUNDDOWN(60*(10^D3/3600-ROUNDDOWN(10^D3/3600,0)),0))*60,0))","v":"31:45:37"}]
[{"$f":"IF($D$86=25,IFERROR(INDEX(INDIRECT(\"XDPT\" & $D$87 & $F$87),ROW($A2)),0),IFERROR(INDEX(INDIRECT(\"XDPT\" & $D$87 & $F$87 & $D$86),ROW($A2)),0))","v":1.3979400086720377},{"$f":"IF($D$86=25,IFERROR(INDEX(INDIRECT(\"YDPT\" & $D$87 & $F$87),ROW($A2)),0),IFERROR(INDEX(INDIRECT(\"YDPT\" & $D$87 & $F$87 & $D$86),ROW($A2)),0))","v":4.2403245550904343},null,{"$f":"IF($D$86=25,IFERROR(INDEX(INDIRECT(\"XDPT\" & $D$87 & $F$86),ROW($A2)),0),IF(AND($D$87=0,$F$87=0),IFERROR(INDEX(INDIRECT(\"XDPTNaCl\" & $D$87 & $F$86 & $D$86),ROW($A2)),0),IFERROR(INDEX(INDIRECT(\"XDPT\" & $D$87 & $F$86 & $D$86),ROW($A2)),0)))","v":0.01},{"$f":"IF($D$86=25,IFERROR(INDEX(INDIRECT(\"YDPT\" & $D$87 & $F$86),ROW($A2)),0),IF(AND($D$87=0,$F$87=0),IFERROR(INDEX(INDIRECT(\"YDPTNaCl\" & $D$87 & $F$86 & $D$86),ROW($A2)),0),IFERROR(INDEX(INDIRECT(\"YDPT\" & $D$87 & $F$86 & $D$86),ROW($A2)),0)))","v":4.6078408912826143},null,{"$f":"IF($D$86=25,IFERROR(INDEX(INDIRECT(\"XDPT\" & $F$87 & $F$86),ROW($A2)),0),IF(AND($D$87=0,$F$87=0),IFERROR(INDEX(INDIRECT(\"XDPTClNa\" & $F$87 & $F$86 & $D$86),ROW($A2)),0),IFERROR(INDEX(INDIRECT(\"XDPT\" &  $F$87 & $F$86 & $D$86),ROW($A2)),0)))","v":0},{"$f":"IF($D$86=25,IFERROR(INDEX(INDIRECT(\"YDPT\" & $F$87 & $F$86),ROW($A2)),0),IF(AND($D$87=0,$F$87=0),IFERROR(INDEX(INDIRECT(\"YDPTClNa\" & $F$87 & $F$86 & $D$86),ROW($A2)),0),IFERROR(INDEX(INDIRECT(\"YDPT\" &  $F$87 & $F$86 & $D$86),ROW($A2)),0)))","v":0},null,{"$f":"IFERROR(INDEX(INDIRECT(\"XDPT\" & $D$87 & $F$87 & $F$86),ROW($A2)),0)","v":0},{"$f":"IFERROR(INDEX(INDIRECT(\"YDPT\" & $D$87 & $F$87 & $F$86),ROW($A2)),0)","v":0},{"$f":"IF(Calculator!$C$5=$B$84,J90,IF(Calculator!$C$5=$B$85,J90+273.15,IF(Calculator!$C$5=$B$83,J90*9/5+32,273.15)))","v":0},null,{"$f":"IF(Calculator!$C$5=$B$84,A65,IF(Calculator!$C$5=$B$85,A65+273.15,IF(Calculator!$C$5=$B$83,A65*9/5+32,273.15)))","v":45},null,null,"Days:Hrs",{"$f":"IF(OR(Calculator!F2<0,AND(Calculator!C3='Chart Data'!A86,Calculator!F3<0),AND(Calculator!C3='Chart Data'!A87,Calculator!F3>10.3),Calculator!F4<0,Calculator!F4>30,'Chart Data'!D86<0),\"N/A\",ROUNDDOWN(10^B3/(3600*24),0) & \":\" & ROUND(24*(10^B3/(3600*24)-ROUNDDOWN(10^B3/(3600*24),0)),0))","v":"1:11"},{"$f":"IF(OR(Calculator!F2<0,AND(Calculator!C3='Chart Data'!A86,Calculator!F3<0),AND(Calculator!C3='Chart Data'!A87,Calculator!F3>10.3),Calculator!F4<0,Calculator!F4>30,'Chart Data'!D86<0),\"N/A\",ROUNDDOWN(10^C3/(3600*24),0) & \":\" & ROUND(24*(10^C3/(3600*24)-ROUNDDOWN(10^C3/(3600*24),0)),0))","v":"1:15"},{"$f":"IF(OR(Calculator!F2<0,AND(Calculator!C3='Chart Data'!A86,Calculator!F3<0),AND(Calculator!C3='Chart Data'!A87,Calculator!F3>10.3),Calculator!F4<0,Calculator!F4>30,'Chart Data'!D86<0),\"N/A\",ROUNDDOWN(10^D3/(3600*24),0) & \":\" & ROUND(24*(10^D3/(3600*24)-ROUNDDOWN(10^D3/(3600*24),0)),0))","v":"1:8"}]
[{"$f":"IF($D$86=25,IFERROR(INDEX(INDIRECT(\"XDPT\" & $D$87 & $F$87),ROW($A3)),0),IFERROR(INDEX(INDIRECT(\"XDPT\" & $D$87 & $F$87 & $D$86),ROW($A3)),0))","v":0},0,null,2.5000000000000001E-2,4.013553430541676,null,0,0,null,0,0,{"$f":"IF(Calculator!$C$5=$B$84,J91,IF(Calculator!$C$5=$B$85,J91+273.15,IF(Calculator!$C$5=$B$83,J91*9/5+32,273.15)))","v":0},null,{"$f":"IF(Calculator!$C$5=$B$84,A66,IF(Calculator!$C$5=$B$85,A66+273.15,IF(Calculator!$C$5=$B$83,A66*9/5+32,273.15)))","v":55},null,null,"Weeks",{"$f":"IF(OR(Calculator!F2<0,AND(Calculator!C3='Chart Data'!A86,Calculator!F3<0),AND(Calculator!C3='Chart Data'!A87,Calculator!F3>10.3),Calculator!F4<0,Calculator!F4>30,'Chart Data'!D86<0),\"N/A\",ROUND(10^B3/(3600*24*7),0))","v":0},{"$f":"IF(OR(Calculator!F2<0,AND(Calculator!C3='Chart Data'!A86,Calculator!F3<0),AND(Calculator!C3='Chart Data'!A87,Calculator!F3>10.3),Calculator!F4<0,Calculator!F4>30,'Chart Data'!D86<0),\"N/A\",ROUND(10^C3/(3600*24*7),0))","v":0},{"$f":"IF(OR(Calculator!F2<0,AND(Calculator!C3='Chart Data'!A86,Calculator!F3<0),AND(Calculator!C3='Chart Data'!A87,Calculator!F3>10.3),Calculator!F4<0,Calculator!F4>30,'Chart Data'!D86<0),\"N/A\",ROUND(10^D3/(3600*24*7),0))","v":0}]
[{"$f":"IF($D$86=25,IFERROR(INDEX(INDIRECT(\"XDPT\" & $D$87 & $F$87),ROW($A4)),0),IFERROR(INDEX(INDIRECT(\"XDPT\" & $D$87 & $F$87 & $D$86),ROW($A4)),0))","v":0},0,null,5.3499999999999999E-2,3.2732328340430454,null,0,0,null,0,0,{"$f":"IF(Calculator!$C$5=$B$84,J92,IF(Calculator!$C$5=$B$85,J92+273.15,IF(Calculator!$C$5=$B$83,J92*9/5+32,273.15)))","v":0},null,{"$f":"IF(Calculator!$C$5=$B$84,A67,IF(Calculator!$C$5=$B$85,A67+273.15,IF(Calculator!$C$5=$B$83,A67*9/5+32,273.15)))","v":65},null,null,"Years",{"$f":"IF(OR(Calculator!F2<0,AND(Calculator!C3='Chart Data'!A86,Calculator!F3<0),AND(Calculator!C3='Chart Data'!A87,Calculator!F3>10.3),Calculator!F4<0,Calculator!F4>30,'Chart Data'!D86<0),\"N/A\",ROUND(10^B3/(3600*24*365),1))","v":0},{"$f":"IF(OR(Calculator!F2<0,AND(Calculator!C3='Chart Data'!A86,Calculator!F3<0),AND(Calculator!C3='Chart Data'!A87,Calculator!F3>10.3),Calculator!F4<0,Calculator!F4>30,'Chart Data'!D86<0),\"N/A\",ROUND(10^C3/(3600*24*365),1))","v":0},{"$f":"IF(OR(Calculator!F2<0,AND(Calculator!C3='Chart Data'!A86,Calculator!F3<0),AND(Calculator!C3='Chart Data'!A87,Calculator!F3>10.3),Calculator!F4<0,Calculator!F4>30,'Chart Data'!D86<0),\"N/A\",ROUND(10^D3/(3600*24*365),1))","v":0}]
[{"$f":"IF($D$86=25,IFERROR(INDEX(INDIRECT(\"XDPT\" & $D$87 & $F$87),ROW($A5)),0),IFERROR(INDEX(INDIRECT(\"XDPT\" & $D$87 & $F$87 & $D$86),ROW($A5)),0))","v":0},0,null,7.4999999999999997E-2,2.9618954736678504,null,0,0,null,0,0,{"$f":"IF(Calculator!$C$5=$B$84,J93,IF(Calculator!$C$5=$B$85,J93+273.15,IF(Calculator!$C$5=$B$83,J93*9/5+32,273.15)))","v":0},null,{"$f":"IF(Calculator!$C$5=$B$84,A68,IF(Calculator!$C$5=$B$85,A68+273.15,IF(Calculator!$C$5=$B$83,A68*9/5+32,273.15)))","v":75}]
[{"$f":"IF($D$86=25,IFERROR(INDEX(INDIRECT(\"XDPT\" & $D$87 & $F$87),ROW($A6)),0),IFERROR(INDEX(INDIRECT(\"XDPT\" & $D$87 & $F$87 & $D$86),ROW($A6)),0))","v":0},0,null,0.11,2.6627578316815739,null,0,0,null,0,0,{"$f":"IF(Calculator!$C$5=$B$84,J94,IF(Calculator!$C$5=$B$85,J94+273.15,IF(Calculator!$C$5=$B$83,J94*9/5+32,273.15)))","v":0},null,{"$f":"IF(Calculator!$C$5=$B$84,A69,IF(Calculator!$C$5=$B$85,A69+273.15,IF(Calculator!$C$5=$B$83,A69*9/5+32,273.15)))","v":85}]
[{"$f":"IF($D$86=25,IFERROR(INDEX(INDIRECT(\"XDPT\" & $D$87 & $F$87),ROW($A7)),0),IFERROR(INDEX(INDIRECT(\"XDPT\" & $D$87 & $F$87 & $D$86),ROW($A7)),0))","v":0},0,null,0.12,2.5276299008713385,null,0,0,null,0,0,{"$f":"IF(Calculator!$C$5=$B$84,J95,IF(Calculator!$C$5=$B$85,J95+273.15,IF(Calculator!$C$5=$B$83,J95*9/5+32,273.15)))","v":0},null,{"$f":"IF(Calculator!$C$5=$B$84,A70,IF(Calculator!$C$5=$B$85,A70+273.15,IF(Calculator!$C$5=$B$83,A70*9/5+32,273.15)))","v":95}]
[{"$f":"IF($D$86=25,IFERROR(INDEX(INDIRECT(\"XDPT\" & $D$87 & $F$87),ROW($A8)),0),IFERROR(INDEX(INDIRECT(\"XDPT\" & $D$87 & $F$87 & $D$86),ROW($A8)),0))","v":0},0,null,0.13,2.4377505628203879,null,0,0,null,0,0,{"$f":"IF(Calculator!$C$5=$B$84,J96,IF(Calculator!$C$5=$B$85,J96+273.15,IF(Calculator!$C$5=$B$83,J96*9/5+32,273.15)))","v":0},null,{"$f":"IF(Calculator!$C$5=$B$84,A71,IF(Calculator!$C$5=$B$85,A71+273.15,IF(Calculator!$C$5=$B$83,A71*9/5+32,273.15)))","v":105}]
[{"$f":"IF($D$86=25,IFERROR(INDEX(INDIRECT(\"XDPT\" & $D$87 & $F$87),ROW($A9)),0),IFERROR(INDEX(INDIRECT(\"XDPT\" & $D$87 & $F$87 & $D$86),ROW($A9)),0))","v":0},0,null,0.14000000000000001,2.3873898263387292,null,0,0,null,0,0,{"$f":"IF(Calculator!$C$5=$B$84,J97,IF(Calculator!$C$5=$B$85,J97+273.15,IF(Calculator!$C$5=$B$83,J97*9/5+32,273.15)))","v":0},null,{"$f":"IF(Calculator!$C$5=$B$84,A72,IF(Calculator!$C$5=$B$85,A72+273.15,IF(Calculator!$C$5=$B$83,A72*9/5+32,273.15)))","v":115}]
[{"$f":"IF($D$86=25,IFERROR(INDEX(INDIRECT(\"XDPT\" & $D$87 & $F$87),ROW($A10)),0),IFERROR(INDEX(INDIRECT(\"XDPT\" & $D$87 & $F$87 & $D$86),ROW($A10)),0))","v":0},0,null,0.16220000000000001,2.3242824552976926,null,0,0,null,0,0,{"$f":"IF(Calculator!$C$5=$B$84,J98,IF(Calculator!$C$5=$B$85,J98+273.15,IF(Calculator!$C$5=$B$83,J98*9/5+32,273.15)))","v":0},null,{"$f":"IF(Calculator!$C$5=$B$84,A73,IF(Calculator!$C$5=$B$85,A73+273.15,IF(Calculator!$C$5=$B$83,A73*9/5+32,273.15)))","v":125}]
[{"$f":"IF($D$86=25,IFERROR(INDEX(INDIRECT(\"XDPT\" & $D$87 & $F$87),ROW($A11)),0),IFERROR(INDEX(INDIRECT(\"XDPT\" & $D$87 & $F$87 & $D$86),ROW($A11)),0))","v":0},0,null,0.16220000000000001,2.3463529744506388,null,0,0,null,0,0,{"$f":"IF(Calculator!$C$5=$B$84,J99,IF(Calculator!$C$5=$B$85,J99+273.15,IF(Calculator!$C$5=$B$83,J99*9/5+32,273.15)))","v":0},null,{"$f":"IF(Calculator!$C$5=$B$84,A74,IF(Calculator!$C$5=$B$85,A74+273.15,IF(Calculator!$C$5=$B$83,A74*9/5+32,273.15)))","v":135}]
[{"$f":"IF($D$86=25,IFERROR(INDEX(INDIRECT(\"XDPT\" & $D$87 & $F$87),ROW($A12)),0),IFERROR(INDEX(INDIRECT(\"XDPT\" & $D$87 & $F$87 & $D$86),ROW($A12)),0))","v":0},0,null,0.2,2.2855573090077739,null,0,0,null,0,0,{"$f":"IF(Calculator!$C$5=$B$84,J100,IF(Calculator!$C$5=$B$85,J100+273.15,IF(Calculator!$C$5=$B$83,J100*9/5+32,273.15)))","v":0},null,{"$f":"IF(Calculator!$C$5=$B$84,A75,IF(Calculator!$C$5=$B$85,A75+273.15,IF(Calculator!$C$5=$B$83,A75*9/5+32,273.15)))","v":145}]
[{"$f":"IF($D$86=25,IFERROR(INDEX(INDIRECT(\"XDPT\" & $D$87 & $F$87),ROW($A13)),0),IFERROR(INDEX(INDIRECT(\"XDPT\" & $D$87 & $F$87 & $D$86),ROW($A13)),0))","v":0},0,null,0,0,null,0,0,null,0,0,{"$f":"IF(Calculator!$C$5=$B$84,J101,IF(Calculator!$C$5=$B$85,J101+273.15,IF(Calculator!$C$5=$B$83,J101*9/5+32,273.15)))","v":0},null,{"$f":"IF(Calculator!$C$5=$B$84,A76,IF(Calculator!$C$5=$B$85,A76+273.15,IF(Calculator!$C$5=$B$83,A76*9/5+32,273.15)))","v":155}]
[{"$f":"IF($D$86=25,IFERROR(INDEX(INDIRECT(\"XDPT\" & $D$87 & $F$87),ROW($A14)),0),IFERROR(INDEX(INDIRECT(\"XDPT\" & $D$87 & $F$87 & $D$86),ROW($A14)),0))","v":0},0,null,0,0,null,0,0,null,0,0,{"$f":"IF(Calculator!$C$5=$B$84,J102,IF(Calculator!$C$5=$B$85,J102+273.15,IF(Calculator!$C$5=$B$83,J102*9/5+32,273.15)))","v":0},null,{"$f":"IF(Calculator!$C$5=$B$84,A77,IF(Calculator!$C$5=$B$85,A77+273.15,IF(Calculator!$C$5=$B$83,A77*9/5+32,273.15)))","v":165}]
[{"$f":"IF($D$86=25,IFERROR(INDEX(INDIRECT(\"XDPT\" & $D$87 & $F$87),ROW($A15)),0),IFERROR(INDEX(INDIRECT(\"XDPT\" & $D$87 & $F$87 & $D$86),ROW($A15)),0))","v":0},0,null,0,0,null,0,0,null,0,0,{"$f":"IF(Calculator!$C$5=$B$84,J103,IF(Calculator!$C$5=$B$85,J103+273.15,IF(Calculator!$C$5=$B$83,J103*9/5+32,273.15)))","v":0},null,{"$f":"IF(Calculator!$C$5=$B$84,A78,IF(Calculator!$C$5=$B$85,A78+273.15,IF(Calculator!$C$5=$B$83,A78*9/5+32,273.15)))","v":175}]
[{"$f":"IF($D$86=25,IFERROR(INDEX(INDIRECT(\"XDPT\" & $D$87 & $F$87),ROW($A16)),0),IFERROR(INDEX(INDIRECT(\"XDPT\" & $D$87 & $F$87 & $D$86),ROW($A16)),0))","v":0},0,null,0,0,null,0,0,null,0,0,{"$f":"IF(Calculator!$C$5=$B$84,J104,IF(Calculator!$C$5=$B$85,J104+273.15,IF(Calculator!$C$5=$B$83,J104*9/5+32,273.15)))","v":0},null,{"$f":"IF(Calculator!$C$5=$B$84,A79,IF(Calculator!$C$5=$B$85,A79+273.15,IF(Calculator!$C$5=$B$83,A79*9/5+32,273.15)))","v":185}]
[null,null,null,null,null,null,null,null,null,null,null,null,null,{"$f":"IF(Calculator!$C$5=$B$84,A80,IF(Calculator!$C$5=$B$85,A80+273.15,IF(Calculator!$C$5=$B$83,A80*9/5+32,273.15)))","v":195}]
[null,null,null,null,null,null,null,null,null,null,null,null,null,{"$f":"IF(Calculator!$C$5=$B$84,A81,IF(Calculator!$C$5=$B$85,A81+273.15,IF(Calculator!$C$5=$B$83,A81*9/5+32,273.15)))","v":200}]
["WARNING: Selected chemistry will either create a ductile paste or will not gel at all, and will not follow the shown gelation curves."]
["NOTE: Selected chemistry is actually constrained at high T (100-150 °C), but a full nonlinear error analysis would require MATLAB."]
["The error envelopes are therefore based on the error of the activation energy and the modeled data point at 25 °C."]
["WARNING: Selected chemistry is not well-tested at elevated temperatures: specific gelation tests are recommended to verify model results."]
["Activation energies are calculated based on the same chemistry without salt."]
["WARNING: Selected chemistry is not well-tested, and model results may be misleading."]
["WARNING: Selected chemistry and temperature indicate a very long gel time.  "]
["These gel times have not been tested and model results may be misleading."]
["Inputs are out of range. NaCl/SiO2 must be positive, Cl-/Na+ must be positive (pH less than 10.3)"]
["SiO2 wt% must be positive and less than 30%, and Temperature must be above the freezing point of water."]

{"sheet":"Calcs","index":5,"n_rows":168,"n_cols":22,"rows_kept":168,"cut":false,"hidden":false,"merged":[]}
["D","Exp. #","Cl-/Na+","NaCl/SiO2","SiO2 wt%","GT(s)","Log(GT(s)","T(eff) °C","25B","25X1","25X2","25X3","25X4","25X5","25X6","25X7","25X8","25X9","EAB","EAX1","EAX2","EAX3"]
[{"$f":"SQRT((((LOG(E2)-1)/0.4)-((LOG('Chart Data'!$F$86)-1)/0.4))^2+(C2-'Chart Data'!$D$87)^2+(D2/0.2-'Chart Data'!$F$87/0.2)^2+((H2-25)/175-('Chart Data'!$D$86-25)/175)^2)","v":0.31416109145251492},1,0.5,0,25,168043,{"$f":"LOG(F2)","v":5.2254204262092996},25,1,{"$f":"C2^2*LOG(E2)*D2","v":0},{"$f":"C2*LOG(E2)*D2","v":0},{"$f":"LOG(E2)*D2","v":0},{"$f":"C2^2*LOG(E2)","v":0.34948500216800943},{"$f":"LOG(E2)","v":1.3979400086720377},{"$f":"C2^2/(D2+Equations!$B$3)","v":3.737639172521348},{"$f":"1/(D2+Equations!$B$3)","v":14.950556690085392},{"$f":"D2","v":0},{"$f":"C2","v":0.5}]
[{"$f":"SQRT((((LOG(E3)-1)/0.4)-((LOG('Chart Data'!$F$86)-1)/0.4))^2+(C3-'Chart Data'!$D$87)^2+(D3/0.2-'Chart Data'!$F$87/0.2)^2+((H3-25)/175-('Chart Data'!$D$86-25)/175)^2)","v":0.45729290329939337},{"$f":"B2+1","v":2},0.5,5.3499999999999999E-2,15,66290,4.82144801901753,25,1,{"$f":"C3^2*LOG(E3)*D3","v":1.5730220589869736E-2},{"$f":"C3*LOG(E3)*D3","v":3.1460441179739472E-2},{"$f":"LOG(E3)*D3","v":6.2920882359478944E-2},{"$f":"C3^2*LOG(E3)","v":0.29402281476392034},{"$f":"LOG(E3)","v":1.1760912590556813},{"$f":"C3^2/(D3+Equations!$B$3)","v":2.0766337417835867},{"$f":"1/(D3+Equations!$B$3)","v":8.3065349671343469},{"$f":"D3","v":5.3499999999999999E-2},{"$f":"C3","v":0.5}]
[{"$f":"SQRT((((LOG(E4)-1)/0.4)-((LOG('Chart Data'!$F$86)-1)/0.4))^2+(C4-'Chart Data'!$D$87)^2+(D4/0.2-'Chart Data'!$F$87/0.2)^2+((H4-25)/175-('Chart Data'!$D$86-25)/175)^2)","v":0.33861148239286581},{"$f":"B3+1","v":3},0.5,5.3499999999999999E-2,19,7200,3.8573324964312685,25,1,1.7103329412744086E-2,3.4206658825488172E-2,6.8413317650976344E-2,0.31968840023820722,1.2787536009528289,{"$f":"C4^2/(D4+Equations!$B$3)","v":2.0766337417835867},{"$f":"1/(D4+Equations!$B$3)","v":8.3065349671343469},5.3499999999999999E-2,0.5]
[{"$f":"SQRT((((LOG(E5)-1)/0.4)-((LOG('Chart Data'!$F$86)-1)/0.4))^2+(C5-'Chart Data'!$D$87)^2+(D5/0.2-'Chart Data'!$F$87/0.2)^2+((H5-25)/175-('Chart Data'!$D$86-25)/175)^2)","v":0.33817512470496769},4,0.5,5.3499999999999999E-2,21,2954,3.4704104909759308,25,1,1.7684683067066172E-2,3.5369366134132343E-2,7.0738732268264687E-2,0.33055482368347983,1.3222192947339193,{"$f":"C5^2/(D5+Equations!$B$3)","v":2.0766337417835867},{"$f":"1/(D5+Equations!$B$3)","v":8.3065349671343469},5.3499999999999999E-2,0.5]
[{"$f":"SQRT((((LOG(E6)-1)/0.4)-((LOG('Chart Data'!$F$86)-1)/0.4))^2+(C6-'Chart Data'!$D$87)^2+(D6/0.2-'Chart Data'!$F$87/0.2)^2+((H6-25)/175-('Chart Data'!$D$86-25)/175)^2)","v":0.34966371688209164},5,0.5,5.3499999999999999E-2,22,1809,3.2574385668598138,25,1,1.7954903355997007E-2,3.5909806711994015E-2,7.181961342398803E-2,0.33560567020555154,1.3424226808222062,{"$f":"C6^2/(D6+Equations!$B$3)","v":2.0766337417835867},{"$f":"1/(D6+Equations!$B$3)","v":8.3065349671343469},5.3499999999999999E-2,0.5]
[{"$f":"SQRT((((LOG(E7)-1)/0.4)-((LOG('Chart Data'!$F$86)-1)/0.4))^2+(C7-'Chart Data'!$D$87)^2+(D7/0.2-'Chart Data'!$F$87/0.2)^2+((H7-25)/175-('Chart Data'!$D$86-25)/175)^2)","v":0.36685511294985818},6,0.5,5.3499999999999999E-2,23,1199,3.0788191830988487,25,1,1.8213109806735305E-2,3.642621961347061E-2,7.2852439226941221E-2,0.34043195900439821,1.3617278360175928,{"$f":"C7^2/(D7+Equations!$B$3)","v":2.0766337417835867},{"$f":"1/(D7+Equations!$B$3)","v":8.3065349671343469},5.3499999999999999E-2,0.5]
[{"$f":"SQRT((((LOG(E8)-1)/0.4)-((LOG('Chart Data'!$F$86)-1)/0.4))^2+(C8-'Chart Data'!$D$87)^2+(D8/0.2-'Chart Data'!$F$87/0.2)^2+((H8-25)/175-('Chart Data'!$D$86-25)/175)^2)","v":0.38825466614754345},7,0.5,5.3499999999999999E-2,24,753,2.8767949762007006,25,1,1.8460325357892729E-2,3.6920650715785458E-2,7.3841301431570916E-2,0.34505281042790148,1.3802112417116059,{"$f":"C8^2/(D8+Equations!$B$3)","v":2.0766337417835867},{"$f":"1/(D8+Equations!$B$3)","v":8.3065349671343469},5.3499999999999999E-2,0.5]
[{"$f":"SQRT((((LOG(E9)-1)/0.4)-((LOG('Chart Data'!$F$86)-1)/0.4))^2+(C9-'Chart Data'!$D$87)^2+(D9/0.2-'Chart Data'!$F$87/0.2)^2+((H9-25)/175-('Chart Data'!$D$86-25)/175)^2)","v":0.41261779091870898},8,0.5,5.3499999999999999E-2,25,559,2.7474118078864231,25,1,1.8697447615988506E-2,3.7394895231977011E-2,7.4789790463954023E-2,0.34948500216800943,1.3979400086720377,{"$f":"C9^2/(D9+Equations!$B$3)","v":2.0766337417835867},{"$f":"1/(D9+Equations!$B$3)","v":8.3065349671343469},5.3499999999999999E-2,0.5]
[{"$f":"SQRT((((LOG(E10)-1)/0.4)-((LOG('Chart Data'!$F$86)-1)/0.4))^2+(C10-'Chart Data'!$D$87)^2+(D10/0.2-'Chart Data'!$F$87/0.2)^2+((H10-25)/175-('Chart Data'!$D$86-25)/175)^2)","v":0.66337059733454296},9,0.5,0.11,15,4523,3.6554265877459184,25,1,3.2342509624031235E-2,6.468501924806247E-2,0.12937003849612494,0.29402281476392034,1.1760912590556813,{"$f":"C10^2/(D10+Equations!$B$3)","v":1.4133305448818905},{"$f":"1/(D10+Equations!$B$3)","v":5.6533221795275619},0.11,0.5]
[{"$f":"SQRT((((LOG(E11)-1)/0.4)-((LOG('Chart Data'!$F$86)-1)/0.4))^2+(C11-'Chart Data'!$D$87)^2+(D11/0.2-'Chart Data'!$F$87/0.2)^2+((H11-25)/175-('Chart Data'!$D$86-25)/175)^2)","v":0.63340128779679272},10,0.5,0.11,16,2632,3.4202858849419178,25,1,3.3113299523037931E-2,6.6226599046075862E-2,0.13245319809215172,0.3010299956639812,1.2041199826559248,{"$f":"C11^2/(D11+Equations!$B$3)","v":1.4133305448818905},{"$f":"1/(D11+Equations!$B$3)","v":5.6533221795275619},0.11,0.5]
[{"$f":"SQRT((((LOG(E12)-1)/0.4)-((LOG('Chart Data'!$F$86)-1)/0.4))^2+(C12-'Chart Data'!$D$87)^2+(D12/0.2-'Chart Data'!$F$87/0.2)^2+((H12-25)/175-('Chart Data'!$D$86-25)/175)^2)","v":0.6112573519359733},11,0.5,0.11,17,1634,3.2132520521963968,25,1,3.383734533790253E-2,6.767469067580506E-2,0.13534938135161012,0.30761223034456847,1.2304489213782739,{"$f":"C12^2/(D12+Equations!$B$3)","v":1.4133305448818905},{"$f":"1/(D12+Equations!$B$3)","v":5.6533221795275619},0.11,0.5]
[{"$f":"SQRT((((LOG(E13)-1)/0.4)-((LOG('Chart Data'!$F$86)-1)/0.4))^2+(C13-'Chart Data'!$D$87)^2+(D13/0.2-'Chart Data'!$F$87/0.2)^2+((H13-25)/175-('Chart Data'!$D$86-25)/175)^2)","v":0.59631025870771681},12,0.5,0.11,18,983,2.9925535178321354,25,1,3.4519993890340918E-2,6.9039987780681836E-2,0.13807997556136367,0.3138181262758265,1.255272505103306,{"$f":"C13^2/(D13+Equations!$B$3)","v":1.4133305448818905},{"$f":"1/(D13+Equations!$B$3)","v":5.6533221795275619},0.11,0.5]
[{"$f":"SQRT((((LOG(E14)-1)/0.4)-((LOG('Chart Data'!$F$86)-1)/0.4))^2+(C14-'Chart Data'!$D$87)^2+(D14/0.2-'Chart Data'!$F$87/0.2)^2+((H14-25)/175-('Chart Data'!$D$86-25)/175)^2)","v":0.58787880214232424},13,0.5,0.11,19,675,2.8293037728310249,25,1,3.5165724026202792E-2,7.0331448052405585E-2,0.14066289610481117,0.31968840023820722,1.2787536009528289,{"$f":"C14^2/(D14+Equations!$B$3)","v":1.4133305448818905},{"$f":"1/(D14+Equations!$B$3)","v":5.6533221795275619},0.11,0.5]
[{"$f":"SQRT((((LOG(E15)-1)/0.4)-((LOG('Chart Data'!$F$86)-1)/0.4))^2+(C15-'Chart Data'!$D$87)^2+(D15/0.2-'Chart Data'!$F$87/0.2)^2+((H15-25)/175-('Chart Data'!$D$86-25)/175)^2)","v":0.58523499553598113},14,0.5,0.11,20,440,2.6434526764861874,25,1,3.5778324880759486E-2,7.1556649761518973E-2,0.14311329952303795,0.32525749891599531,1.3010299956639813,{"$f":"C15^2/(D15+Equations!$B$3)","v":1.4133305448818905},{"$f":"1/(D15+Equations!$B$3)","v":5.6533221795275619},0.11,0.5]
[{"$f":"SQRT((((LOG(E16)-1)/0.4)-((LOG('Chart Data'!$F$86)-1)/0.4))^2+(C16-'Chart Data'!$D$87)^2+(D16/0.2-'Chart Data'!$F$87/0.2)^2+((H16-25)/175-('Chart Data'!$D$86-25)/175)^2)","v":0.58762757335681615},15,0.5,0.11,21,323,2.509202522331103,25,1,3.6361030605182781E-2,7.2722061210365563E-2,0.14544412242073113,0.33055482368347983,1.3222192947339193,{"$f":"C16^2/(D16+Equations!$B$3)","v":1.4133305448818905},{"$f":"1/(D16+Equations!$B$3)","v":5.6533221795275619},0.11,0.5]
[{"$f":"SQRT((((LOG(E17)-1)/0.4)-((LOG('Chart Data'!$F$86)-1)/0.4))^2+(C17-'Chart Data'!$D$87)^2+(D17/0.2-'Chart Data'!$F$87/0.2)^2+((H17-25)/175-('Chart Data'!$D$86-25)/175)^2)","v":0.5943134399488198},16,0.5,0.11,22,214,2.330413773349191,25,1,3.6916623722610668E-2,7.3833247445221337E-2,0.14766649489044267,0.33560567020555154,1.3424226808222062,{"$f":"C17^2/(D17+Equations!$B$3)","v":1.4133305448818905},{"$f":"1/(D17+Equations!$B$3)","v":5.6533221795275619},0.11,0.5]
[{"$f":"SQRT((((LOG(E18)-1)/0.4)-((LOG('Chart Data'!$F$86)-1)/0.4))^2+(C18-'Chart Data'!$D$87)^2+(D18/0.2-'Chart Data'!$F$87/0.2)^2+((H18-25)/175-('Chart Data'!$D$86-25)/175)^2)","v":1.1243176216306063},17,0.5,0.16220000000000001,10,31147,4.4934162228671335,25,1,4.0550000000000003E-2,8.1100000000000005E-2,0.16220000000000001,0.25,1,{"$f":"C18^2/(D18+Equations!$B$3)","v":1.091287788672507},{"$f":"1/(D18+Equations!$B$3)","v":4.3651511546900279},0.16220000000000001,0.5]
[{"$f":"SQRT((((LOG(E19)-1)/0.4)-((LOG('Chart Data'!$F$86)-1)/0.4))^2+(C19-'Chart Data'!$D$87)^2+(D19/0.2-'Chart Data'!$F$87/0.2)^2+((H19-25)/175-('Chart Data'!$D$86-25)/175)^2)","v":0.9206993850038161},18,0.5,0.16220000000000001,14,1960,3.2922560713564759,25,1,4.6475491846752551E-2,9.2950983693505101E-2,0.1859019673870102,0.28653200891955949,1.146128035678238,{"$f":"C19^2/(D19+Equations!$B$3)","v":1.091287788672507},{"$f":"1/(D19+Equations!$B$3)","v":4.3651511546900279},0.16220000000000001,0.5]
[{"$f":"SQRT((((LOG(E20)-1)/0.4)-((LOG('Chart Data'!$F$86)-1)/0.4))^2+(C20-'Chart Data'!$D$87)^2+(D20/0.2-'Chart Data'!$F$87/0.2)^2+((H20-25)/175-('Chart Data'!$D$86-25)/175)^2)","v":0.89178559609806907},19,0.5,0.16220000000000001,15,1201,3.079543007402906,25,1,4.7690500554707881E-2,9.5381001109415761E-2,0.19076200221883152,0.29402281476392034,1.1760912590556813,{"$f":"C20^2/(D20+Equations!$B$3)","v":1.091287788672507},{"$f":"1/(D20+Equations!$B$3)","v":4.3651511546900279},0.16220000000000001,0.5]
[{"$f":"SQRT((((LOG(E21)-1)/0.4)-((LOG('Chart Data'!$F$86)-1)/0.4))^2+(C21-'Chart Data'!$D$87)^2+(D21/0.2-'Chart Data'!$F$87/0.2)^2+((H21-25)/175-('Chart Data'!$D$86-25)/175)^2)","v":0.86972305441596498},20,0.5,0.16220000000000001,16,832,2.920123326290724,25,1,4.8827065296697753E-2,9.7654130593395505E-2,0.19530826118679101,0.3010299956639812,1.2041199826559248,{"$f":"C21^2/(D21+Equations!$B$3)","v":1.091287788672507},{"$f":"1/(D21+Equations!$B$3)","v":4.3651511546900279},0.16220000000000001,0.5]
[{"$f":"SQRT((((LOG(E22)-1)/0.4)-((LOG('Chart Data'!$F$86)-1)/0.4))^2+(C22-'Chart Data'!$D$87)^2+(D22/0.2-'Chart Data'!$F$87/0.2)^2+((H22-25)/175-('Chart Data'!$D$86-25)/175)^2)","v":0.85373095896528106},21,0.5,0.16220000000000001,17,486,2.6866362692622934,25,1,4.9894703761889009E-2,9.9789407523778018E-2,0.19957881504755604,0.30761223034456847,1.2304489213782739,{"$f":"C22^2/(D22+Equations!$B$3)","v":1.091287788672507},{"$f":"1/(D22+Equations!$B$3)","v":4.3651511546900279},0.16220000000000001,0.5]
[{"$f":"SQRT((((LOG(E23)-1)/0.4)-((LOG('Chart Data'!$F$86)-1)/0.4))^2+(C23-'Chart Data'!$D$87)^2+(D23/0.2-'Chart Data'!$F$87/0.2)^2+((H23-25)/175-('Chart Data'!$D$86-25)/175)^2)","v":0.8430936630292416},22,0.5,0.16220000000000001,18,331,2.5198279937757189,25,1,5.0901300081939063E-2,0.10180260016387813,0.20360520032775625,0.3138181262758265,1.255272505103306,{"$f":"C23^2/(D23+Equations!$B$3)","v":1.091287788672507},{"$f":"1/(D23+Equations!$B$3)","v":4.3651511546900279},0.16220000000000001,0.5]
[{"$f":"SQRT((((LOG(E24)-1)/0.4)-((LOG('Chart Data'!$F$86)-1)/0.4))^2+(C24-'Chart Data'!$D$87)^2+(D24/0.2-'Chart Data'!$F$87/0.2)^2+((H24-25)/175-('Chart Data'!$D$86-25)/175)^2)","v":0.83715141163847673},23,0.5,0.16220000000000001,19,219,2.3404441148401185,25,1,5.1853458518637215E-2,0.10370691703727443,0.20741383407454886,0.31968840023820722,1.2787536009528289,{"$f":"C24^2/(D24+Equations!$B$3)","v":1.091287788672507},{"$f":"1/(D24+Equations!$B$3)","v":4.3651511546900279},0.16220000000000001,0.5]
[{"$f":"SQRT((((LOG(E25)-1)/0.4)-((LOG('Chart Data'!$F$86)-1)/0.4))^2+(C25-'Chart Data'!$D$87)^2+(D25/0.2-'Chart Data'!$F$87/0.2)^2+((H25-25)/175-('Chart Data'!$D$86-25)/175)^2)","v":0.83529695318491382},24,0.5,0.16220000000000001,20,146,2.1643528557844371,25,1,5.2756766324174441E-2,0.10551353264834888,0.21102706529669776,0.32525749891599531,1.3010299956639813,{"$f":"C25^2/(D25+Equations!$B$3)","v":1.091287788672507},{"$f":"1/(D25+Equations!$B$3)","v":4.3651511546900279},0.16220000000000001,0.5]
[{"$f":"SQRT((((LOG(E26)-1)/0.4)-((LOG('Chart Data'!$F$86)-1)/0.4))^2+(C26-'Chart Data'!$D$87)^2+(D26/0.2-'Chart Data'!$F$87/0.2)^2+((H26-25)/175-('Chart Data'!$D$86-25)/175)^2)","v":0},25,0.7,0,20,144418,5.1596213262910089,25,1,0,0,0,0.63750469787535069,1.3010299956639813,{"$f":"C26^2/(D26+Equations!$B$3)","v":7.3257727781418414},{"$f":"1/(D26+Equations!$B$3)","v":14.950556690085392},0,0.7]
[{"$f":"SQRT((((LOG(E27)-1)/0.4)-((LOG('Chart Data'!$F$86)-1)/0.4))^2+(C27-'Chart Data'!$D$87)^2+(D27/0.2-'Chart Data'!$F$87/0.2)^2+((H27-25)/175-('Chart Data'!$D$86-25)/175)^2)","v":0.24227503252014115},26,0.7,0,25,17391,4.2403245550904343,25,1,0,0,0,0.68499060424929836,1.3979400086720377,{"$f":"C27^2/(D27+Equations!$B$3)","v":7.3257727781418414},{"$f":"1/(D27+Equations!$B$3)","v":14.950556690085392},0,0.7]
[{"$f":"SQRT((((LOG(E28)-1)/0.4)-((LOG('Chart Data'!$F$86)-1)/0.4))^2+(C28-'Chart Data'!$D$87)^2+(D28/0.2-'Chart Data'!$F$87/0.2)^2+((H28-25)/175-('Chart Data'!$D$86-25)/175)^2)","v":4.9999999999999996E-2},27,0.7,0.01,20,40536,4.6078408912826143,25,1,6.3750469787535067E-3,9.1072099696478687E-3,1.3010299956639812E-2,0.63750469787535069,1.3010299956639813,{"$f":"C28^2/(D28+Equations!$B$3)","v":6.3729772078378266},{"$f":"1/(D28+Equations!$B$3)","v":13.006075934362913},0.01,0.7]
[{"$f":"SQRT((((LOG(E29)-1)/0.4)-((LOG('Chart Data'!$F$86)-1)/0.4))^2+(C29-'Chart Data'!$D$87)^2+(D29/0.2-'Chart Data'!$F$87/0.2)^2+((H29-25)/175-('Chart Data'!$D$86-25)/175)^2)","v":0.24738066089053012},28,0.7,0.01,25,5272,3.7219754015859534,25,1,6.8499060424929842E-3,9.7855800607042631E-3,1.3979400086720377E-2,0.68499060424929836,1.3979400086720377,{"$f":"C29^2/(D29+Equations!$B$3)","v":6.3729772078378266},{"$f":"1/(D29+Equations!$B$3)","v":13.006075934362913},0.01,0.7]
[{"$f":"SQRT((((LOG(E30)-1)/0.4)-((LOG('Chart Data'!$F$86)-1)/0.4))^2+(C30-'Chart Data'!$D$87)^2+(D30/0.2-'Chart Data'!$F$87/0.2)^2+((H30-25)/175-('Chart Data'!$D$86-25)/175)^2)","v":0.125},29,0.7,2.5000000000000001E-2,20,10317,4.013553430541676,25,1,1.5937617446883767E-2,2.2768024924119671E-2,3.252574989159953E-2,0.63750469787535069,1.3010299956639813,{"$f":"C30^2/(D30+Equations!$B$3)","v":5.3326286170007915},{"$f":"1/(D30+Equations!$B$3)","v":10.882915544899577},2.5000000000000001E-2,0.7]
[{"$f":"SQRT((((LOG(E31)-1)/0.4)-((LOG('Chart Data'!$F$86)-1)/0.4))^2+(C31-'Chart Data'!$D$87)^2+(D31/0.2-'Chart Data'!$F$87/0.2)^2+((H31-25)/175-('Chart Data'!$D$86-25)/175)^2)","v":0.23411628688611238},30,0.7,2.5000000000000001E-2,24,2123,3.3269499941659988,25,1,1.6907587710967172E-2,2.4153696729953104E-2,3.4505281042790152E-2,0.67630350843868681,1.3802112417116059,{"$f":"C31^2/(D31+Equations!$B$3)","v":5.3326286170007915},{"$f":"1/(D31+Equations!$B$3)","v":10.882915544899577},2.5000000000000001E-2,0.7]
[{"$f":"SQRT((((LOG(E32)-1)/0.4)-((LOG('Chart Data'!$F$86)-1)/0.4))^2+(C32-'Chart Data'!$D$87)^2+(D32/0.2-'Chart Data'!$F$87/0.2)^2+((H32-25)/175-('Chart Data'!$D$86-25)/175)^2)","v":0.27262096651328094},31,0.7,2.5000000000000001E-2,25,1430,3.1553360374650619,25,1,1.712476510623246E-2,2.4463950151760658E-2,3.4948500216800946E-2,0.68499060424929836,1.3979400086720377,{"$f":"C32^2/(D32+Equations!$B$3)","v":5.3326286170007915},{"$f":"1/(D32+Equations!$B$3)","v":10.882915544899577},2.5000000000000001E-2,0.7]
[{"$f":"SQRT((((LOG(E33)-1)/0.4)-((LOG('Chart Data'!$F$86)-1)/0.4))^2+(C33-'Chart Data'!$D$87)^2+(D33/0.2-'Chart Data'!$F$87/0.2)^2+((H33-25)/175-('Chart Data'!$D$86-25)/175)^2)","v":0.47066188240222412},32,0.7,5.3499999999999999E-2,14,29033,4.4628919140999983,25,1,3.0045746455305007E-2,4.292249493615001E-2,6.1317849908785728E-2,0.56160273748233658,1.146128035678238,{"$f":"C33^2/(D33+Equations!$B$3)","v":4.0702021338958287},{"$f":"1/(D33+Equations!$B$3)","v":8.3065349671343469},5.3499999999999999E-2,0.7]
[{"$f":"SQRT((((LOG(E34)-1)/0.4)-((LOG('Chart Data'!$F$86)-1)/0.4))^2+(C34-'Chart Data'!$D$87)^2+(D34/0.2-'Chart Data'!$F$87/0.2)^2+((H34-25)/175-('Chart Data'!$D$86-25)/175)^2)","v":0.36090641637775772},33,0.7,5.3499999999999999E-2,16,10803,{"$f":"LOG(F34)","v":4.0335443760909477},25,1,3.1566005345325061E-2,4.509429335046438E-2,6.4420419072091978E-2,0.59001879150140302,1.2041199826559248,{"$f":"C34^2/(D34+Equations!$B$3)","v":4.0702021338958287},{"$f":"1/(D34+Equations!$B$3)","v":8.3065349671343469},5.3499999999999999E-2,0.7]
[{"$f":"SQRT((((LOG(E35)-1)/0.4)-((LOG('Chart Data'!$F$86)-1)/0.4))^2+(C35-'Chart Data'!$D$87)^2+(D35/0.2-'Chart Data'!$F$87/0.2)^2+((H35-25)/175-('Chart Data'!$D$86-25)/175)^2)","v":0.29093328211131886},34,0.7,5.3499999999999999E-2,18,4266,3.63002085111341,25,1,3.2906968721283167E-2,4.7009955316118811E-2,6.7157079023026867E-2,0.6150835275006199,1.255272505103306,{"$f":"C35^2/(D35+Equations!$B$3)","v":4.0702021338958287},{"$f":"1/(D35+Equations!$B$3)","v":8.3065349671343469},5.3499999999999999E-2,0.7]
[{"$f":"SQRT((((LOG(E36)-1)/0.4)-((LOG('Chart Data'!$F$86)-1)/0.4))^2+(C36-'Chart Data'!$D$87)^2+(D36/0.2-'Chart Data'!$F$87/0.2)^2+((H36-25)/175-('Chart Data'!$D$86-25)/175)^2)","v":0.26749999999999996},35,0.7,5.3499999999999999E-2,20,1876,3.2732328340430454,25,1,3.4106501336331259E-2,4.8723573337616094E-2,6.9605104768022993E-2,0.63750469787535069,1.3010299956639813,{"$f":"C36^2/(D36+Equations!$B$3)","v":4.0702021338958287},{"$f":"1/(D36+Equations!$B$3)","v":8.3065349671343469},5.3499999999999999E-2,0.7]
[{"$f":"SQRT((((LOG(E37)-1)/0.4)-((LOG('Chart Data'!$F$86)-1)/0.4))^2+(C37-'Chart Data'!$D$87)^2+(D37/0.2-'Chart Data'!$F$87/0.2)^2+((H37-25)/175-('Chart Data'!$D$86-25)/175)^2)","v":0.27269472853214538},36,0.7,5.3499999999999999E-2,21,1313,3.1182647260894791,25,1,3.4661978811449688E-2,4.9517112587785274E-2,7.0738732268264687E-2,0.64788745441962037,1.3222192947339193,{"$f":"C37^2/(D37+Equations!$B$3)","v":4.0702021338958287},{"$f":"1/(D37+Equations!$B$3)","v":8.3065349671343469},5.3499999999999999E-2,0.7]
[{"$f":"SQRT((((LOG(E38)-1)/0.4)-((LOG('Chart Data'!$F$86)-1)/0.4))^2+(C38-'Chart Data'!$D$87)^2+(D38/0.2-'Chart Data'!$F$87/0.2)^2+((H38-25)/175-('Chart Data'!$D$86-25)/175)^2)","v":0.28681826110587788},37,0.7,5.3499999999999999E-2,22,959,2.9818186071706636,25,1,3.5191610577754127E-2,5.0273729396791617E-2,7.181961342398803E-2,0.65778711360288089,1.3424226808222062,{"$f":"C38^2/(D38+Equations!$B$3)","v":4.0702021338958287},{"$f":"1/(D38+Equations!$B$3)","v":8.3065349671343469},5.3499999999999999E-2,0.7]
[{"$f":"SQRT((((LOG(E39)-1)/0.4)-((LOG('Chart Data'!$F$86)-1)/0.4))^2+(C39-'Chart Data'!$D$87)^2+(D39/0.2-'Chart Data'!$F$87/0.2)^2+((H39-25)/175-('Chart Data'!$D$86-25)/175)^2)","v":0.30754296268562742},38,0.7,5.3499999999999999E-2,23,622,2.7937903846908188,25,1,3.5697695221201191E-2,5.0996707458858849E-2,7.2852439226941221E-2,0.66724663964862041,1.3617278360175928,{"$f":"C39^2/(D39+Equations!$B$3)","v":4.0702021338958287},{"$f":"1/(D39+Equations!$B$3)","v":8.3065349671343469},5.3499999999999999E-2,0.7]
[{"$f":"SQRT((((LOG(E40)-1)/0.4)-((LOG('Chart Data'!$F$86)-1)/0.4))^2+(C40-'Chart Data'!$D$87)^2+(D40/0.2-'Chart Data'!$F$87/0.2)^2+((H40-25)/175-('Chart Data'!$D$86-25)/175)^2)","v":0.33277873397400332},39,0.7,5.3499999999999999E-2,24,453,2.6560982020128319,25,1,3.6182237701469742E-2,5.1688911002099637E-2,7.3841301431570916E-2,0.67630350843868681,1.3802112417116059,{"$f":"C40^2/(D40+Equations!$B$3)","v":4.0702021338958287},{"$f":"1/(D40+Equations!$B$3)","v":8.3065349671343469},5.3499999999999999E-2,0.7]
[{"$f":"SQRT((((LOG(E41)-1)/0.4)-((LOG('Chart Data'!$F$86)-1)/0.4))^2+(C41-'Chart Data'!$D$87)^2+(D41/0.2-'Chart Data'!$F$87/0.2)^2+((H41-25)/175-('Chart Data'!$D$86-25)/175)^2)","v":0.37499999999999994},40,0.7,7.4999999999999997E-2,20,916,2.9618954736678504,25,1,4.7812852340651302E-2,6.8304074772359002E-2,9.7577249674798597E-2,0.63750469787535069,1.3010299956639813,{"$f":"C41^2/(D41+Equations!$B$3)","v":3.4534489525432734},{"$f":"1/(D41+Equations!$B$3)","v":7.047855005190355},7.4999999999999997E-2,0.7]
[{"$f":"SQRT((((LOG(E42)-1)/0.4)-((LOG('Chart Data'!$F$86)-1)/0.4))^2+(C42-'Chart Data'!$D$87)^2+(D42/0.2-'Chart Data'!$F$87/0.2)^2+((H42-25)/175-('Chart Data'!$D$86-25)/175)^2)","v":0.60099683142478832},41,0.7,0.11,16,2070,3.3159703454569178,25,1,6.4902067065154334E-2,9.2717238664506207E-2,0.13245319809215172,0.59001879150140302,1.2041199826559248,{"$f":"C42^2/(D42+Equations!$B$3)","v":2.7701278679685051},{"$f":"1/(D42+Equations!$B$3)","v":5.6533221795275619},0.11,0.7]
[{"$f":"SQRT((((LOG(E43)-1)/0.4)-((LOG('Chart Data'!$F$86)-1)/0.4))^2+(C43-'Chart Data'!$D$87)^2+(D43/0.2-'Chart Data'!$F$87/0.2)^2+((H43-25)/175-('Chart Data'!$D$86-25)/175)^2)","v":0.56177034866577302},42,0.7,0.11,18,990,2.9956351945975501,25,1,6.7659188025068193E-2,9.6655982892954559E-2,0.13807997556136367,0.6150835275006199,1.255272505103306,{"$f":"C43^2/(D43+Equations!$B$3)","v":2.7701278679685051},{"$f":"1/(D43+Equations!$B$3)","v":5.6533221795275619},0.11,0.7]
[{"$f":"SQRT((((LOG(E44)-1)/0.4)-((LOG('Chart Data'!$F$86)-1)/0.4))^2+(C44-'Chart Data'!$D$87)^2+(D44/0.2-'Chart Data'!$F$87/0.2)^2+((H44-25)/175-('Chart Data'!$D$86-25)/175)^2)","v":0.55281234248910727},43,0.7,0.11,19,627,2.7972675408307164,25,1,6.8924819091357462E-2,9.846402727336781E-2,0.14066289610481117,0.62658926446688601,1.2787536009528289,{"$f":"C44^2/(D44+Equations!$B$3)","v":2.7701278679685051},{"$f":"1/(D44+Equations!$B$3)","v":5.6533221795275619},0.11,0.7]
[{"$f":"SQRT((((LOG(E45)-1)/0.4)-((LOG('Chart Data'!$F$86)-1)/0.4))^2+(C45-'Chart Data'!$D$87)^2+(D45/0.2-'Chart Data'!$F$87/0.2)^2+((H45-25)/175-('Chart Data'!$D$86-25)/175)^2)","v":0.54999999999999993},44,0.7,0.11,20,460,2.6627578316815739,25,1,7.0125516766288573E-2,0.10017930966612655,0.14311329952303795,0.63750469787535069,1.3010299956639813,{"$f":"C45^2/(D45+Equations!$B$3)","v":2.7701278679685051},{"$f":"1/(D45+Equations!$B$3)","v":5.6533221795275619},0.11,0.7]
[{"$f":"SQRT((((LOG(E46)-1)/0.4)-((LOG('Chart Data'!$F$86)-1)/0.4))^2+(C46-'Chart Data'!$D$87)^2+(D46/0.2-'Chart Data'!$F$87/0.2)^2+((H46-25)/175-('Chart Data'!$D$86-25)/175)^2)","v":0.55254517007138915},45,0.7,0.11,21,338,2.5289167002776547,25,1,7.1267619986158243E-2,0.10181088569451179,0.14544412242073113,0.64788745441962037,1.3222192947339193,{"$f":"C46^2/(D46+Equations!$B$3)","v":2.7701278679685051},{"$f":"1/(D46+Equations!$B$3)","v":5.6533221795275619},0.11,0.7]
[{"$f":"SQRT((((LOG(E47)-1)/0.4)-((LOG('Chart Data'!$F$86)-1)/0.4))^2+(C47-'Chart Data'!$D$87)^2+(D47/0.2-'Chart Data'!$F$87/0.2)^2+((H47-25)/175-('Chart Data'!$D$86-25)/175)^2)","v":0.55965030590878762},46,0.7,0.11,22,261,2.4166405073382808,25,1,7.2356582496316893E-2,0.10336654642330986,0.14766649489044267,0.65778711360288089,1.3424226808222062,{"$f":"C47^2/(D47+Equations!$B$3)","v":2.7701278679685051},{"$f":"1/(D47+Equations!$B$3)","v":5.6533221795275619},0.11,0.7]
[{"$f":"SQRT((((LOG(E48)-1)/0.4)-((LOG('Chart Data'!$F$86)-1)/0.4))^2+(C48-'Chart Data'!$D$87)^2+(D48/0.2-'Chart Data'!$F$87/0.2)^2+((H48-25)/175-('Chart Data'!$D$86-25)/175)^2)","v":0.6},47,0.7,0.12,20,337,2.5276299008713385,25,1,7.6500563745042077E-2,0.10928651963577442,0.15612359947967774,0.63750469787535069,1.3010299956639813,{"$f":"C48^2/(D48+Equations!$B$3)","v":2.6219032310801036},{"$f":"1/(D48+Equations!$B$3)","v":5.3508229205716411},0.12,0.7]
[{"$f":"SQRT((((LOG(E49)-1)/0.4)-((LOG('Chart Data'!$F$86)-1)/0.4))^2+(C49-'Chart Data'!$D$87)^2+(D49/0.2-'Chart Data'!$F$87/0.2)^2+((H49-25)/175-('Chart Data'!$D$86-25)/175)^2)","v":0.65},48,0.7,0.13,20,274,2.4377505628203879,25,1,8.2875610723795595E-2,0.11839372960542228,0.16913389943631757,0.63750469787535069,1.3010299956639813,{"$f":"C49^2/(D49+Equations!$B$3)","v":2.4887354065158704},{"$f":"1/(D49+Equations!$B$3)","v":5.0790518500323891},0.13,0.7]
[{"$f":"SQRT((((LOG(E50)-1)/0.4)-((LOG('Chart Data'!$F$86)-1)/0.4))^2+(C50-'Chart Data'!$D$87)^2+(D50/0.2-'Chart Data'!$F$87/0.2)^2+((H50-25)/175-('Chart Data'!$D$86-25)/175)^2)","v":0.70000000000000007},49,0.7,0.14000000000000001,20,244,2.3873898263387292,25,1,8.9250657702549099E-2,0.12750093957507017,0.1821441993929574,0.63750469787535069,1.3010299956639813,{"$f":"C50^2/(D50+Equations!$B$3)","v":2.3684410571840377},{"$f":"1/(D50+Equations!$B$3)","v":4.8335531779266088},0.14000000000000001,0.7]
[{"$f":"SQRT((((LOG(E51)-1)/0.4)-((LOG('Chart Data'!$F$86)-1)/0.4))^2+(C51-'Chart Data'!$D$87)^2+(D51/0.2-'Chart Data'!$F$87/0.2)^2+((H51-25)/175-('Chart Data'!$D$86-25)/175)^2)","v":0.86906935822636644},50,0.7,0.16220000000000001,15,1268,3.1031192535457137,25,1,9.3473381087227442E-2,0.13353340155318205,0.19076200221883152,0.57628471693728378,1.1760912590556813,{"$f":"C51^2/(D51+Equations!$B$3)","v":2.1389240657981134},{"$f":"1/(D51+Equations!$B$3)","v":4.3651511546900279},0.16220000000000001,0.7]
[{"$f":"SQRT((((LOG(E52)-1)/0.4)-((LOG('Chart Data'!$F$86)-1)/0.4))^2+(C52-'Chart Data'!$D$87)^2+(D52/0.2-'Chart Data'!$F$87/0.2)^2+((H52-25)/175-('Chart Data'!$D$86-25)/175)^2)","v":0.84641490498610406},51,0.7,0.16220000000000001,16,892,2.9503648543761232,25,1,9.5701047981527579E-2,0.1367157828307537,0.19530826118679101,0.59001879150140302,1.2041199826559248,{"$f":"C52^2/(D52+Equations!$B$3)","v":2.1389240657981134},{"$f":"1/(D52+Equations!$B$3)","v":4.3651511546900279},0.16220000000000001,0.7]
[{"$f":"SQRT((((LOG(E53)-1)/0.4)-((LOG('Chart Data'!$F$86)-1)/0.4))^2+(C53-'Chart Data'!$D$87)^2+(D53/0.2-'Chart Data'!$F$87/0.2)^2+((H53-25)/175-('Chart Data'!$D$86-25)/175)^2)","v":0.82997382506665751},52,0.7,0.16220000000000001,17,535,2.7283537820212285,25,1,9.7793619373302443E-2,0.13970517053328924,0.19957881504755604,0.60291997147535414,1.2304489213782739,{"$f":"C53^2/(D53+Equations!$B$3)","v":2.1389240657981134},{"$f":"1/(D53+Equations!$B$3)","v":4.3651511546900279},0.16220000000000001,0.7]
[{"$f":"SQRT((((LOG(E54)-1)/0.4)-((LOG('Chart Data'!$F$86)-1)/0.4))^2+(C54-'Chart Data'!$D$87)^2+(D54/0.2-'Chart Data'!$F$87/0.2)^2+((H54-25)/175-('Chart Data'!$D$86-25)/175)^2)","v":0.82997382506665751},53,0.7,0.16220000000000001,17,654,2.8155777483242672,25,1,9.7793619373302443E-2,0.13970517053328924,0.19957881504755604,0.60291997147535414,1.2304489213782739,{"$f":"C54^2/(D54+Equations!$B$3)","v":2.1389240657981134},{"$f":"1/(D54+Equations!$B$3)","v":4.3651511546900279},0.16220000000000001,0.7]
[{"$f":"SQRT((((LOG(E55)-1)/0.4)-((LOG('Chart Data'!$F$86)-1)/0.4))^2+(C55-'Chart Data'!$D$87)^2+(D55/0.2-'Chart Data'!$F$87/0.2)^2+((H55-25)/175-('Chart Data'!$D$86-25)/175)^2)","v":0.81902803654091383},54,0.7,0.16220000000000001,18,370,2.568201724066995,25,1,9.9766548160600557E-2,0.14252364022942937,0.20360520032775625,0.6150835275006199,1.255272505103306,{"$f":"C55^2/(D55+Equations!$B$3)","v":2.1389240657981134},{"$f":"1/(D55+Equations!$B$3)","v":4.3651511546900279},0.16220000000000001,0.7]
[{"$f":"SQRT((((LOG(E56)-1)/0.4)-((LOG('Chart Data'!$F$86)-1)/0.4))^2+(C56-'Chart Data'!$D$87)^2+(D56/0.2-'Chart Data'!$F$87/0.2)^2+((H56-25)/175-('Chart Data'!$D$86-25)/175)^2)","v":0.81902803654091383},55,0.7,0.16220000000000001,18,485,2.6857417386022635,25,1,9.9766548160600557E-2,0.14252364022942937,0.20360520032775625,0.6150835275006199,1.255272505103306,{"$f":"C56^2/(D56+Equations!$B$3)","v":2.1389240657981134},{"$f":"1/(D56+Equations!$B$3)","v":4.3651511546900279},0.16220000000000001,0.7]
[{"$f":"SQRT((((LOG(E57)-1)/0.4)-((LOG('Chart Data'!$F$86)-1)/0.4))^2+(C57-'Chart Data'!$D$87)^2+(D57/0.2-'Chart Data'!$F$87/0.2)^2+((H57-25)/175-('Chart Data'!$D$86-25)/175)^2)","v":0.8129098880000748},56,0.7,0.16220000000000001,19,273,2.436162647040756,25,1,0.10163277869652891,0.14518968385218417,0.20741383407454886,0.62658926446688601,1.2787536009528289,{"$f":"C57^2/(D57+Equations!$B$3)","v":2.1389240657981134},{"$f":"1/(D57+Equations!$B$3)","v":4.3651511546900279},0.16220000000000001,0.7]
[{"$f":"SQRT((((LOG(E58)-1)/0.4)-((LOG('Chart Data'!$F$86)-1)/0.4))^2+(C58-'Chart Data'!$D$87)^2+(D58/0.2-'Chart Data'!$F$87/0.2)^2+((H58-25)/175-('Chart Data'!$D$86-25)/175)^2)","v":0.8129098880000748},57,0.7,0.16220000000000001,19,380,2.5797835966168101,25,1,0.10163277869652891,0.14518968385218417,0.20741383407454886,0.62658926446688601,1.2787536009528289,{"$f":"C58^2/(D58+Equations!$B$3)","v":2.1389240657981134},{"$f":"1/(D58+Equations!$B$3)","v":4.3651511546900279},0.16220000000000001,0.7]
[{"$f":"SQRT((((LOG(E59)-1)/0.4)-((LOG('Chart Data'!$F$86)-1)/0.4))^2+(C59-'Chart Data'!$D$87)^2+(D59/0.2-'Chart Data'!$F$87/0.2)^2+((H59-25)/175-('Chart Data'!$D$86-25)/175)^2)","v":0.81100000000000005},58,0.7,0.16220000000000001,20,211,2.3242824552976926,25,1,0.10340326199538188,0.14771894570768843,0.21102706529669776,0.63750469787535069,1.3010299956639813,{"$f":"C59^2/(D59+Equations!$B$3)","v":2.1389240657981134},{"$f":"1/(D59+Equations!$B$3)","v":4.3651511546900279},0.16220000000000001,0.7]
[{"$f":"SQRT((((LOG(E60)-1)/0.4)-((LOG('Chart Data'!$F$86)-1)/0.4))^2+(C60-'Chart Data'!$D$87)^2+(D60/0.2-'Chart Data'!$F$87/0.2)^2+((H60-25)/175-('Chart Data'!$D$86-25)/175)^2)","v":0.81100000000000005},59,0.7,0.16220000000000001,20,222,2.3463529744506388,25,1,0.10340326199538188,0.14771894570768843,0.21102706529669776,0.63750469787535069,1.3010299956639813,{"$f":"C60^2/(D60+Equations!$B$3)","v":2.1389240657981134},{"$f":"1/(D60+Equations!$B$3)","v":4.3651511546900279},0.16220000000000001,0.7]
[{"$f":"SQRT((((LOG(E61)-1)/0.4)-((LOG('Chart Data'!$F$86)-1)/0.4))^2+(C61-'Chart Data'!$D$87)^2+(D61/0.2-'Chart Data'!$F$87/0.2)^2+((H61-25)/175-('Chart Data'!$D$86-25)/175)^2)","v":1},60,0.7,0.2,20,193,2.2855573090077739,25,1,0.12750093957507014,0.18214419939295737,0.26020599913279624,0.63750469787535069,1.3010299956639813,{"$f":"C61^2/(D61+Equations!$B$3)","v":1.8359820460003629},{"$f":"1/(D61+Equations!$B$3)","v":3.7469021346946185},0.2,0.7]
[{"$f":"SQRT((((LOG(E62)-1)/0.4)-((LOG('Chart Data'!$F$86)-1)/0.4))^2+(C62-'Chart Data'!$D$87)^2+(D62/0.2-'Chart Data'!$F$87/0.2)^2+((H62-25)/175-('Chart Data'!$D$86-25)/175)^2)","v":0.42322192689886518},61,0.8,5.3499999999999999E-2,15,10943,4.0391363992220954,25,1,4.0269364710066535E-2,5.0336705887583162E-2,6.2920882359478944E-2,0.75269840579563618,1.1760912590556813,{"$f":"C62^2/(D62+Equations!$B$3)","v":5.3161823789659826},{"$f":"1/(D62+Equations!$B$3)","v":8.3065349671343469},5.3499999999999999E-2,0.8]
[{"$f":"SQRT((((LOG(E63)-1)/0.4)-((LOG('Chart Data'!$F$86)-1)/0.4))^2+(C63-'Chart Data'!$D$87)^2+(D63/0.2-'Chart Data'!$F$87/0.2)^2+((H63-25)/175-('Chart Data'!$D$86-25)/175)^2)","v":0.29096002475992144},62,0.8,5.3499999999999999E-2,19,2268,3.355643050220869,25,1,4.3784523296624869E-2,5.4730654120781076E-2,6.8413317650976344E-2,0.81840230460981067,1.2787536009528289,{"$f":"C63^2/(D63+Equations!$B$3)","v":5.3161823789659826},{"$f":"1/(D63+Equations!$B$3)","v":8.3065349671343469},5.3499999999999999E-2,0.8]
[{"$f":"SQRT((((LOG(E64)-1)/0.4)-((LOG('Chart Data'!$F$86)-1)/0.4))^2+(C64-'Chart Data'!$D$87)^2+(D64/0.2-'Chart Data'!$F$87/0.2)^2+((H64-25)/175-('Chart Data'!$D$86-25)/175)^2)","v":0.2855805490575295},63,0.8,5.3499999999999999E-2,20,1534,3.185825359612962,25,1,4.4547267051534729E-2,5.5684083814418396E-2,6.9605104768022993E-2,0.83265919722494819,1.3010299956639813,{"$f":"C64^2/(D64+Equations!$B$3)","v":5.3161823789659826},{"$f":"1/(D64+Equations!$B$3)","v":8.3065349671343469},5.3499999999999999E-2,0.8]
[{"$f":"SQRT((((LOG(E65)-1)/0.4)-((LOG('Chart Data'!$F$86)-1)/0.4))^2+(C65-'Chart Data'!$D$87)^2+(D65/0.2-'Chart Data'!$F$87/0.2)^2+((H65-25)/175-('Chart Data'!$D$86-25)/175)^2)","v":0.29045208721787569},64,0.8,5.3499999999999999E-2,21,1075,3.0314084642516241,25,1,4.5272788651689405E-2,5.6590985814611743E-2,7.0738732268264687E-2,0.84622034862970852,1.3222192947339193,{"$f":"C65^2/(D65+Equations!$B$3)","v":5.3161823789659826},{"$f":"1/(D65+Equations!$B$3)","v":8.3065349671343469},5.3499999999999999E-2,0.8]
[{"$f":"SQRT((((LOG(E66)-1)/0.4)-((LOG('Chart Data'!$F$86)-1)/0.4))^2+(C66-'Chart Data'!$D$87)^2+(D66/0.2-'Chart Data'!$F$87/0.2)^2+((H66-25)/175-('Chart Data'!$D$86-25)/175)^2)","v":0.30375107391382106},65,0.8,5.3499999999999999E-2,22,800,{"$f":"LOG(F66)","v":2.9030899869919438},25,1,4.5964552591352348E-2,5.7455690739190421E-2,7.181961342398803E-2,0.85915051572621215,1.3424226808222062,{"$f":"C66^2/(D66+Equations!$B$3)","v":5.3161823789659826},{"$f":"1/(D66+Equations!$B$3)","v":8.3065349671343469},5.3499999999999999E-2,0.8]
[{"$f":"SQRT((((LOG(E67)-1)/0.4)-((LOG('Chart Data'!$F$86)-1)/0.4))^2+(C67-'Chart Data'!$D$87)^2+(D67/0.2-'Chart Data'!$F$87/0.2)^2+((H67-25)/175-('Chart Data'!$D$86-25)/175)^2)","v":0.32339244564066927},66,0.8,5.3499999999999999E-2,23,615,2.7888751157754168,25,1,{"$f":"C67^2*LOG(E67)*D67","v":4.6625561105242387E-2},{"$f":"C67*LOG(E67)*D67","v":5.8281951381552982E-2},{"$f":"LOG(E67)*D67","v":7.2852439226941221E-2},{"$f":"C67^2*LOG(E67)","v":0.87150581505125957},{"$f":"LOG(E67)","v":1.3617278360175928},{"$f":"C67^2/(D67+Equations!$B$3)","v":5.3161823789659826},{"$f":"1/(D67+Equations!$B$3)","v":8.3065349671343469},{"$f":"D67","v":5.3499999999999999E-2},{"$f":"C67","v":0.8}]
[{"$f":"SQRT((((LOG(E68)-1)/0.4)-((LOG('Chart Data'!$F$86)-1)/0.4))^2+(C68-'Chart Data'!$D$87)^2+(D68/0.2-'Chart Data'!$F$87/0.2)^2+((H68-25)/175-('Chart Data'!$D$86-25)/175)^2)","v":0.45729290329939343},{"$f":"B67+1","v":67},0.9,5.3499999999999999E-2,15,7273,3.8617135875714341,25,1,5.0965914711177951E-2,5.6628794123531064E-2,6.2920882359478944E-2,0.95263391983510193,1.1760912590556813,{"$f":"C68^2/(D68+Equations!$B$3)","v":6.7282933233788205},{"$f":"1/(D68+Equations!$B$3)","v":8.3065349671343469},5.3499999999999999E-2,0.9]
[{"$f":"SQRT((((LOG(E69)-1)/0.4)-((LOG('Chart Data'!$F$86)-1)/0.4))^2+(C69-'Chart Data'!$D$87)^2+(D69/0.2-'Chart Data'!$F$87/0.2)^2+((H69-25)/175-('Chart Data'!$D$86-25)/175)^2)","v":0.33861148239286587},68,0.9,5.3499999999999999E-2,19,1854,3.2681097298084785,25,1,5.5414787297290845E-2,6.1571985885878706E-2,6.8413317650976344E-2,1.0357904167717915,1.2787536009528289,{"$f":"C69^2/(D69+Equations!$B$3)","v":6.7282933233788205},{"$f":"1/(D69+Equations!$B$3)","v":8.3065349671343469},5.3499999999999999E-2,0.9]
[{"$f":"SQRT((((LOG(E70)-1)/0.4)-((LOG('Chart Data'!$F$86)-1)/0.4))^2+(C70-'Chart Data'!$D$87)^2+(D70/0.2-'Chart Data'!$F$87/0.2)^2+((H70-25)/175-('Chart Data'!$D$86-25)/175)^2)","v":0.33817512470496774},69,0.9,5.3499999999999999E-2,21,996,2.9982593384236988,25,1,5.7298373137294398E-2,6.3664859041438218E-2,7.0738732268264687E-2,1.0709976287344747,1.3222192947339193,{"$f":"C70^2/(D70+Equations!$B$3)","v":6.7282933233788205},{"$f":"1/(D70+Equations!$B$3)","v":8.3065349671343469},5.3499999999999999E-2,0.9]
[{"$f":"SQRT((((LOG(E71)-1)/0.4)-((LOG('Chart Data'!$F$86)-1)/0.4))^2+(C71-'Chart Data'!$D$87)^2+(D71/0.2-'Chart Data'!$F$87/0.2)^2+((H71-25)/175-('Chart Data'!$D$86-25)/175)^2)","v":0.36685511294985829},70,0.9,5.3499999999999999E-2,23,561,2.7489628612561616,25,1,5.9010475773822381E-2,6.5567195304247095E-2,7.2852439226941221E-2,1.1029995471742502,1.3617278360175928,{"$f":"C71^2/(D71+Equations!$B$3)","v":6.7282933233788205},{"$f":"1/(D71+Equations!$B$3)","v":8.3065349671343469},5.3499999999999999E-2,0.9]
[{"$f":"SQRT((((LOG(E72)-1)/0.4)-((LOG('Chart Data'!$F$86)-1)/0.4))^2+(C72-'Chart Data'!$D$87)^2+(D72/0.2-'Chart Data'!$F$87/0.2)^2+((H72-25)/175-('Chart Data'!$D$86-25)/175)^2)","v":0.41261779091870898},71,0.9,5.3499999999999999E-2,25,350,2.5440680443502757,25,1,6.0579730275802761E-2,6.7310811417558611E-2,7.4789790463954023E-2,1.1323314070243506,1.3979400086720377,{"$f":"C72^2/(D72+Equations!$B$3)","v":6.7282933233788205},{"$f":"1/(D72+Equations!$B$3)","v":8.3065349671343469},5.3499999999999999E-2,0.9]
[{"$f":"SQRT((((LOG(E73)-1)/0.4)-((LOG('Chart Data'!$F$86)-1)/0.4))^2+(C73-'Chart Data'!$D$87)^2+(D73/0.2-'Chart Data'!$F$87/0.2)^2+((H73-25)/175-('Chart Data'!$D$86-25)/175)^2)","v":0.63340128779679272},72,0.9,0.11,16,2208,3.3439990690571615,25,1,0.10728709045464291,0.11920787828293655,0.13245319809215172,0.97533718595129915,1.2041199826559248,{"$f":"C73^2/(D73+Equations!$B$3)","v":4.5791909654173253},{"$f":"1/(D73+Equations!$B$3)","v":5.6533221795275619},0.11,0.9]
[{"$f":"SQRT((((LOG(E74)-1)/0.4)-((LOG('Chart Data'!$F$86)-1)/0.4))^2+(C74-'Chart Data'!$D$87)^2+(D74/0.2-'Chart Data'!$F$87/0.2)^2+((H74-25)/175-('Chart Data'!$D$86-25)/175)^2)","v":0.58762757335681626},73,0.9,0.11,21,514,2.7109631189952759,25,1,0.11780973916079221,0.13089971017865801,0.14544412242073113,1.0709976287344747,1.3222192947339193,{"$f":"C74^2/(D74+Equations!$B$3)","v":4.5791909654173253},{"$f":"1/(D74+Equations!$B$3)","v":5.6533221795275619},0.11,0.9]
[{"$f":"SQRT((((LOG(E75)-1)/0.4)-((LOG('Chart Data'!$F$86)-1)/0.4))^2+(C75-'Chart Data'!$D$87)^2+(D75/0.2-'Chart Data'!$F$87/0.2)^2+((H75-25)/175-('Chart Data'!$D$86-25)/175)^2)","v":0.25177215146843274},74,0.91017999999999999,0,22.723500000000001,3446,3.5373152731120099,25,1,0,0,0,1.1237415587622841,1.356475224645445,{"$f":"C75^2/(D75+Equations!$B$3)","v":12.385454281829421},{"$f":"1/(D75+Equations!$B$3)","v":14.950556690085392},0,0.91017999999999999]
[{"$f":"SQRT((((LOG(E76)-1)/0.4)-((LOG('Chart Data'!$F$86)-1)/0.4))^2+(C76-'Chart Data'!$D$87)^2+(D76/0.2-'Chart Data'!$F$87/0.2)^2+((H76-25)/175-('Chart Data'!$D$86-25)/175)^2)","v":0.35942375517672798},75,1,0,24,2039,3.30941722577814,25,1,0,0,0,1.3802112417116059,1.3802112417116059,{"$f":"C76^2/(D76+Equations!$B$3)","v":14.950556690085392},{"$f":"1/(D76+Equations!$B$3)","v":14.950556690085392},0,1]
[{"$f":"SQRT((((LOG(E77)-1)/0.4)-((LOG('Chart Data'!$F$86)-1)/0.4))^2+(C77-'Chart Data'!$D$87)^2+(D77/0.2-'Chart Data'!$F$87/0.2)^2+((H77-25)/175-('Chart Data'!$D$86-25)/175)^2)","v":0.38561274795140721},76,1,0,25,1711,3.2332500095411003,25,1,0,0,0,1.3979400086720377,1.3979400086720377,{"$f":"C77^2/(D77+Equations!$B$3)","v":14.950556690085392},{"$f":"1/(D77+Equations!$B$3)","v":14.950556690085392},0,1]
[{"$f":"SQRT((((LOG(E78)-1)/0.4)-((LOG('Chart Data'!$F$86)-1)/0.4))^2+(C78-'Chart Data'!$D$87)^2+(D78/0.2-'Chart Data'!$F$87/0.2)^2+((H78-25)/175-('Chart Data'!$D$86-25)/175)^2)","v":0.5090351651978362},77,1,5.3499999999999999E-2,15,6125,3.7871060930365701,25,1,6.2920882359478944E-2,6.2920882359478944E-2,6.2920882359478944E-2,1.1760912590556813,1.1760912590556813,{"$f":"C78^2/(D78+Equations!$B$3)","v":8.3065349671343469},{"$f":"1/(D78+Equations!$B$3)","v":8.3065349671343469},5.3499999999999999E-2,1]
[{"$f":"SQRT((((LOG(E79)-1)/0.4)-((LOG('Chart Data'!$F$86)-1)/0.4))^2+(C79-'Chart Data'!$D$87)^2+(D79/0.2-'Chart Data'!$F$87/0.2)^2+((H79-25)/175-('Chart Data'!$D$86-25)/175)^2)","v":0.43896674167387484},78,1,5.3499999999999999E-2,17,3190,3.503790683057181,25,1,6.5829017293737649E-2,6.5829017293737649E-2,6.5829017293737649E-2,1.2304489213782739,1.2304489213782739,{"$f":"C79^2/(D79+Equations!$B$3)","v":8.3065349671343469},{"$f":"1/(D79+Equations!$B$3)","v":8.3065349671343469},5.3499999999999999E-2,1]
[{"$f":"SQRT((((LOG(E80)-1)/0.4)-((LOG('Chart Data'!$F$86)-1)/0.4))^2+(C80-'Chart Data'!$D$87)^2+(D80/0.2-'Chart Data'!$F$87/0.2)^2+((H80-25)/175-('Chart Data'!$D$86-25)/175)^2)","v":0.40578040367703083},79,1,5.3499999999999999E-2,19,1970,3.2944662261615929,25,1,6.8413317650976344E-2,6.8413317650976344E-2,6.8413317650976344E-2,1.2787536009528289,1.2787536009528289,{"$f":"C80^2/(D80+Equations!$B$3)","v":8.3065349671343469},{"$f":"1/(D80+Equations!$B$3)","v":8.3065349671343469},5.3499999999999999E-2,1]
[{"$f":"SQRT((((LOG(E81)-1)/0.4)-((LOG('Chart Data'!$F$86)-1)/0.4))^2+(C81-'Chart Data'!$D$87)^2+(D81/0.2-'Chart Data'!$F$87/0.2)^2+((H81-25)/175-('Chart Data'!$D$86-25)/175)^2)","v":0.40541634768373674},80,1,5.3499999999999999E-2,21,1317,3.1195857749617839,25,1,7.0738732268264687E-2,7.0738732268264687E-2,7.0738732268264687E-2,1.3222192947339193,1.3222192947339193,{"$f":"C81^2/(D81+Equations!$B$3)","v":8.3065349671343469},{"$f":"1/(D81+Equations!$B$3)","v":8.3065349671343469},5.3499999999999999E-2,1]
[{"$f":"SQRT((((LOG(E82)-1)/0.4)-((LOG('Chart Data'!$F$86)-1)/0.4))^2+(C82-'Chart Data'!$D$87)^2+(D82/0.2-'Chart Data'!$F$87/0.2)^2+((H82-25)/175-('Chart Data'!$D$86-25)/175)^2)","v":0.41504784652350574},81,1,5.3499999999999999E-2,22,1019,3.0081741840064264,25,1,7.181961342398803E-2,7.181961342398803E-2,7.181961342398803E-2,1.3424226808222062,1.3424226808222062,{"$f":"C82^2/(D82+Equations!$B$3)","v":8.3065349671343469},{"$f":"1/(D82+Equations!$B$3)","v":8.3065349671343469},5.3499999999999999E-2,1]
[{"$f":"SQRT((((LOG(E83)-1)/0.4)-((LOG('Chart Data'!$F$86)-1)/0.4))^2+(C83-'Chart Data'!$D$87)^2+(D83/0.2-'Chart Data'!$F$87/0.2)^2+((H83-25)/175-('Chart Data'!$D$86-25)/175)^2)","v":0.42963085771095777},82,1,5.3499999999999999E-2,23,738,2.8680563618230415,25,1,7.2852439226941221E-2,7.2852439226941221E-2,7.2852439226941221E-2,1.3617278360175928,1.3617278360175928,{"$f":"C83^2/(D83+Equations!$B$3)","v":8.3065349671343469},{"$f":"1/(D83+Equations!$B$3)","v":8.3065349671343469},5.3499999999999999E-2,1]
[{"$f":"SQRT((((LOG(E84)-1)/0.4)-((LOG('Chart Data'!$F$86)-1)/0.4))^2+(C84-'Chart Data'!$D$87)^2+(D84/0.2-'Chart Data'!$F$87/0.2)^2+((H84-25)/175-('Chart Data'!$D$86-25)/175)^2)","v":0.44804205805408542},83,1,5.3499999999999999E-2,24,654,2.8155777483242672,25,1,7.3841301431570916E-2,7.3841301431570916E-2,7.3841301431570916E-2,1.3802112417116059,1.3802112417116059,{"$f":"C84^2/(D84+Equations!$B$3)","v":8.3065349671343469},{"$f":"1/(D84+Equations!$B$3)","v":8.3065349671343469},5.3499999999999999E-2,1]
[{"$f":"SQRT((((LOG(E85)-1)/0.4)-((LOG('Chart Data'!$F$86)-1)/0.4))^2+(C85-'Chart Data'!$D$87)^2+(D85/0.2-'Chart Data'!$F$87/0.2)^2+((H85-25)/175-('Chart Data'!$D$86-25)/175)^2)","v":0.46931166763957133},84,1,5.3499999999999999E-2,25,476,2.6776069527204931,25,1,7.4789790463954023E-2,7.4789790463954023E-2,7.4789790463954023E-2,1.3979400086720377,1.3979400086720377,{"$f":"C85^2/(D85+Equations!$B$3)","v":8.3065349671343469},{"$f":"1/(D85+Equations!$B$3)","v":8.3065349671343469},5.3499999999999999E-2,1]
[{"$f":"SQRT((((LOG(E86)-1)/0.4)-((LOG('Chart Data'!$F$86)-1)/0.4))^2+(C86-'Chart Data'!$D$87)^2+(D86/0.2-'Chart Data'!$F$87/0.2)^2+((H86-25)/175-('Chart Data'!$D$86-25)/175)^2)","v":0.67171213431248611},85,1,0.11,16,2565,3.409087369447835,25,1,0.13245319809215172,0.13245319809215172,0.13245319809215172,1.2041199826559248,1.2041199826559248,{"$f":"C86^2/(D86+Equations!$B$3)","v":5.6533221795275619},{"$f":"1/(D86+Equations!$B$3)","v":5.6533221795275619},0.11,1]
[{"$f":"SQRT((((LOG(E87)-1)/0.4)-((LOG('Chart Data'!$F$86)-1)/0.4))^2+(C87-'Chart Data'!$D$87)^2+(D87/0.2-'Chart Data'!$F$87/0.2)^2+((H87-25)/175-('Chart Data'!$D$86-25)/175)^2)","v":0.62873377909034001},86,1,0.11,21,848,2.9283958522567137,25,1,0.14544412242073113,0.14544412242073113,0.14544412242073113,1.3222192947339193,1.3222192947339193,{"$f":"C87^2/(D87+Equations!$B$3)","v":5.6533221795275619},{"$f":"1/(D87+Equations!$B$3)","v":5.6533221795275619},0.11,1]
[{"$f":"SQRT((((LOG(E88)-1)/0.4)-((LOG('Chart Data'!$F$86)-1)/0.4))^2+(C88-'Chart Data'!$D$87)^2+(D88/0.2-'Chart Data'!$F$87/0.2)^2+((H88-25)/175-('Chart Data'!$D$86-25)/175)^2)","v":0.91939194547700298},87,1,0.16220000000000001,15,3002,3.4774106879072515,25,1,0.19076200221883152,0.19076200221883152,0.19076200221883152,1.1760912590556813,1.1760912590556813,{"$f":"C88^2/(D88+Equations!$B$3)","v":4.3651511546900279},{"$f":"1/(D88+Equations!$B$3)","v":4.3651511546900279},0.16220000000000001,1]
[{"$f":"SQRT((((LOG(E89)-1)/0.4)-((LOG('Chart Data'!$F$86)-1)/0.4))^2+(C89-'Chart Data'!$D$87)^2+(D89/0.2-'Chart Data'!$F$87/0.2)^2+((H89-25)/175-('Chart Data'!$D$86-25)/175)^2)","v":0.88252849829100621},88,1,0.16220000000000001,17,1759,3.2452658394574612,25,1,0.19957881504755604,0.19957881504755604,0.19957881504755604,1.2304489213782739,1.2304489213782739,{"$f":"C89^2/(D89+Equations!$B$3)","v":4.3651511546900279},{"$f":"1/(D89+Equations!$B$3)","v":4.3651511546900279},0.16220000000000001,1]
[{"$f":"SQRT((((LOG(E90)-1)/0.4)-((LOG('Chart Data'!$F$86)-1)/0.4))^2+(C90-'Chart Data'!$D$87)^2+(D90/0.2-'Chart Data'!$F$87/0.2)^2+((H90-25)/175-('Chart Data'!$D$86-25)/175)^2)","v":0.87224246895004165},89,1,0.16220000000000001,18,1324,3.1218879851036809,25,1,0.20360520032775625,0.20360520032775625,0.20360520032775625,1.255272505103306,1.255272505103306,{"$f":"C90^2/(D90+Equations!$B$3)","v":4.3651511546900279},{"$f":"1/(D90+Equations!$B$3)","v":4.3651511546900279},0.16220000000000001,1]
[{"$f":"SQRT((((LOG(E91)-1)/0.4)-((LOG('Chart Data'!$F$86)-1)/0.4))^2+(C91-'Chart Data'!$D$87)^2+(D91/0.2-'Chart Data'!$F$87/0.2)^2+((H91-25)/175-('Chart Data'!$D$86-25)/175)^2)","v":0.86470862144424121},90,1,0.16220000000000001,20,851,2.929929560084588,25,1,0.21102706529669776,0.21102706529669776,0.21102706529669776,1.3010299956639813,1.3010299956639813,{"$f":"C91^2/(D91+Equations!$B$3)","v":4.3651511546900279},{"$f":"1/(D91+Equations!$B$3)","v":4.3651511546900279},0.16220000000000001,1]
[{"$f":"SQRT((((LOG(E92)-1)/0.4)-((LOG('Chart Data'!$F$86)-1)/0.4))^2+(C92-'Chart Data'!$D$87)^2+(D92/0.2-'Chart Data'!$F$87/0.2)^2+((H92-25)/175-('Chart Data'!$D$86-25)/175)^2)","v":0.98367831466342137},91,0,0,18,76199,4.8819492718995532,144.27467774755053,null,null,null,null,null,null,null,null,null,null,1,{"$f":"LOG(E92)","v":1.255272505103306},{"$f":"LOG(E92)*C92","v":0},{"$f":"C92^2","v":0}]
[{"$f":"SQRT((((LOG(E93)-1)/0.4)-((LOG('Chart Data'!$F$86)-1)/0.4))^2+(C93-'Chart Data'!$D$87)^2+(D93/0.2-'Chart Data'!$F$87/0.2)^2+((H93-25)/175-('Chart Data'!$D$86-25)/175)^2)","v":0.97804348603838598},92,0,0,18.5,63004,4.7993681228310647,143.6138809351911,null,null,null,null,null,null,null,null,null,null,1,{"$f":"LOG(E93)","v":1.2671717284030137},{"$f":"LOG(E93)*C93","v":0},{"$f":"C93^2","v":0}]
[{"$f":"SQRT((((LOG(E94)-1)/0.4)-((LOG('Chart Data'!$F$86)-1)/0.4))^2+(C94-'Chart Data'!$D$87)^2+(D94/0.2-'Chart Data'!$F$87/0.2)^2+((H94-25)/175-('Chart Data'!$D$86-25)/175)^2)","v":0.97716868361021414},93,0,0,19,44106,{"$f":"LOG(F94)","v":4.6444976731332455},143.91725158905405,null,null,null,null,null,null,null,null,null,null,1,1.2787536009528289,0,0]
[{"$f":"SQRT((((LOG(E95)-1)/0.4)-((LOG('Chart Data'!$F$86)-1)/0.4))^2+(C95-'Chart Data'!$D$87)^2+(D95/0.2-'Chart Data'!$F$87/0.2)^2+((H95-25)/175-('Chart Data'!$D$86-25)/175)^2)","v":0.92086841014684928},94,0.1,0,17,75623,4.8786539020347472,143.28538277989952,null,null,null,null,null,null,null,null,null,null,1,1.2304489213782739,0.12304489213782739,1.0000000000000002E-2]
[{"$f":"SQRT((((LOG(E96)-1)/0.4)-((LOG('Chart Data'!$F$86)-1)/0.4))^2+(C96-'Chart Data'!$D$87)^2+(D96/0.2-'Chart Data'!$F$87/0.2)^2+((H96-25)/175-('Chart Data'!$D$86-25)/175)^2)","v":0.90877145385030045},95,0.1,0,17.5,52201,4.7176788227402326,141.71941054052252,null,null,null,null,null,null,null,null,null,null,1,1.2430380486862944,0.12430380486862945,1.0000000000000002E-2]
[{"$f":"SQRT((((LOG(E97)-1)/0.4)-((LOG('Chart Data'!$F$86)-1)/0.4))^2+(C97-'Chart Data'!$D$87)^2+(D97/0.2-'Chart Data'!$F$87/0.2)^2+((H97-25)/175-('Chart Data'!$D$86-25)/175)^2)","v":0.9093615426755095},96,0.1,0,18,38389,4.5842067992719153,142.89500636742105,null,null,null,null,null,null,null,null,null,null,1,1.255272505103306,0.12552725051033062,1.0000000000000002E-2]
[{"$f":"SQRT((((LOG(E98)-1)/0.4)-((LOG('Chart Data'!$F$86)-1)/0.4))^2+(C98-'Chart Data'!$D$87)^2+(D98/0.2-'Chart Data'!$F$87/0.2)^2+((H98-25)/175-('Chart Data'!$D$86-25)/175)^2)","v":0.8943869947647386},97,0.1,0,19,8814,3.9451730461739003,140.66250448342237,null,null,null,null,null,null,null,null,null,null,1,1.2787536009528289,0.12787536009528289,1.0000000000000002E-2]
[{"$f":"SQRT((((LOG(E99)-1)/0.4)-((LOG('Chart Data'!$F$86)-1)/0.4))^2+(C99-'Chart Data'!$D$87)^2+(D99/0.2-'Chart Data'!$F$87/0.2)^2+((H99-25)/175-('Chart Data'!$D$86-25)/175)^2)","v":0.87764831417442568},98,0.2,0,16,75616,4.8786136999522753,143.89306967696388,null,null,null,null,null,null,null,null,null,null,1,1.2041199826559248,0.24082399653118497,4.0000000000000008E-2]
[{"$f":"SQRT((((LOG(E100)-1)/0.4)-((LOG('Chart Data'!$F$86)-1)/0.4))^2+(C100-'Chart Data'!$D$87)^2+(D100/0.2-'Chart Data'!$F$87/0.2)^2+((H100-25)/175-('Chart Data'!$D$86-25)/175)^2)","v":0.87527097958618927},99,0.2,0,16.5,46804,4.6702829706744122,145.2893845112626,null,null,null,null,null,null,null,null,null,null,1,1.2174839442139063,0.24349678884278125,4.0000000000000008E-2]
[{"$f":"SQRT((((LOG(E101)-1)/0.4)-((LOG('Chart Data'!$F$86)-1)/0.4))^2+(C101-'Chart Data'!$D$87)^2+(D101/0.2-'Chart Data'!$F$87/0.2)^2+((H101-25)/175-('Chart Data'!$D$86-25)/175)^2)","v":0.85449992258275431},100,0.2,0,17,30302,4.4814712938587,142.26757278364931,null,null,null,null,null,null,null,null,null,null,1,1.2304489213782739,0.24608978427565478,4.0000000000000008E-2]
[{"$f":"SQRT((((LOG(E102)-1)/0.4)-((LOG('Chart Data'!$F$86)-1)/0.4))^2+(C102-'Chart Data'!$D$87)^2+(D102/0.2-'Chart Data'!$F$87/0.2)^2+((H102-25)/175-('Chart Data'!$D$86-25)/175)^2)","v":0.85410873914114671},101,0.2,0,17.5,15516.999999999998,4.1908077601319018,143.49484756557905,null,null,null,null,null,null,null,null,null,null,1,1.2430380486862944,0.2486076097372589,4.0000000000000008E-2]
[{"$f":"SQRT((((LOG(E103)-1)/0.4)-((LOG('Chart Data'!$F$86)-1)/0.4))^2+(C103-'Chart Data'!$D$87)^2+(D103/0.2-'Chart Data'!$F$87/0.2)^2+((H103-25)/175-('Chart Data'!$D$86-25)/175)^2)","v":0.84057499411634751},102,0.2,0,18,10935,4.0388187873736561,141.54006663104121,null,null,null,null,null,null,null,null,null,null,1,1.255272505103306,0.25105450102066124,4.0000000000000008E-2]
[{"$f":"SQRT((((LOG(E104)-1)/0.4)-((LOG('Chart Data'!$F$86)-1)/0.4))^2+(C104-'Chart Data'!$D$87)^2+(D104/0.2-'Chart Data'!$F$87/0.2)^2+((H104-25)/175-('Chart Data'!$D$86-25)/175)^2)","v":0.83020515074275691},103,0.2,0,18.5,7203.0000000000009,3.8575134147766899,140.03181477301968,null,null,null,null,null,null,null,null,null,null,1,1.2671717284030137,0.25343434568060275,4.0000000000000008E-2]
[{"$f":"SQRT((((LOG(E105)-1)/0.4)-((LOG('Chart Data'!$F$86)-1)/0.4))^2+(C105-'Chart Data'!$D$87)^2+(D105/0.2-'Chart Data'!$F$87/0.2)^2+((H105-25)/175-('Chart Data'!$D$86-25)/175)^2)","v":0.82698206825449772},104,0.2,0,19,4380,3.6414741105040997,139.86158764221244,null,null,null,null,null,null,null,null,null,null,1,1.2787536009528289,0.25575072019056577,4.0000000000000008E-2]
[{"$f":"SQRT((((LOG(E106)-1)/0.4)-((LOG('Chart Data'!$F$86)-1)/0.4))^2+(C106-'Chart Data'!$D$87)^2+(D106/0.2-'Chart Data'!$F$87/0.2)^2+((H106-25)/175-('Chart Data'!$D$86-25)/175)^2)","v":0.81496555145715333},105,0.3,0,16,21600,4.3344537511509307,141.80141072372078,null,null,null,null,null,null,null,null,null,null,1,1.2041199826559248,0.36123599479677743,0.09]
[{"$f":"SQRT((((LOG(E107)-1)/0.4)-((LOG('Chart Data'!$F$86)-1)/0.4))^2+(C107-'Chart Data'!$D$87)^2+(D107/0.2-'Chart Data'!$F$87/0.2)^2+((H107-25)/175-('Chart Data'!$D$86-25)/175)^2)","v":0.7983428445435129},106,0.3,0,17,5825,3.7652959296980564,141.89891896892271,null,null,null,null,null,null,null,null,null,null,1,1.2304489213782739,0.36913467641348213,0.09]
[{"$f":"SQRT((((LOG(E108)-1)/0.4)-((LOG('Chart Data'!$F$86)-1)/0.4))^2+(C108-'Chart Data'!$D$87)^2+(D108/0.2-'Chart Data'!$F$87/0.2)^2+((H108-25)/175-('Chart Data'!$D$86-25)/175)^2)","v":0.63211106265867656},107,0.3,0,17,60853,4.7842819934342788,104.89451411371061,null,null,null,null,null,null,null,null,null,null,1,1.2304489213782739,0.36913467641348213,0.09]
[{"$f":"SQRT((((LOG(E109)-1)/0.4)-((LOG('Chart Data'!$F$86)-1)/0.4))^2+(C109-'Chart Data'!$D$87)^2+(D109/0.2-'Chart Data'!$F$87/0.2)^2+((H109-25)/175-('Chart Data'!$D$86-25)/175)^2)","v":0.81848178668463289},108,0.4,0,14.5,23400,4.3692158574101425,143.43288815946119,null,null,null,null,null,null,null,null,null,null,1,1.1613680022349748,0.46454720089398993,0.16000000000000003]
[{"$f":"SQRT((((LOG(E110)-1)/0.4)-((LOG('Chart Data'!$F$86)-1)/0.4))^2+(C110-'Chart Data'!$D$87)^2+(D110/0.2-'Chart Data'!$F$87/0.2)^2+((H110-25)/175-('Chart Data'!$D$86-25)/175)^2)","v":0.80547332795218307},109,0.4,0,15,13654,4.1352598985156588,143.84893220777286,null,null,null,null,null,null,null,null,null,null,1,1.1760912590556813,0.47043650362227257,0.16000000000000003]
[{"$f":"SQRT((((LOG(E111)-1)/0.4)-((LOG('Chart Data'!$F$86)-1)/0.4))^2+(C111-'Chart Data'!$D$87)^2+(D111/0.2-'Chart Data'!$F$87/0.2)^2+((H111-25)/175-('Chart Data'!$D$86-25)/175)^2)","v":0.78356776740692602},110,0.4,0,15.5,7130,3.8530895298518657,142.05266371584418,null,null,null,null,null,null,null,null,null,null,1,1.1903316981702914,0.47613267926811659,0.16000000000000003]
[{"$f":"SQRT((((LOG(E112)-1)/0.4)-((LOG('Chart Data'!$F$86)-1)/0.4))^2+(C112-'Chart Data'!$D$87)^2+(D112/0.2-'Chart Data'!$F$87/0.2)^2+((H112-25)/175-('Chart Data'!$D$86-25)/175)^2)","v":0.79819478098811603},111,0.5,0,14,8580,3.9334872878487053,142.02104242310122,null,null,null,null,null,null,null,null,null,null,1,1.146128035678238,0.57306401783911898,0.25]
[{"$f":"SQRT((((LOG(E113)-1)/0.4)-((LOG('Chart Data'!$F$86)-1)/0.4))^2+(C113-'Chart Data'!$D$87)^2+(D113/0.2-'Chart Data'!$F$87/0.2)^2+((H113-25)/175-('Chart Data'!$D$86-25)/175)^2)","v":0.73294985019255288},112,0.5,0,15,2619,3.4181354984252321,135.63196797539911,null,null,null,null,null,null,null,null,null,null,1,1.1760912590556813,0.58804562952784067,0.25]
[{"$f":"SQRT((((LOG(E114)-1)/0.4)-((LOG('Chart Data'!$F$86)-1)/0.4))^2+(C114-'Chart Data'!$D$87)^2+(D114/0.2-'Chart Data'!$F$87/0.2)^2+((H114-25)/175-('Chart Data'!$D$86-25)/175)^2)","v":0.7648313360635085},113,0.55000000000000004,0,14,4618,3.6644539285811577,137.39586885990303,null,null,null,null,null,null,null,null,null,null,1,1.146128035678238,0.63037041962303098,0.30250000000000005]
[{"$f":"SQRT((((LOG(E115)-1)/0.4)-((LOG('Chart Data'!$F$86)-1)/0.4))^2+(C115-'Chart Data'!$D$87)^2+(D115/0.2-'Chart Data'!$F$87/0.2)^2+((H115-25)/175-('Chart Data'!$D$86-25)/175)^2)","v":0.80930615517303306},114,0.6,0,13,6600,3.8195439355418688,139.24935373090568,null,null,null,null,null,null,null,null,null,null,1,1.1139433523068367,0.66836601138410201,0.36]
[{"$f":"SQRT((((LOG(E116)-1)/0.4)-((LOG('Chart Data'!$F$86)-1)/0.4))^2+(C116-'Chart Data'!$D$87)^2+(D116/0.2-'Chart Data'!$F$87/0.2)^2+((H116-25)/175-('Chart Data'!$D$86-25)/175)^2)","v":0.65538852897904953},115,0.6,0,15,1569,3.1956229435869368,124.29975185945005,null,null,null,null,null,null,null,null,null,null,1,1.1760912590556813,0.70565475543340883,0.36]
[{"$f":"SQRT((((LOG(E117)-1)/0.4)-((LOG('Chart Data'!$F$86)-1)/0.4))^2+(C117-'Chart Data'!$D$87)^2+(D117/0.2-'Chart Data'!$F$87/0.2)^2+((H117-25)/175-('Chart Data'!$D$86-25)/175)^2)","v":0.83837512088137489},116,0.7,0,12,3300,3.5185139398778875,135.02301914617482,null,null,null,null,null,null,null,null,null,null,1,1.0791812460476249,0.75542687223333738,0.48999999999999994]
[{"$f":"SQRT((((LOG(E118)-1)/0.4)-((LOG('Chart Data'!$F$86)-1)/0.4))^2+(C118-'Chart Data'!$D$87)^2+(D118/0.2-'Chart Data'!$F$87/0.2)^2+((H118-25)/175-('Chart Data'!$D$86-25)/175)^2)","v":0.86393185144375195},117,0.8,0,11,1596,3.2030328870147105,123.22726190358912,null,null,null,null,null,null,null,null,null,null,1,1.0413926851582251,0.83311414812658013,0.64000000000000012]
[]
[]
["25C XTX"]
[{"$f":"MMULT(TRANSPOSE($I$2:$R$91),$I$2:$R$91)","v":90},5.3768307534344126,7.2195158757648912,10.27399749543252,64.582607705318324,115.82888984579154,377.24958268510034,654.63773724959617,8.127399999999998,65.21017999999998]
[5.3768307534344126,0.50170542359950066,0.61605838806736957,0.7950799822411585,4.4452391573227352,6.8444142483146875,20.920109057626313,31.60979506453581,0.62997133184890952,4.2271581731234651]
[7.2195158757648912,0.61605838806736957,0.7950799822411585,1.083843612919194,5.3869787720492042,9.1747479587407987,25.137593126585848,41.889754056447806,0.86012873020083158,5.3768307534344135]
[10.27399749543252,0.7950799822411585,1.083843612919194,1.5643419648187475,6.8444142483146875,13.028167120375345,31.60979506453581,58.804917274371498,1.2441932439294221,7.2195158757648912]
[64.582607705318324,4.4452391573227352,5.3869787720492042,6.8444142483146875,57.022099629653994,83.713765520748183,343.36184771306034,492.96190461758317,5.3768307534344126,52.119463592213449]
[115.82888984579154,6.8444142483146875,9.1747479587407987,13.028167120375345,83.713765520748183,149.57314186612433,492.96190461758317,852.54013462289163,10.27399749543252,84.111408298256265]
[377.24958268510034,20.920109057626313,25.137593126585848,31.60979506453581,343.36184771306034,492.96190461758317,2332.2599026674197,3285.2318996058211,24.745281435557899,308.3015500192804]
[654.63773724959617,31.60979506453581,41.889754056447806,58.804917274371498,492.96190461758317,852.54013462289163,3285.2318996058211,5516.67799118124,46.213153073843266,483.82788390083078]
[8.127399999999998,0.62997133184890952,0.86012873020083158,1.2441932439294221,5.3768307534344126,10.27399749543252,24.745281435557899,46.213153073843266,0.99251097999999927,5.6973999999999991]
[65.21017999999998,4.2271581731234651,5.3768307534344135,7.2195158757648912,52.119463592213449,84.111408298256265,308.3015500192804,483.82788390083078,5.6973999999999991,49.978427632399978]
[]
["25C Inv(XTX)"]
[{"$f":"MINVERSE(A122:J131)","v":74.630775341509178},-256.42335716970422,430.98988859691337,13.827376675809777,32.341363852296645,-38.67881528997691,1.7918880862906546E-2,0.22650844269400888,-230.77777337407625,-68.679591629740287]
[-256.42335716946053,2181.9016531613515,-3202.9594531735443,904.73754809037564,-187.4287834752985,129.95698286027047,4.2417589474502062,-2.74627191767037,262.50905306842373,311.16143922475527]
[430.9898885964904,-3202.9594531734765,5250.4359866750829,-1772.3629226222206,236.83946309387449,-168.47723742523911,1.3584896518978362,-0.55686410883867299,-342.78240453910286,-527.63030641304783]
[13.827376676227637,904.73754808871797,-1772.3629226195744,1917.9879891152248,-9.208877130517644,-92.587579943322666,-5.0035950013436237,5.1296214968050826,-1344.5208806529026,118.95662774239146]
[32.341363852285731,-187.4287834753606,236.83946309399855,-9.2088771307306079,28.61314260450246,-21.102219447808817,-1.1988629903374142,0.81845227136479448,-69.584026720622006,-37.415183586333939]
[-38.678815289994688,129.9569828604628,-168.47723742556329,-92.587579943104032,-21.10221944782435,27.501990286362982,0.78511829608795747,-0.74644369292971702,171.84703514499114,29.48944095529631]
[1.7918880862349867E-2,4.2417589474519692,1.3584896518944918,-5.0035950013416945,-1.1988629903378083,0.78511829608811901,0.1402011037253022,-8.814118175144714E-2,1.7080598357723782,-8.2911385451433506E-2]
[0.22650844269488407,-2.746271917674262,-0.55686410883206017,5.129621496802697,0.81845227136534349,-0.74644369293004609,-8.8141181751448375E-2,6.8634845401066791E-2,-3.2138758473762636,-9.5970731134306486E-2]
[-230.77777337436629,262.50905307036567,-342.78240454225039,-1344.5208806516605,-69.584026720809831,171.84703514509516,1.7080598357729233,-3.213875847375868,1764.181513010928,112.82406129751358]
[-68.679591629706493,311.16143922484952,-527.63030641324133,118.95662774280375,-37.415183586326201,29.48944095526025,-8.2911385452281453E-2,-9.5970731133160764E-2,112.82406129712659,80.860919521475509]
[]
["EA XTX"]
[{"$f":"MMULT(TRANSPOSE($S$92:$V$118),$S$92:$V$118)","v":27},32.576764299827346,9.5046726394663192,3.7224999999999997]
[32.576764299827346,39.405047037882618,11.119679221666146,4.2391859814490775]
[9.5046726394663192,11.119679221666146,4.8428260453726368,2.2782760876462635]
[3.7224999999999997,4.2391859814490775,2.2782760876462635,1.2381062500000002]
[null,null,null,null,null,null,null,null,null,null,null,null,null,null,null,"°"]
["EA Inv(XTX)"]
[{"$f":"MINVERSE(A146:D149)","v":141.79037185988565},-112.02600391571933,-7.0811157432325382,-29.708966592717868]
[-112.02600391571931,88.6354093777625,4.9533424124477365,24.22226130418974]
[-7.0811157432324991,4.9533424124477055,5.1630787953827655,-5.1704813865017831]
[-29.708966592717982,24.222261304189828,-5.1704813865017689,16.709988893248681]
[]
[]
["Min Distance"]
[{"$f":"MIN(A2:A118)","v":0}]
["Min Distance Chemistry:"]
["SiO2:",{"$f":"VLOOKUP($A$159,$A$2:$H$118,5,FALSE)","v":20}]
["Cl/Na:",{"$f":"VLOOKUP($A$159,$A$2:$H$118,3,FALSE)","v":0.7}]
["NaCl/SiO2:",{"$f":"VLOOKUP($A$159,$A$2:$H$118,4,FALSE)","v":0}]
["T C:",{"$f":"ROUND(VLOOKUP($A$159,$A$2:$H$118,8,FALSE),1)","v":25}]
["pH:",{"$f":"ROUND(Equations!B23+Equations!B22*Calcs!B161*Calcs!B162+Equations!B21*Calcs!B162+Equations!B20*Calcs!B162^2,2)","v":7.77}]
["T:",{"$f":"IF(Calculator!C5='Chart Data'!B83,Calcs!B164*9/5+32,IF(Calculator!C5='Chart Data'!B85,Calcs!B164+273.15,Calcs!B164))","v":25}]
["Log GT",{"$f":"VLOOKUP($A$159,$A$2:$H$118,7,FALSE)","v":5.1596213262910089}]
["Log SiO2",{"$f":"LOG(B161)","v":1.3010299956639813}]